BEGIN:VCALENDAR
VERSION:2.0
PRODID:-//Cypress Christian School - ECPv6.15.19//NONSGML v1.0//EN
CALSCALE:GREGORIAN
METHOD:PUBLISH
X-ORIGINAL-URL:https://www.cypresschristian.org
X-WR-CALDESC:Events for Cypress Christian School
REFRESH-INTERVAL;VALUE=DURATION:PT1H
X-Robots-Tag:noindex
X-PUBLISHED-TTL:PT1H
BEGIN:VTIMEZONE
TZID:America/Chicago
BEGIN:DAYLIGHT
TZOFFSETFROM:-0600
TZOFFSETTO:-0500
TZNAME:CDT
DTSTART:20240310T080000
END:DAYLIGHT
BEGIN:STANDARD
TZOFFSETFROM:-0500
TZOFFSETTO:-0600
TZNAME:CST
DTSTART:20241103T070000
END:STANDARD
BEGIN:DAYLIGHT
TZOFFSETFROM:-0600
TZOFFSETTO:-0500
TZNAME:CDT
DTSTART:20250309T080000
END:DAYLIGHT
BEGIN:STANDARD
TZOFFSETFROM:-0500
TZOFFSETTO:-0600
TZNAME:CST
DTSTART:20251102T070000
END:STANDARD
BEGIN:DAYLIGHT
TZOFFSETFROM:-0600
TZOFFSETTO:-0500
TZNAME:CDT
DTSTART:20260308T080000
END:DAYLIGHT
BEGIN:STANDARD
TZOFFSETFROM:-0500
TZOFFSETTO:-0600
TZNAME:CST
DTSTART:20261101T070000
END:STANDARD
END:VTIMEZONE
BEGIN:VEVENT
DTSTART;TZID=America/Chicago:20250407T160000
DTEND;TZID=America/Chicago:20250407T180000
DTSTAMP:20260419T090639
CREATED:20250206T185117Z
LAST-MODIFIED:20250206T185117Z
UID:10001424-1744041600-1744048800@www.cypresschristian.org
SUMMARY:Baseball - Middle School B vs. Thunder
DESCRIPTION:
URL:https://www.cypresschristian.org/event/baseball-middle-school-b-vs-thunder-2/
LOCATION:CCS-Will Rhodes Memorial Stadium\, 21455 Bridgeland Creek Pkwy\, Cypress\, TX 77433.\, Cypress\, TX\, 77433\, United States
CATEGORIES:Athletics
GEO:29.9520346;-95.5875756
X-APPLE-STRUCTURED-LOCATION;VALUE=URI;X-ADDRESS=CCS-Will Rhodes Memorial Stadium 21455 Bridgeland Creek Pkwy Cypress TX 77433. Cypress TX 77433 United States;X-APPLE-RADIUS=500;X-TITLE=21455 Bridgeland Creek Pkwy\, Cypress\, TX 77433.:geo:-95.5875756,29.9520346
END:VEVENT
BEGIN:VEVENT
DTSTART;TZID=America/Chicago:20250404T163000
DTEND;TZID=America/Chicago:20250404T183000
DTSTAMP:20260419T090639
CREATED:20250331T161350Z
LAST-MODIFIED:20250331T161350Z
UID:10001509-1743784200-1743791400@www.cypresschristian.org
SUMMARY:Baseball - Junior Varsity vs. Frassati Catholic High School
DESCRIPTION:
URL:https://www.cypresschristian.org/event/baseball-junior-varsity-vs-frassati-catholic-high-school-5/
LOCATION:CCS-Will Rhodes Memorial Stadium\, 21455 Bridgeland Creek Pkwy\, Cypress\, TX 77433.\, Cypress\, TX\, 77433\, United States
CATEGORIES:Athletics
GEO:29.9520346;-95.5875756
X-APPLE-STRUCTURED-LOCATION;VALUE=URI;X-ADDRESS=CCS-Will Rhodes Memorial Stadium 21455 Bridgeland Creek Pkwy Cypress TX 77433. Cypress TX 77433 United States;X-APPLE-RADIUS=500;X-TITLE=21455 Bridgeland Creek Pkwy\, Cypress\, TX 77433.:geo:-95.5875756,29.9520346
END:VEVENT
BEGIN:VEVENT
DTSTART;TZID=America/Chicago:20250403T170000
DTEND;TZID=America/Chicago:20250403T183000
DTSTAMP:20260419T090639
CREATED:20250205T234234Z
LAST-MODIFIED:20250205T234234Z
UID:10001401-1743699600-1743705000@www.cypresschristian.org
SUMMARY:Baseball - Middle School A vs Brazos Christian School
DESCRIPTION:
URL:https://www.cypresschristian.org/event/baseball-middle-school-a-vs-brazos-christian-school/
LOCATION:CCS-Will Rhodes Memorial Stadium\, 21455 Bridgeland Creek Pkwy\, Cypress\, TX 77433.\, Cypress\, TX\, 77433\, United States
CATEGORIES:Athletics
GEO:29.9520346;-95.5875756
X-APPLE-STRUCTURED-LOCATION;VALUE=URI;X-ADDRESS=CCS-Will Rhodes Memorial Stadium 21455 Bridgeland Creek Pkwy Cypress TX 77433. Cypress TX 77433 United States;X-APPLE-RADIUS=500;X-TITLE=21455 Bridgeland Creek Pkwy\, Cypress\, TX 77433.:geo:-95.5875756,29.9520346
END:VEVENT
BEGIN:VEVENT
DTSTART;TZID=America/Chicago:20250401T163000
DTEND;TZID=America/Chicago:20250401T183000
DTSTAMP:20260419T090639
CREATED:20250206T203233Z
LAST-MODIFIED:20250331T151421Z
UID:10001441-1743525000-1743532200@www.cypresschristian.org
SUMMARY:Baseball - Junior Varsity vs. Tomball Kings JV
DESCRIPTION:
URL:https://www.cypresschristian.org/event/baseball-junior-varsity-vs-frassati-catholic-high-school-4/
LOCATION:CCS-Will Rhodes Memorial Stadium\, 21455 Bridgeland Creek Pkwy\, Cypress\, TX 77433.\, Cypress\, TX\, 77433\, United States
CATEGORIES:Athletics
GEO:29.9520346;-95.5875756
X-APPLE-STRUCTURED-LOCATION;VALUE=URI;X-ADDRESS=CCS-Will Rhodes Memorial Stadium 21455 Bridgeland Creek Pkwy Cypress TX 77433. Cypress TX 77433 United States;X-APPLE-RADIUS=500;X-TITLE=21455 Bridgeland Creek Pkwy\, Cypress\, TX 77433.:geo:-95.5875756,29.9520346
END:VEVENT
BEGIN:VEVENT
DTSTART;TZID=America/Chicago:20250325T180000
DTEND;TZID=America/Chicago:20250325T200000
DTSTAMP:20260419T090639
CREATED:20250116T140633Z
LAST-MODIFIED:20250116T140633Z
UID:10001338-1742925600-1742932800@www.cypresschristian.org
SUMMARY:Baseball Varsity vs Legacy Preparatory Christian Academy
DESCRIPTION:
URL:https://www.cypresschristian.org/event/baseball-varsity-vs-legacy-preparatory-christian-academy/
LOCATION:CCS-Will Rhodes Memorial Stadium\, 21455 Bridgeland Creek Pkwy\, Cypress\, TX 77433.\, Cypress\, TX\, 77433\, United States
CATEGORIES:Athletics
GEO:29.9520346;-95.5875756
X-APPLE-STRUCTURED-LOCATION;VALUE=URI;X-ADDRESS=CCS-Will Rhodes Memorial Stadium 21455 Bridgeland Creek Pkwy Cypress TX 77433. Cypress TX 77433 United States;X-APPLE-RADIUS=500;X-TITLE=21455 Bridgeland Creek Pkwy\, Cypress\, TX 77433.:geo:-95.5875756,29.9520346
END:VEVENT
BEGIN:VEVENT
DTSTART;TZID=America/Chicago:20250321T180000
DTEND;TZID=America/Chicago:20250321T203000
DTSTAMP:20260419T090639
CREATED:20250115T232236Z
LAST-MODIFIED:20250317T145007Z
UID:10001336-1742580000-1742589000@www.cypresschristian.org
SUMMARY:Baseball Varsity vs The Woodlands Christian Academy
DESCRIPTION:
URL:https://www.cypresschristian.org/event/baseball-varsity-the-woodlands-christian-academy/
LOCATION:CCS-Will Rhodes Memorial Stadium\, 21455 Bridgeland Creek Pkwy\, Cypress\, TX 77433.\, Cypress\, TX\, 77433\, United States
CATEGORIES:Athletics
GEO:29.9520346;-95.5875756
X-APPLE-STRUCTURED-LOCATION;VALUE=URI;X-ADDRESS=CCS-Will Rhodes Memorial Stadium 21455 Bridgeland Creek Pkwy Cypress TX 77433. Cypress TX 77433 United States;X-APPLE-RADIUS=500;X-TITLE=21455 Bridgeland Creek Pkwy\, Cypress\, TX 77433.:geo:-95.5875756,29.9520346
END:VEVENT
BEGIN:VEVENT
DTSTART;TZID=America/Chicago:20250321T163000
DTEND;TZID=America/Chicago:20250321T183000
DTSTAMP:20260419T090639
CREATED:20250206T202744Z
LAST-MODIFIED:20250317T145206Z
UID:10001435-1742574600-1742581800@www.cypresschristian.org
SUMMARY:Baseball - Junior Varsity vs. The Woodlands Christian Academy
DESCRIPTION:
URL:https://www.cypresschristian.org/event/baseball-junior-varsity-vs-the-woodlands-christian-academy-2/
LOCATION:CCS-Will Rhodes Memorial Stadium\, 21455 Bridgeland Creek Pkwy\, Cypress\, TX 77433.\, Cypress\, TX\, 77433\, United States
CATEGORIES:Athletics
GEO:29.9520346;-95.5875756
X-APPLE-STRUCTURED-LOCATION;VALUE=URI;X-ADDRESS=CCS-Will Rhodes Memorial Stadium 21455 Bridgeland Creek Pkwy Cypress TX 77433. Cypress TX 77433 United States;X-APPLE-RADIUS=500;X-TITLE=21455 Bridgeland Creek Pkwy\, Cypress\, TX 77433.:geo:-95.5875756,29.9520346
END:VEVENT
BEGIN:VEVENT
DTSTART;TZID=America/Chicago:20250320T160000
DTEND;TZID=America/Chicago:20250320T180000
DTSTAMP:20260419T090639
CREATED:20250206T184857Z
LAST-MODIFIED:20250206T184857Z
UID:10001423-1742486400-1742493600@www.cypresschristian.org
SUMMARY:Baseball - Middle School B vs. Tomball Kings
DESCRIPTION:
URL:https://www.cypresschristian.org/event/baseball-middle-school-b-vs-tomball-kings/
LOCATION:CCS-Will Rhodes Memorial Stadium\, 21455 Bridgeland Creek Pkwy\, Cypress\, TX 77433.\, Cypress\, TX\, 77433\, United States
CATEGORIES:Athletics
GEO:29.9520346;-95.5875756
X-APPLE-STRUCTURED-LOCATION;VALUE=URI;X-ADDRESS=CCS-Will Rhodes Memorial Stadium 21455 Bridgeland Creek Pkwy Cypress TX 77433. Cypress TX 77433 United States;X-APPLE-RADIUS=500;X-TITLE=21455 Bridgeland Creek Pkwy\, Cypress\, TX 77433.:geo:-95.5875756,29.9520346
END:VEVENT
BEGIN:VEVENT
DTSTART;TZID=America/Chicago:20250317T180000
DTEND;TZID=America/Chicago:20250317T193000
DTSTAMP:20260419T090639
CREATED:20250205T233131Z
LAST-MODIFIED:20250205T233131Z
UID:10001397-1742234400-1742239800@www.cypresschristian.org
SUMMARY:Baseball - Middle School A vs Northland Christian School
DESCRIPTION:
URL:https://www.cypresschristian.org/event/baseball-middle-school-a-vs-northland-christian-school-3/
LOCATION:CCS-Will Rhodes Memorial Stadium\, 21455 Bridgeland Creek Pkwy\, Cypress\, TX 77433.\, Cypress\, TX\, 77433\, United States
CATEGORIES:Athletics
GEO:29.9520346;-95.5875756
X-APPLE-STRUCTURED-LOCATION;VALUE=URI;X-ADDRESS=CCS-Will Rhodes Memorial Stadium 21455 Bridgeland Creek Pkwy Cypress TX 77433. Cypress TX 77433 United States;X-APPLE-RADIUS=500;X-TITLE=21455 Bridgeland Creek Pkwy\, Cypress\, TX 77433.:geo:-95.5875756,29.9520346
END:VEVENT
BEGIN:VEVENT
DTSTART;TZID=America/Chicago:20250317T160000
DTEND;TZID=America/Chicago:20250317T180000
DTSTAMP:20260419T090639
CREATED:20250206T184650Z
LAST-MODIFIED:20250317T124834Z
UID:10001422-1742227200-1742234400@www.cypresschristian.org
SUMMARY:Baseball - Middle School B vs. The Woodlands Christian Academy
DESCRIPTION:
URL:https://www.cypresschristian.org/event/baseball-middle-school-b-vs-the-woodlands-christian-academy/
LOCATION:CCS-Will Rhodes Memorial Stadium\, 21455 Bridgeland Creek Pkwy\, Cypress\, TX 77433.\, Cypress\, TX\, 77433\, United States
CATEGORIES:Athletics
GEO:29.9520346;-95.5875756
X-APPLE-STRUCTURED-LOCATION;VALUE=URI;X-ADDRESS=CCS-Will Rhodes Memorial Stadium 21455 Bridgeland Creek Pkwy Cypress TX 77433. Cypress TX 77433 United States;X-APPLE-RADIUS=500;X-TITLE=21455 Bridgeland Creek Pkwy\, Cypress\, TX 77433.:geo:-95.5875756,29.9520346
END:VEVENT
BEGIN:VEVENT
DTSTART;VALUE=DATE:20250311
DTEND;VALUE=DATE:20250312
DTSTAMP:20260419T090639
CREATED:20250206T200016Z
LAST-MODIFIED:20250307T201619Z
UID:10001436-1741651200-1741737599@www.cypresschristian.org
SUMMARY:Baseball - Junior Varsity vs. Frassati Catholic High School
DESCRIPTION:
URL:https://www.cypresschristian.org/event/baseball-junior-varsity-vs-frassati-catholic-high-school-3/
LOCATION:CCS-Will Rhodes Memorial Stadium\, 21455 Bridgeland Creek Pkwy\, Cypress\, TX 77433.\, Cypress\, TX\, 77433\, United States
CATEGORIES:Athletics
GEO:29.9520346;-95.5875756
X-APPLE-STRUCTURED-LOCATION;VALUE=URI;X-ADDRESS=CCS-Will Rhodes Memorial Stadium 21455 Bridgeland Creek Pkwy Cypress TX 77433. Cypress TX 77433 United States;X-APPLE-RADIUS=500;X-TITLE=21455 Bridgeland Creek Pkwy\, Cypress\, TX 77433.:geo:-95.5875756,29.9520346
END:VEVENT
BEGIN:VEVENT
DTSTART;TZID=America/Chicago:20250303T180000
DTEND;TZID=America/Chicago:20250303T200000
DTSTAMP:20260419T090639
CREATED:20250205T232420Z
LAST-MODIFIED:20250205T232420Z
UID:10001395-1741024800-1741032000@www.cypresschristian.org
SUMMARY:Baseball - Middle School A vs Trinity Klein Lutheran
DESCRIPTION:
URL:https://www.cypresschristian.org/event/baseball-middle-school-a-vs-trinity-klein-lutheran/
LOCATION:CCS-Will Rhodes Memorial Stadium\, 21455 Bridgeland Creek Pkwy\, Cypress\, TX 77433.\, Cypress\, TX\, 77433\, United States
CATEGORIES:Athletics
GEO:29.9520346;-95.5875756
X-APPLE-STRUCTURED-LOCATION;VALUE=URI;X-ADDRESS=CCS-Will Rhodes Memorial Stadium 21455 Bridgeland Creek Pkwy Cypress TX 77433. Cypress TX 77433 United States;X-APPLE-RADIUS=500;X-TITLE=21455 Bridgeland Creek Pkwy\, Cypress\, TX 77433.:geo:-95.5875756,29.9520346
END:VEVENT
BEGIN:VEVENT
DTSTART;TZID=America/Chicago:20250303T160000
DTEND;TZID=America/Chicago:20250303T180000
DTSTAMP:20260419T090639
CREATED:20250206T184321Z
LAST-MODIFIED:20250206T184321Z
UID:10001421-1741017600-1741024800@www.cypresschristian.org
SUMMARY:Baseball - Middle School B vs. Trinity Klein Lutheran School
DESCRIPTION:
URL:https://www.cypresschristian.org/event/baseball-middle-school-b-vs-trinity-klein-lutheran-school/
LOCATION:CCS-Will Rhodes Memorial Stadium\, 21455 Bridgeland Creek Pkwy\, Cypress\, TX 77433.\, Cypress\, TX\, 77433\, United States
CATEGORIES:Athletics
GEO:29.9520346;-95.5875756
X-APPLE-STRUCTURED-LOCATION;VALUE=URI;X-ADDRESS=CCS-Will Rhodes Memorial Stadium 21455 Bridgeland Creek Pkwy Cypress TX 77433. Cypress TX 77433 United States;X-APPLE-RADIUS=500;X-TITLE=21455 Bridgeland Creek Pkwy\, Cypress\, TX 77433.:geo:-95.5875756,29.9520346
END:VEVENT
BEGIN:VEVENT
DTSTART;TZID=America/Chicago:20250301T140000
DTEND;TZID=America/Chicago:20250301T160000
DTSTAMP:20260419T090639
CREATED:20250206T192824Z
LAST-MODIFIED:20250206T192824Z
UID:10001434-1740837600-1740844800@www.cypresschristian.org
SUMMARY:Baseball - Junior Varsity vs. Houston Christian High School-Double Header
DESCRIPTION:
URL:https://www.cypresschristian.org/event/baseball-junior-varsity-vs-houston-christian-high-school-double-header-2/
LOCATION:CCS-Will Rhodes Memorial Stadium\, 21455 Bridgeland Creek Pkwy\, Cypress\, TX 77433.\, Cypress\, TX\, 77433\, United States
CATEGORIES:Athletics
GEO:29.9520346;-95.5875756
X-APPLE-STRUCTURED-LOCATION;VALUE=URI;X-ADDRESS=CCS-Will Rhodes Memorial Stadium 21455 Bridgeland Creek Pkwy Cypress TX 77433. Cypress TX 77433 United States;X-APPLE-RADIUS=500;X-TITLE=21455 Bridgeland Creek Pkwy\, Cypress\, TX 77433.:geo:-95.5875756,29.9520346
END:VEVENT
BEGIN:VEVENT
DTSTART;TZID=America/Chicago:20250301T120000
DTEND;TZID=America/Chicago:20250301T140000
DTSTAMP:20260419T090639
CREATED:20250206T192547Z
LAST-MODIFIED:20250206T192547Z
UID:10001433-1740830400-1740837600@www.cypresschristian.org
SUMMARY:Baseball - Junior Varsity vs. Houston Christian High School-Double Header
DESCRIPTION:
URL:https://www.cypresschristian.org/event/baseball-junior-varsity-vs-houston-christian-high-school-double-header/
LOCATION:CCS-Will Rhodes Memorial Stadium\, 21455 Bridgeland Creek Pkwy\, Cypress\, TX 77433.\, Cypress\, TX\, 77433\, United States
CATEGORIES:Athletics
GEO:29.9520346;-95.5875756
X-APPLE-STRUCTURED-LOCATION;VALUE=URI;X-ADDRESS=CCS-Will Rhodes Memorial Stadium 21455 Bridgeland Creek Pkwy Cypress TX 77433. Cypress TX 77433 United States;X-APPLE-RADIUS=500;X-TITLE=21455 Bridgeland Creek Pkwy\, Cypress\, TX 77433.:geo:-95.5875756,29.9520346
END:VEVENT
BEGIN:VEVENT
DTSTART;TZID=America/Chicago:20250228T190000
DTEND;TZID=America/Chicago:20250228T210000
DTSTAMP:20260419T090639
CREATED:20250115T230327Z
LAST-MODIFIED:20250115T230327Z
UID:10001332-1740769200-1740776400@www.cypresschristian.org
SUMMARY:Baseball Varsity vs. The Woodlands Christian Academy
DESCRIPTION:
URL:https://www.cypresschristian.org/event/baseball-varsity-vs-the-woodlands-christian-academy/
LOCATION:CCS-Will Rhodes Memorial Stadium\, 21455 Bridgeland Creek Pkwy\, Cypress\, TX 77433.\, Cypress\, TX\, 77433\, United States
CATEGORIES:Athletics
GEO:29.9520346;-95.5875756
X-APPLE-STRUCTURED-LOCATION;VALUE=URI;X-ADDRESS=CCS-Will Rhodes Memorial Stadium 21455 Bridgeland Creek Pkwy Cypress TX 77433. Cypress TX 77433 United States;X-APPLE-RADIUS=500;X-TITLE=21455 Bridgeland Creek Pkwy\, Cypress\, TX 77433.:geo:-95.5875756,29.9520346
END:VEVENT
BEGIN:VEVENT
DTSTART;TZID=America/Chicago:20250228T163000
DTEND;TZID=America/Chicago:20250228T183000
DTSTAMP:20260419T090639
CREATED:20250206T191450Z
LAST-MODIFIED:20250206T191450Z
UID:10001432-1740760200-1740767400@www.cypresschristian.org
SUMMARY:Baseball - Junior Varsity vs. The Woodlands Christian Academy
DESCRIPTION:
URL:https://www.cypresschristian.org/event/baseball-junior-varsity-vs-the-woodlands-christian-academy/
LOCATION:CCS-Will Rhodes Memorial Stadium\, 21455 Bridgeland Creek Pkwy\, Cypress\, TX 77433.\, Cypress\, TX\, 77433\, United States
CATEGORIES:Athletics
GEO:29.9520346;-95.5875756
X-APPLE-STRUCTURED-LOCATION;VALUE=URI;X-ADDRESS=CCS-Will Rhodes Memorial Stadium 21455 Bridgeland Creek Pkwy Cypress TX 77433. Cypress TX 77433 United States;X-APPLE-RADIUS=500;X-TITLE=21455 Bridgeland Creek Pkwy\, Cypress\, TX 77433.:geo:-95.5875756,29.9520346
END:VEVENT
BEGIN:VEVENT
DTSTART;TZID=America/Chicago:20250227T180000
DTEND;TZID=America/Chicago:20250227T200000
DTSTAMP:20260419T090639
CREATED:20250205T231559Z
LAST-MODIFIED:20250205T231559Z
UID:10001394-1740679200-1740686400@www.cypresschristian.org
SUMMARY:Baseball - Middle School A vs St. Francis Episcopal School
DESCRIPTION:
URL:https://www.cypresschristian.org/event/baseball-middle-school-a-vs-st-francis-episcopal-school/
LOCATION:CCS-Will Rhodes Memorial Stadium\, 21455 Bridgeland Creek Pkwy\, Cypress\, TX 77433.\, Cypress\, TX\, 77433\, United States
CATEGORIES:Athletics
GEO:29.9520346;-95.5875756
X-APPLE-STRUCTURED-LOCATION;VALUE=URI;X-ADDRESS=CCS-Will Rhodes Memorial Stadium 21455 Bridgeland Creek Pkwy Cypress TX 77433. Cypress TX 77433 United States;X-APPLE-RADIUS=500;X-TITLE=21455 Bridgeland Creek Pkwy\, Cypress\, TX 77433.:geo:-95.5875756,29.9520346
END:VEVENT
BEGIN:VEVENT
DTSTART;TZID=America/Chicago:20250224T160000
DTEND;TZID=America/Chicago:20250224T180000
DTSTAMP:20260419T090639
CREATED:20250206T184131Z
LAST-MODIFIED:20250224T203157Z
UID:10001420-1740412800-1740420000@www.cypresschristian.org
SUMMARY:Baseball - Middle School B vs. St. Francis Episcopal
DESCRIPTION:
URL:https://www.cypresschristian.org/event/baseball-middle-school-b-vs-st-francis-episcopal/
LOCATION:CCS-Will Rhodes Memorial Stadium\, 21455 Bridgeland Creek Pkwy\, Cypress\, TX 77433.\, Cypress\, TX\, 77433\, United States
CATEGORIES:Athletics
GEO:29.9520346;-95.5875756
X-APPLE-STRUCTURED-LOCATION;VALUE=URI;X-ADDRESS=CCS-Will Rhodes Memorial Stadium 21455 Bridgeland Creek Pkwy Cypress TX 77433. Cypress TX 77433 United States;X-APPLE-RADIUS=500;X-TITLE=21455 Bridgeland Creek Pkwy\, Cypress\, TX 77433.:geo:-95.5875756,29.9520346
END:VEVENT
BEGIN:VEVENT
DTSTART;TZID=America/Chicago:20250221T180000
DTEND;TZID=America/Chicago:20250221T200000
DTSTAMP:20260419T090639
CREATED:20250205T231324Z
LAST-MODIFIED:20250219T195554Z
UID:10001393-1740160800-1740168000@www.cypresschristian.org
SUMMARY:Baseball - Middle School A vs Rosehill Christian School
DESCRIPTION:
URL:https://www.cypresschristian.org/event/baseball-middle-school-a-vs-rosehill-christian-school-4/
LOCATION:CCS-Will Rhodes Memorial Stadium\, 21455 Bridgeland Creek Pkwy\, Cypress\, TX 77433.\, Cypress\, TX\, 77433\, United States
CATEGORIES:Athletics
GEO:29.9520346;-95.5875756
X-APPLE-STRUCTURED-LOCATION;VALUE=URI;X-ADDRESS=CCS-Will Rhodes Memorial Stadium 21455 Bridgeland Creek Pkwy Cypress TX 77433. Cypress TX 77433 United States;X-APPLE-RADIUS=500;X-TITLE=21455 Bridgeland Creek Pkwy\, Cypress\, TX 77433.:geo:-95.5875756,29.9520346
END:VEVENT
BEGIN:VEVENT
DTSTART;TZID=America/Chicago:20250221T160000
DTEND;TZID=America/Chicago:20250221T180000
DTSTAMP:20260419T090639
CREATED:20250206T182532Z
LAST-MODIFIED:20250219T195428Z
UID:10001419-1740153600-1740160800@www.cypresschristian.org
SUMMARY:Baseball - Middle School B vs. Rosehill Christian School
DESCRIPTION:
URL:https://www.cypresschristian.org/event/baseball-middle-school-b-vs-rosehill-christian-school-2/
LOCATION:CCS-Will Rhodes Memorial Stadium\, 21455 Bridgeland Creek Pkwy\, Cypress\, TX 77433.\, Cypress\, TX\, 77433\, United States
CATEGORIES:Athletics
GEO:29.9520346;-95.5875756
X-APPLE-STRUCTURED-LOCATION;VALUE=URI;X-ADDRESS=CCS-Will Rhodes Memorial Stadium 21455 Bridgeland Creek Pkwy Cypress TX 77433. Cypress TX 77433 United States;X-APPLE-RADIUS=500;X-TITLE=21455 Bridgeland Creek Pkwy\, Cypress\, TX 77433.:geo:-95.5875756,29.9520346
END:VEVENT
BEGIN:VEVENT
DTSTART;TZID=America/Chicago:20250218T183000
DTEND;TZID=America/Chicago:20250218T203000
DTSTAMP:20260419T090639
CREATED:20250115T225402Z
LAST-MODIFIED:20250218T202805Z
UID:10001327-1739903400-1739910600@www.cypresschristian.org
SUMMARY:Baseball Varsity vs. St. John's School
DESCRIPTION:
URL:https://www.cypresschristian.org/event/baseball-varsity-vs-st-johns-school/
LOCATION:CCS-Will Rhodes Memorial Stadium\, 21455 Bridgeland Creek Pkwy\, Cypress\, TX 77433.\, Cypress\, TX\, 77433\, United States
CATEGORIES:Athletics
GEO:29.9520346;-95.5875756
X-APPLE-STRUCTURED-LOCATION;VALUE=URI;X-ADDRESS=CCS-Will Rhodes Memorial Stadium 21455 Bridgeland Creek Pkwy Cypress TX 77433. Cypress TX 77433 United States;X-APPLE-RADIUS=500;X-TITLE=21455 Bridgeland Creek Pkwy\, Cypress\, TX 77433.:geo:-95.5875756,29.9520346
END:VEVENT
BEGIN:VEVENT
DTSTART;TZID=America/Chicago:20250218T163000
DTEND;TZID=America/Chicago:20250218T183000
DTSTAMP:20260419T090639
CREATED:20250124T001507Z
LAST-MODIFIED:20250218T202720Z
UID:10001371-1739896200-1739903400@www.cypresschristian.org
SUMMARY:Baseball - Junior Varsity vs. St. John's School
DESCRIPTION:
URL:https://www.cypresschristian.org/event/baseball-junior-varsity-vs-st-johns-school/
LOCATION:CCS-Will Rhodes Memorial Stadium\, 21455 Bridgeland Creek Pkwy\, Cypress\, TX 77433.\, Cypress\, TX\, 77433\, United States
CATEGORIES:Athletics
GEO:29.9520346;-95.5875756
X-APPLE-STRUCTURED-LOCATION;VALUE=URI;X-ADDRESS=CCS-Will Rhodes Memorial Stadium 21455 Bridgeland Creek Pkwy Cypress TX 77433. Cypress TX 77433 United States;X-APPLE-RADIUS=500;X-TITLE=21455 Bridgeland Creek Pkwy\, Cypress\, TX 77433.:geo:-95.5875756,29.9520346
END:VEVENT
BEGIN:VEVENT
DTSTART;TZID=America/Chicago:20250213T180000
DTEND;TZID=America/Chicago:20250213T200000
DTSTAMP:20260419T090639
CREATED:20250206T000222Z
LAST-MODIFIED:20250213T173628Z
UID:10001405-1739469600-1739476800@www.cypresschristian.org
SUMMARY:Baseball - Middle School A vs Covenant Christian School-Conroe
DESCRIPTION:
URL:https://www.cypresschristian.org/event/baseball-middle-school-a-vs-covenant-christian-school-conroe-3/
LOCATION:CCS-Will Rhodes Memorial Stadium\, 21455 Bridgeland Creek Pkwy\, Cypress\, TX 77433.\, Cypress\, TX\, 77433\, United States
CATEGORIES:Athletics
GEO:29.9520346;-95.5875756
X-APPLE-STRUCTURED-LOCATION;VALUE=URI;X-ADDRESS=CCS-Will Rhodes Memorial Stadium 21455 Bridgeland Creek Pkwy Cypress TX 77433. Cypress TX 77433 United States;X-APPLE-RADIUS=500;X-TITLE=21455 Bridgeland Creek Pkwy\, Cypress\, TX 77433.:geo:-95.5875756,29.9520346
END:VEVENT
BEGIN:VEVENT
DTSTART;TZID=America/Chicago:20250213T160000
DTEND;TZID=America/Chicago:20250213T180000
DTSTAMP:20260419T090639
CREATED:20250206T175027Z
LAST-MODIFIED:20250213T173731Z
UID:10001417-1739462400-1739469600@www.cypresschristian.org
SUMMARY:Baseball - Middle School B vs. Covenant Christian School-Conroe
DESCRIPTION:
URL:https://www.cypresschristian.org/event/baseball-middle-school-b-vs-covenant-christian-school-conroe/
LOCATION:CCS-Will Rhodes Memorial Stadium\, 21455 Bridgeland Creek Pkwy\, Cypress\, TX 77433.\, Cypress\, TX\, 77433\, United States
CATEGORIES:Athletics
GEO:29.9520346;-95.5875756
X-APPLE-STRUCTURED-LOCATION;VALUE=URI;X-ADDRESS=CCS-Will Rhodes Memorial Stadium 21455 Bridgeland Creek Pkwy Cypress TX 77433. Cypress TX 77433 United States;X-APPLE-RADIUS=500;X-TITLE=21455 Bridgeland Creek Pkwy\, Cypress\, TX 77433.:geo:-95.5875756,29.9520346
END:VEVENT
BEGIN:VEVENT
DTSTART;TZID=America/Chicago:20250211T180000
DTEND;TZID=America/Chicago:20250211T200000
DTSTAMP:20260419T090639
CREATED:20250115T223952Z
LAST-MODIFIED:20250211T201311Z
UID:10001323-1739296800-1739304000@www.cypresschristian.org
SUMMARY:Baseball Varsity vs. Northland Christian School
DESCRIPTION:
URL:https://www.cypresschristian.org/event/baseball-varsity-vs-northland-christian-school-2/
LOCATION:CCS-Will Rhodes Memorial Stadium\, 21455 Bridgeland Creek Pkwy\, Cypress\, TX 77433.\, Cypress\, TX\, 77433\, United States
CATEGORIES:Athletics
GEO:29.9520346;-95.5875756
X-APPLE-STRUCTURED-LOCATION;VALUE=URI;X-ADDRESS=CCS-Will Rhodes Memorial Stadium 21455 Bridgeland Creek Pkwy Cypress TX 77433. Cypress TX 77433 United States;X-APPLE-RADIUS=500;X-TITLE=21455 Bridgeland Creek Pkwy\, Cypress\, TX 77433.:geo:-95.5875756,29.9520346
END:VEVENT
BEGIN:VEVENT
DTSTART;TZID=America/Chicago:20250211T160000
DTEND;TZID=America/Chicago:20250211T180000
DTSTAMP:20260419T090639
CREATED:20250124T001315Z
LAST-MODIFIED:20250211T201230Z
UID:10001369-1739289600-1739296800@www.cypresschristian.org
SUMMARY:Baseball - Junior Varsity vs. Tomball Kings
DESCRIPTION:
URL:https://www.cypresschristian.org/event/baseball-junior-varsity-vs-tomball-kings-5/
LOCATION:CCS-Will Rhodes Memorial Stadium\, 21455 Bridgeland Creek Pkwy\, Cypress\, TX 77433.\, Cypress\, TX\, 77433\, United States
CATEGORIES:Athletics
GEO:29.9520346;-95.5875756
X-APPLE-STRUCTURED-LOCATION;VALUE=URI;X-ADDRESS=CCS-Will Rhodes Memorial Stadium 21455 Bridgeland Creek Pkwy Cypress TX 77433. Cypress TX 77433 United States;X-APPLE-RADIUS=500;X-TITLE=21455 Bridgeland Creek Pkwy\, Cypress\, TX 77433.:geo:-95.5875756,29.9520346
END:VEVENT
BEGIN:VEVENT
DTSTART;TZID=America/Chicago:20250210T160000
DTEND;TZID=America/Chicago:20250210T180000
DTSTAMP:20260419T090639
CREATED:20250206T174832Z
LAST-MODIFIED:20250206T174832Z
UID:10001416-1739203200-1739210400@www.cypresschristian.org
SUMMARY:Baseball - Middle School B vs. Thunder
DESCRIPTION:
URL:https://www.cypresschristian.org/event/baseball-middle-school-b-vs-thunder/
LOCATION:CCS-Will Rhodes Memorial Stadium\, 21455 Bridgeland Creek Pkwy\, Cypress\, TX 77433.\, Cypress\, TX\, 77433\, United States
CATEGORIES:Athletics
GEO:29.9520346;-95.5875756
X-APPLE-STRUCTURED-LOCATION;VALUE=URI;X-ADDRESS=CCS-Will Rhodes Memorial Stadium 21455 Bridgeland Creek Pkwy Cypress TX 77433. Cypress TX 77433 United States;X-APPLE-RADIUS=500;X-TITLE=21455 Bridgeland Creek Pkwy\, Cypress\, TX 77433.:geo:-95.5875756,29.9520346
END:VEVENT
BEGIN:VEVENT
DTSTART;TZID=America/Chicago:20250208T140000
DTEND;TZID=America/Chicago:20250208T160000
DTSTAMP:20260419T090639
CREATED:20250115T223752Z
LAST-MODIFIED:20250115T223752Z
UID:10001322-1739023200-1739030400@www.cypresschristian.org
SUMMARY:Baseball Varsity vs. West Houston Thunder
DESCRIPTION:
URL:https://www.cypresschristian.org/event/baseball-varsity-vs-west-houston-thunder-5/
LOCATION:CCS-Will Rhodes Memorial Stadium\, 21455 Bridgeland Creek Pkwy\, Cypress\, TX 77433.\, Cypress\, TX\, 77433\, United States
CATEGORIES:Athletics
GEO:29.9520346;-95.5875756
X-APPLE-STRUCTURED-LOCATION;VALUE=URI;X-ADDRESS=CCS-Will Rhodes Memorial Stadium 21455 Bridgeland Creek Pkwy Cypress TX 77433. Cypress TX 77433 United States;X-APPLE-RADIUS=500;X-TITLE=21455 Bridgeland Creek Pkwy\, Cypress\, TX 77433.:geo:-95.5875756,29.9520346
END:VEVENT
BEGIN:VEVENT
DTSTART;TZID=America/Chicago:20250208T120000
DTEND;TZID=America/Chicago:20250208T140000
DTSTAMP:20260419T090639
CREATED:20250124T001232Z
LAST-MODIFIED:20250124T001232Z
UID:10001370-1739016000-1739023200@www.cypresschristian.org
SUMMARY:Baseball - Junior Varsity vs. West Houston Thunder
DESCRIPTION:
URL:https://www.cypresschristian.org/event/baseball-junior-varsity-vs-west-houston-thunder-4/
LOCATION:CCS-Will Rhodes Memorial Stadium\, 21455 Bridgeland Creek Pkwy\, Cypress\, TX 77433.\, Cypress\, TX\, 77433\, United States
CATEGORIES:Athletics
GEO:29.9520346;-95.5875756
X-APPLE-STRUCTURED-LOCATION;VALUE=URI;X-ADDRESS=CCS-Will Rhodes Memorial Stadium 21455 Bridgeland Creek Pkwy Cypress TX 77433. Cypress TX 77433 United States;X-APPLE-RADIUS=500;X-TITLE=21455 Bridgeland Creek Pkwy\, Cypress\, TX 77433.:geo:-95.5875756,29.9520346
END:VEVENT
END:VCALENDAR