BEGIN:VCALENDAR
VERSION:2.0
PRODID:-//Cypress Christian School - ECPv6.15.19//NONSGML v1.0//EN
CALSCALE:GREGORIAN
METHOD:PUBLISH
X-ORIGINAL-URL:https://www.cypresschristian.org
X-WR-CALDESC:Events for Cypress Christian School
REFRESH-INTERVAL;VALUE=DURATION:PT1H
X-Robots-Tag:noindex
X-PUBLISHED-TTL:PT1H
BEGIN:VTIMEZONE
TZID:America/Chicago
BEGIN:DAYLIGHT
TZOFFSETFROM:-0600
TZOFFSETTO:-0500
TZNAME:CDT
DTSTART:20250309T080000
END:DAYLIGHT
BEGIN:STANDARD
TZOFFSETFROM:-0500
TZOFFSETTO:-0600
TZNAME:CST
DTSTART:20251102T070000
END:STANDARD
BEGIN:DAYLIGHT
TZOFFSETFROM:-0600
TZOFFSETTO:-0500
TZNAME:CDT
DTSTART:20260308T080000
END:DAYLIGHT
BEGIN:STANDARD
TZOFFSETFROM:-0500
TZOFFSETTO:-0600
TZNAME:CST
DTSTART:20261101T070000
END:STANDARD
BEGIN:DAYLIGHT
TZOFFSETFROM:-0600
TZOFFSETTO:-0500
TZNAME:CDT
DTSTART:20270314T080000
END:DAYLIGHT
BEGIN:STANDARD
TZOFFSETFROM:-0500
TZOFFSETTO:-0600
TZNAME:CST
DTSTART:20271107T070000
END:STANDARD
END:VTIMEZONE
BEGIN:VEVENT
DTSTART;TZID=America/Chicago:20260417T190000
DTEND;TZID=America/Chicago:20260417T210000
DTSTAMP:20260419T074252
CREATED:20260220T190628Z
LAST-MODIFIED:20260220T190628Z
UID:10002149-1776452400-1776459600@www.cypresschristian.org
SUMMARY:Baseball Varsity vs Frassati Catholic High School
DESCRIPTION:
URL:https://www.cypresschristian.org/event/baseball-varsity-vs-frassati-catholic-high-school-5/
LOCATION:CCS-Will Rhodes Memorial Stadium\, 21455 Bridgeland Creek Pkwy\, Cypress\, TX 77433.\, Cypress\, TX\, 77433\, United States
CATEGORIES:Athletics
GEO:29.9520346;-95.5875756
X-APPLE-STRUCTURED-LOCATION;VALUE=URI;X-ADDRESS=CCS-Will Rhodes Memorial Stadium 21455 Bridgeland Creek Pkwy Cypress TX 77433. Cypress TX 77433 United States;X-APPLE-RADIUS=500;X-TITLE=21455 Bridgeland Creek Pkwy\, Cypress\, TX 77433.:geo:-95.5875756,29.9520346
END:VEVENT
BEGIN:VEVENT
DTSTART;TZID=America/Chicago:20260417T160000
DTEND;TZID=America/Chicago:20260417T180000
DTSTAMP:20260419T074252
CREATED:20260210T172506Z
LAST-MODIFIED:20260210T172506Z
UID:10002091-1776441600-1776448800@www.cypresschristian.org
SUMMARY:Baseball - Junior Varsity vs. Frassati Catholic High School
DESCRIPTION:
URL:https://www.cypresschristian.org/event/baseball-junior-varsity-vs-frassati-catholic-high-school-6/
LOCATION:CCS-Will Rhodes Memorial Stadium\, 21455 Bridgeland Creek Pkwy\, Cypress\, TX 77433.\, Cypress\, TX\, 77433\, United States
CATEGORIES:Athletics
GEO:29.9520346;-95.5875756
X-APPLE-STRUCTURED-LOCATION;VALUE=URI;X-ADDRESS=CCS-Will Rhodes Memorial Stadium 21455 Bridgeland Creek Pkwy Cypress TX 77433. Cypress TX 77433 United States;X-APPLE-RADIUS=500;X-TITLE=21455 Bridgeland Creek Pkwy\, Cypress\, TX 77433.:geo:-95.5875756,29.9520346
END:VEVENT
BEGIN:VEVENT
DTSTART;TZID=America/Chicago:20260411T120000
DTEND;TZID=America/Chicago:20260411T140000
DTSTAMP:20260419T074252
CREATED:20260220T182127Z
LAST-MODIFIED:20260406T194509Z
UID:10002146-1775908800-1775916000@www.cypresschristian.org
SUMMARY:Baseball Varsity vs Brazos Christian School
DESCRIPTION:
URL:https://www.cypresschristian.org/event/baseball-varsity-vs-brazos-christian-school/
LOCATION:CCS-Will Rhodes Memorial Stadium\, 21455 Bridgeland Creek Pkwy\, Cypress\, TX 77433.\, Cypress\, TX\, 77433\, United States
CATEGORIES:Athletics
GEO:29.9520346;-95.5875756
X-APPLE-STRUCTURED-LOCATION;VALUE=URI;X-ADDRESS=CCS-Will Rhodes Memorial Stadium 21455 Bridgeland Creek Pkwy Cypress TX 77433. Cypress TX 77433 United States;X-APPLE-RADIUS=500;X-TITLE=21455 Bridgeland Creek Pkwy\, Cypress\, TX 77433.:geo:-95.5875756,29.9520346
END:VEVENT
BEGIN:VEVENT
DTSTART;TZID=America/Chicago:20260410T190000
DTEND;TZID=America/Chicago:20260410T210000
DTSTAMP:20260419T074252
CREATED:20260220T181623Z
LAST-MODIFIED:20260220T181902Z
UID:10002145-1775847600-1775854800@www.cypresschristian.org
SUMMARY:Baseball Varsity vs West Houston Thunder
DESCRIPTION:
URL:https://www.cypresschristian.org/event/baseball-varsity-vs-legacy-preparatory-christian-academy-2/
LOCATION:CCS-Will Rhodes Memorial Stadium\, 21455 Bridgeland Creek Pkwy\, Cypress\, TX 77433.\, Cypress\, TX\, 77433\, United States
CATEGORIES:Athletics
GEO:29.9520346;-95.5875756
X-APPLE-STRUCTURED-LOCATION;VALUE=URI;X-ADDRESS=CCS-Will Rhodes Memorial Stadium 21455 Bridgeland Creek Pkwy Cypress TX 77433. Cypress TX 77433 United States;X-APPLE-RADIUS=500;X-TITLE=21455 Bridgeland Creek Pkwy\, Cypress\, TX 77433.:geo:-95.5875756,29.9520346
END:VEVENT
BEGIN:VEVENT
DTSTART;TZID=America/Chicago:20260410T160000
DTEND;TZID=America/Chicago:20260410T180000
DTSTAMP:20260419T074252
CREATED:20260210T170933Z
LAST-MODIFIED:20260210T170933Z
UID:10002090-1775836800-1775844000@www.cypresschristian.org
SUMMARY:Baseball - Junior Varsity vs. Houston Thunder
DESCRIPTION:
URL:https://www.cypresschristian.org/event/baseball-junior-varsity-vs-houston-thunder/
LOCATION:CCS-Will Rhodes Memorial Stadium\, 21455 Bridgeland Creek Pkwy\, Cypress\, TX 77433.\, Cypress\, TX\, 77433\, United States
CATEGORIES:Athletics
GEO:29.9520346;-95.5875756
X-APPLE-STRUCTURED-LOCATION;VALUE=URI;X-ADDRESS=CCS-Will Rhodes Memorial Stadium 21455 Bridgeland Creek Pkwy Cypress TX 77433. Cypress TX 77433 United States;X-APPLE-RADIUS=500;X-TITLE=21455 Bridgeland Creek Pkwy\, Cypress\, TX 77433.:geo:-95.5875756,29.9520346
END:VEVENT
BEGIN:VEVENT
DTSTART;TZID=America/Chicago:20260409T181500
DTEND;TZID=America/Chicago:20260409T200000
DTSTAMP:20260419T074252
CREATED:20260220T193540Z
LAST-MODIFIED:20260220T193540Z
UID:10002153-1775758500-1775764800@www.cypresschristian.org
SUMMARY:Baseball - Middle School A vs Covenant Christian School
DESCRIPTION:
URL:https://www.cypresschristian.org/event/baseball-middle-school-a-vs-covenant-christian-school/
LOCATION:CCS-Will Rhodes Memorial Stadium\, 21455 Bridgeland Creek Pkwy\, Cypress\, TX 77433.\, Cypress\, TX\, 77433\, United States
CATEGORIES:Athletics
GEO:29.9520346;-95.5875756
X-APPLE-STRUCTURED-LOCATION;VALUE=URI;X-ADDRESS=CCS-Will Rhodes Memorial Stadium 21455 Bridgeland Creek Pkwy Cypress TX 77433. Cypress TX 77433 United States;X-APPLE-RADIUS=500;X-TITLE=21455 Bridgeland Creek Pkwy\, Cypress\, TX 77433.:geo:-95.5875756,29.9520346
END:VEVENT
BEGIN:VEVENT
DTSTART;TZID=America/Chicago:20260409T163000
DTEND;TZID=America/Chicago:20260409T183000
DTSTAMP:20260419T074252
CREATED:20260220T195404Z
LAST-MODIFIED:20260220T195404Z
UID:10002159-1775752200-1775759400@www.cypresschristian.org
SUMMARY:Baseball - Middle School B vs. Covenant Christian School
DESCRIPTION:
URL:https://www.cypresschristian.org/event/baseball-middle-school-b-vs-covenant-christian-school/
LOCATION:CCS-Will Rhodes Memorial Stadium\, 21455 Bridgeland Creek Pkwy\, Cypress\, TX 77433.\, Cypress\, TX\, 77433\, United States
CATEGORIES:Athletics
GEO:29.9520346;-95.5875756
X-APPLE-STRUCTURED-LOCATION;VALUE=URI;X-ADDRESS=CCS-Will Rhodes Memorial Stadium 21455 Bridgeland Creek Pkwy Cypress TX 77433. Cypress TX 77433 United States;X-APPLE-RADIUS=500;X-TITLE=21455 Bridgeland Creek Pkwy\, Cypress\, TX 77433.:geo:-95.5875756,29.9520346
END:VEVENT
BEGIN:VEVENT
DTSTART;TZID=America/Chicago:20260407T170000
DTEND;TZID=America/Chicago:20260407T190000
DTSTAMP:20260419T074252
CREATED:20260406T194402Z
LAST-MODIFIED:20260407T193145Z
UID:10002237-1775581200-1775588400@www.cypresschristian.org
SUMMARY:Baseball Varsity vs West Houston Thunder
DESCRIPTION:
URL:https://www.cypresschristian.org/event/baseball-varsity-vs-west-houston-thunder-6/
LOCATION:CCS-Will Rhodes Memorial Stadium\, 21455 Bridgeland Creek Pkwy\, Cypress\, TX 77433.\, Cypress\, TX\, 77433\, United States
CATEGORIES:Athletics
GEO:29.9520346;-95.5875756
X-APPLE-STRUCTURED-LOCATION;VALUE=URI;X-ADDRESS=CCS-Will Rhodes Memorial Stadium 21455 Bridgeland Creek Pkwy Cypress TX 77433. Cypress TX 77433 United States;X-APPLE-RADIUS=500;X-TITLE=21455 Bridgeland Creek Pkwy\, Cypress\, TX 77433.:geo:-95.5875756,29.9520346
END:VEVENT
BEGIN:VEVENT
DTSTART;TZID=America/Chicago:20260330T163000
DTEND;TZID=America/Chicago:20260330T170000
DTSTAMP:20260419T074252
CREATED:20260213T151440Z
LAST-MODIFIED:20260302T180157Z
UID:10002134-1774888200-1774890000@www.cypresschristian.org
SUMMARY:Baseball - Middle School A vs Alpha Omega Academy
DESCRIPTION:
URL:https://www.cypresschristian.org/event/baseball-middle-school-a-vs-alpha-omega-academy-2/
LOCATION:CCS-Will Rhodes Memorial Stadium\, 21455 Bridgeland Creek Pkwy\, Cypress\, TX 77433.\, Cypress\, TX\, 77433\, United States
CATEGORIES:Athletics
GEO:29.9520346;-95.5875756
X-APPLE-STRUCTURED-LOCATION;VALUE=URI;X-ADDRESS=CCS-Will Rhodes Memorial Stadium 21455 Bridgeland Creek Pkwy Cypress TX 77433. Cypress TX 77433 United States;X-APPLE-RADIUS=500;X-TITLE=21455 Bridgeland Creek Pkwy\, Cypress\, TX 77433.:geo:-95.5875756,29.9520346
END:VEVENT
BEGIN:VEVENT
DTSTART;TZID=America/Chicago:20260326T181500
DTEND;TZID=America/Chicago:20260326T200000
DTSTAMP:20260419T074252
CREATED:20260213T151118Z
LAST-MODIFIED:20260326T205354Z
UID:10002133-1774548900-1774555200@www.cypresschristian.org
SUMMARY:Baseball - Middle School A vs Trinity Klein Lutheran School
DESCRIPTION:
URL:https://www.cypresschristian.org/event/baseball-middle-school-a-vs-trinity-klein-lutheran-school/
LOCATION:CCS-Will Rhodes Memorial Stadium\, 21455 Bridgeland Creek Pkwy\, Cypress\, TX 77433.\, Cypress\, TX\, 77433\, United States
CATEGORIES:Athletics
GEO:29.9520346;-95.5875756
X-APPLE-STRUCTURED-LOCATION;VALUE=URI;X-ADDRESS=CCS-Will Rhodes Memorial Stadium 21455 Bridgeland Creek Pkwy Cypress TX 77433. Cypress TX 77433 United States;X-APPLE-RADIUS=500;X-TITLE=21455 Bridgeland Creek Pkwy\, Cypress\, TX 77433.:geo:-95.5875756,29.9520346
END:VEVENT
BEGIN:VEVENT
DTSTART;TZID=America/Chicago:20260326T163000
DTEND;TZID=America/Chicago:20260326T174500
DTSTAMP:20260419T074252
CREATED:20260302T162628Z
LAST-MODIFIED:20260302T162628Z
UID:10002184-1774542600-1774547100@www.cypresschristian.org
SUMMARY:Baseball - Middle School B vs. Tomball Kings
DESCRIPTION:
URL:https://www.cypresschristian.org/event/baseball-middle-school-b-vs-tomball-kings-3/
LOCATION:CCS-Will Rhodes Memorial Stadium\, 21455 Bridgeland Creek Pkwy\, Cypress\, TX 77433.\, Cypress\, TX\, 77433\, United States
CATEGORIES:Athletics
GEO:29.9520346;-95.5875756
X-APPLE-STRUCTURED-LOCATION;VALUE=URI;X-ADDRESS=CCS-Will Rhodes Memorial Stadium 21455 Bridgeland Creek Pkwy Cypress TX 77433. Cypress TX 77433 United States;X-APPLE-RADIUS=500;X-TITLE=21455 Bridgeland Creek Pkwy\, Cypress\, TX 77433.:geo:-95.5875756,29.9520346
END:VEVENT
BEGIN:VEVENT
DTSTART;TZID=America/Chicago:20260324T180000
DTEND;TZID=America/Chicago:20260324T200000
DTSTAMP:20260419T074252
CREATED:20260220T180812Z
LAST-MODIFIED:20260220T180812Z
UID:10002142-1774375200-1774382400@www.cypresschristian.org
SUMMARY:Baseball Varsity vs. The Woodlands Christian Academy
DESCRIPTION:
URL:https://www.cypresschristian.org/event/baseball-varsity-vs-the-woodlands-christian-academy-2/
LOCATION:CCS-Will Rhodes Memorial Stadium\, 21455 Bridgeland Creek Pkwy\, Cypress\, TX 77433.\, Cypress\, TX\, 77433\, United States
CATEGORIES:Athletics
GEO:29.9520346;-95.5875756
X-APPLE-STRUCTURED-LOCATION;VALUE=URI;X-ADDRESS=CCS-Will Rhodes Memorial Stadium 21455 Bridgeland Creek Pkwy Cypress TX 77433. Cypress TX 77433 United States;X-APPLE-RADIUS=500;X-TITLE=21455 Bridgeland Creek Pkwy\, Cypress\, TX 77433.:geo:-95.5875756,29.9520346
END:VEVENT
BEGIN:VEVENT
DTSTART;TZID=America/Chicago:20260323T180000
DTEND;TZID=America/Chicago:20260323T200000
DTSTAMP:20260419T074252
CREATED:20260210T162935Z
LAST-MODIFIED:20260210T162935Z
UID:10002086-1774288800-1774296000@www.cypresschristian.org
SUMMARY:Baseball - Junior Varsity vs. The Woodlands Christian Academy
DESCRIPTION:
URL:https://www.cypresschristian.org/event/baseball-junior-varsity-vs-the-woodlands-christian-academy-4/
LOCATION:CCS-Will Rhodes Memorial Stadium\, 21455 Bridgeland Creek Pkwy\, Cypress\, TX 77433.\, Cypress\, TX\, 77433\, United States
CATEGORIES:Athletics
GEO:29.9520346;-95.5875756
X-APPLE-STRUCTURED-LOCATION;VALUE=URI;X-ADDRESS=CCS-Will Rhodes Memorial Stadium 21455 Bridgeland Creek Pkwy Cypress TX 77433. Cypress TX 77433 United States;X-APPLE-RADIUS=500;X-TITLE=21455 Bridgeland Creek Pkwy\, Cypress\, TX 77433.:geo:-95.5875756,29.9520346
END:VEVENT
BEGIN:VEVENT
DTSTART;TZID=America/Chicago:20260323T160000
DTEND;TZID=America/Chicago:20260323T180000
DTSTAMP:20260419T074252
CREATED:20260210T162812Z
LAST-MODIFIED:20260210T162812Z
UID:10002085-1774281600-1774288800@www.cypresschristian.org
SUMMARY:Baseball - Junior Varsity vs. The Woodlands Christian Academy
DESCRIPTION:
URL:https://www.cypresschristian.org/event/baseball-junior-varsity-vs-the-woodlands-christian-academy-3/
LOCATION:CCS-Will Rhodes Memorial Stadium\, 21455 Bridgeland Creek Pkwy\, Cypress\, TX 77433.\, Cypress\, TX\, 77433\, United States
CATEGORIES:Athletics
GEO:29.9520346;-95.5875756
X-APPLE-STRUCTURED-LOCATION;VALUE=URI;X-ADDRESS=CCS-Will Rhodes Memorial Stadium 21455 Bridgeland Creek Pkwy Cypress TX 77433. Cypress TX 77433 United States;X-APPLE-RADIUS=500;X-TITLE=21455 Bridgeland Creek Pkwy\, Cypress\, TX 77433.:geo:-95.5875756,29.9520346
END:VEVENT
BEGIN:VEVENT
DTSTART;TZID=America/Chicago:20260321T110000
DTEND;TZID=America/Chicago:20260321T130000
DTSTAMP:20260419T074252
CREATED:20260220T180532Z
LAST-MODIFIED:20260220T180532Z
UID:10002141-1774090800-1774098000@www.cypresschristian.org
SUMMARY:Baseball Varsity vs. The Kinkaid School
DESCRIPTION:
URL:https://www.cypresschristian.org/event/baseball-varsity-vs-the-kinkaid-school/
LOCATION:CCS-Will Rhodes Memorial Stadium\, 21455 Bridgeland Creek Pkwy\, Cypress\, TX 77433.\, Cypress\, TX\, 77433\, United States
CATEGORIES:Athletics
GEO:29.9520346;-95.5875756
X-APPLE-STRUCTURED-LOCATION;VALUE=URI;X-ADDRESS=CCS-Will Rhodes Memorial Stadium 21455 Bridgeland Creek Pkwy Cypress TX 77433. Cypress TX 77433 United States;X-APPLE-RADIUS=500;X-TITLE=21455 Bridgeland Creek Pkwy\, Cypress\, TX 77433.:geo:-95.5875756,29.9520346
END:VEVENT
BEGIN:VEVENT
DTSTART;TZID=America/Chicago:20260320T170000
DTEND;TZID=America/Chicago:20260320T190000
DTSTAMP:20260419T074252
CREATED:20260210T162608Z
LAST-MODIFIED:20260316T204154Z
UID:10002084-1774026000-1774033200@www.cypresschristian.org
SUMMARY:Baseball - Junior Varsity vs. The Kinkaid School
DESCRIPTION:
URL:https://www.cypresschristian.org/event/baseball-junior-varsity-vs-the-kinkaid-school/
LOCATION:CCS-Will Rhodes Memorial Stadium\, 21455 Bridgeland Creek Pkwy\, Cypress\, TX 77433.\, Cypress\, TX\, 77433\, United States
CATEGORIES:Athletics
GEO:29.9520346;-95.5875756
X-APPLE-STRUCTURED-LOCATION;VALUE=URI;X-ADDRESS=CCS-Will Rhodes Memorial Stadium 21455 Bridgeland Creek Pkwy Cypress TX 77433. Cypress TX 77433 United States;X-APPLE-RADIUS=500;X-TITLE=21455 Bridgeland Creek Pkwy\, Cypress\, TX 77433.:geo:-95.5875756,29.9520346
END:VEVENT
BEGIN:VEVENT
DTSTART;TZID=America/Chicago:20260319T163000
DTEND;TZID=America/Chicago:20260319T183000
DTSTAMP:20260419T074252
CREATED:20260316T204337Z
LAST-MODIFIED:20260316T204337Z
UID:10002188-1773937800-1773945000@www.cypresschristian.org
SUMMARY:Baseball - Junior Varsity vs. Tomball Kings
DESCRIPTION:
URL:https://www.cypresschristian.org/event/baseball-junior-varsity-vs-tomball-kings-8/
LOCATION:CCS-Will Rhodes Memorial Stadium\, 21455 Bridgeland Creek Pkwy\, Cypress\, TX 77433.\, Cypress\, TX\, 77433\, United States
CATEGORIES:Athletics
GEO:29.9520346;-95.5875756
X-APPLE-STRUCTURED-LOCATION;VALUE=URI;X-ADDRESS=CCS-Will Rhodes Memorial Stadium 21455 Bridgeland Creek Pkwy Cypress TX 77433. Cypress TX 77433 United States;X-APPLE-RADIUS=500;X-TITLE=21455 Bridgeland Creek Pkwy\, Cypress\, TX 77433.:geo:-95.5875756,29.9520346
END:VEVENT
BEGIN:VEVENT
DTSTART;TZID=America/Chicago:20260316T180000
DTEND;TZID=America/Chicago:20260316T193000
DTSTAMP:20260419T074252
CREATED:20260213T145631Z
LAST-MODIFIED:20260213T145631Z
UID:10002130-1773684000-1773689400@www.cypresschristian.org
SUMMARY:Baseball - Middle School A vs The Woodlands Christian Academy
DESCRIPTION:
URL:https://www.cypresschristian.org/event/baseball-middle-school-a-vs-the-woodlands-christian-academy/
LOCATION:CCS-Will Rhodes Memorial Stadium\, 21455 Bridgeland Creek Pkwy\, Cypress\, TX 77433.\, Cypress\, TX\, 77433\, United States
CATEGORIES:Athletics
GEO:29.9520346;-95.5875756
X-APPLE-STRUCTURED-LOCATION;VALUE=URI;X-ADDRESS=CCS-Will Rhodes Memorial Stadium 21455 Bridgeland Creek Pkwy Cypress TX 77433. Cypress TX 77433 United States;X-APPLE-RADIUS=500;X-TITLE=21455 Bridgeland Creek Pkwy\, Cypress\, TX 77433.:geo:-95.5875756,29.9520346
END:VEVENT
BEGIN:VEVENT
DTSTART;TZID=America/Chicago:20260316T163000
DTEND;TZID=America/Chicago:20260316T183000
DTSTAMP:20260419T074252
CREATED:20260220T194004Z
LAST-MODIFIED:20260220T194004Z
UID:10002154-1773678600-1773685800@www.cypresschristian.org
SUMMARY:Baseball - Middle School B vs. The Woodlands Christian Academy
DESCRIPTION:
URL:https://www.cypresschristian.org/event/baseball-middle-school-b-vs-the-woodlands-christian-academy-2/
LOCATION:CCS-Will Rhodes Memorial Stadium\, 21455 Bridgeland Creek Pkwy\, Cypress\, TX 77433.\, Cypress\, TX\, 77433\, United States
CATEGORIES:Athletics
GEO:29.9520346;-95.5875756
X-APPLE-STRUCTURED-LOCATION;VALUE=URI;X-ADDRESS=CCS-Will Rhodes Memorial Stadium 21455 Bridgeland Creek Pkwy Cypress TX 77433. Cypress TX 77433 United States;X-APPLE-RADIUS=500;X-TITLE=21455 Bridgeland Creek Pkwy\, Cypress\, TX 77433.:geo:-95.5875756,29.9520346
END:VEVENT
BEGIN:VEVENT
DTSTART;TZID=America/Chicago:20260314T144500
DTEND;TZID=America/Chicago:20260314T164500
DTSTAMP:20260419T074252
CREATED:20260220T175948Z
LAST-MODIFIED:20260220T175948Z
UID:10002139-1773499500-1773506700@www.cypresschristian.org
SUMMARY:Baseball Varsity vs. Tomball Kings
DESCRIPTION:
URL:https://www.cypresschristian.org/event/baseball-varsity-vs-tomball-kings-4/
LOCATION:CCS-Will Rhodes Memorial Stadium\, 21455 Bridgeland Creek Pkwy\, Cypress\, TX 77433.\, Cypress\, TX\, 77433\, United States
CATEGORIES:Athletics
GEO:29.9520346;-95.5875756
X-APPLE-STRUCTURED-LOCATION;VALUE=URI;X-ADDRESS=CCS-Will Rhodes Memorial Stadium 21455 Bridgeland Creek Pkwy Cypress TX 77433. Cypress TX 77433 United States;X-APPLE-RADIUS=500;X-TITLE=21455 Bridgeland Creek Pkwy\, Cypress\, TX 77433.:geo:-95.5875756,29.9520346
END:VEVENT
BEGIN:VEVENT
DTSTART;TZID=America/Chicago:20260314T120000
DTEND;TZID=America/Chicago:20260314T140000
DTSTAMP:20260419T074252
CREATED:20260210T160256Z
LAST-MODIFIED:20260210T160256Z
UID:10002082-1773489600-1773496800@www.cypresschristian.org
SUMMARY:Baseball - Junior Varsity vs. Tomball Kings
DESCRIPTION:
URL:https://www.cypresschristian.org/event/baseball-junior-varsity-vs-tomball-kings-7/
LOCATION:CCS-Will Rhodes Memorial Stadium\, 21455 Bridgeland Creek Pkwy\, Cypress\, TX 77433.\, Cypress\, TX\, 77433\, United States
CATEGORIES:Athletics
GEO:29.9520346;-95.5875756
X-APPLE-STRUCTURED-LOCATION;VALUE=URI;X-ADDRESS=CCS-Will Rhodes Memorial Stadium 21455 Bridgeland Creek Pkwy Cypress TX 77433. Cypress TX 77433 United States;X-APPLE-RADIUS=500;X-TITLE=21455 Bridgeland Creek Pkwy\, Cypress\, TX 77433.:geo:-95.5875756,29.9520346
END:VEVENT
BEGIN:VEVENT
DTSTART;TZID=America/Chicago:20260305T181500
DTEND;TZID=America/Chicago:20260305T200000
DTSTAMP:20260419T074252
CREATED:20260213T145411Z
LAST-MODIFIED:20260302T175730Z
UID:10002129-1772734500-1772740800@www.cypresschristian.org
SUMMARY:Baseball - Middle School A vs Legacy Preparatory Christian Academy
DESCRIPTION:
URL:https://www.cypresschristian.org/event/baseball-middle-school-a-vs-legacy-preparatory-christian-academy/
LOCATION:CCS-Will Rhodes Memorial Stadium\, 21455 Bridgeland Creek Pkwy\, Cypress\, TX 77433.\, Cypress\, TX\, 77433\, United States
CATEGORIES:Athletics
GEO:29.9520346;-95.5875756
X-APPLE-STRUCTURED-LOCATION;VALUE=URI;X-ADDRESS=CCS-Will Rhodes Memorial Stadium 21455 Bridgeland Creek Pkwy Cypress TX 77433. Cypress TX 77433 United States;X-APPLE-RADIUS=500;X-TITLE=21455 Bridgeland Creek Pkwy\, Cypress\, TX 77433.:geo:-95.5875756,29.9520346
END:VEVENT
BEGIN:VEVENT
DTSTART;TZID=America/Chicago:20260305T163000
DTEND;TZID=America/Chicago:20260305T174500
DTSTAMP:20260419T074252
CREATED:20260302T161526Z
LAST-MODIFIED:20260302T161526Z
UID:10002183-1772728200-1772732700@www.cypresschristian.org
SUMMARY:Baseball - Middle School B vs. Tomball Kings
DESCRIPTION:
URL:https://www.cypresschristian.org/event/baseball-middle-school-b-vs-tomball-kings-2/
LOCATION:CCS-Will Rhodes Memorial Stadium\, 21455 Bridgeland Creek Pkwy\, Cypress\, TX 77433.\, Cypress\, TX\, 77433\, United States
CATEGORIES:Athletics
GEO:29.9520346;-95.5875756
X-APPLE-STRUCTURED-LOCATION;VALUE=URI;X-ADDRESS=CCS-Will Rhodes Memorial Stadium 21455 Bridgeland Creek Pkwy Cypress TX 77433. Cypress TX 77433 United States;X-APPLE-RADIUS=500;X-TITLE=21455 Bridgeland Creek Pkwy\, Cypress\, TX 77433.:geo:-95.5875756,29.9520346
END:VEVENT
BEGIN:VEVENT
DTSTART;TZID=America/Chicago:20260302T180000
DTEND;TZID=America/Chicago:20260302T200000
DTSTAMP:20260419T074252
CREATED:20260225T143413Z
LAST-MODIFIED:20260225T143413Z
UID:10002176-1772474400-1772481600@www.cypresschristian.org
SUMMARY:Baseball - Junior Varsity vs. West Houston Thunder
DESCRIPTION:
URL:https://www.cypresschristian.org/event/baseball-junior-varsity-vs-west-houston-thunder-5/
LOCATION:CCS-Will Rhodes Memorial Stadium\, 21455 Bridgeland Creek Pkwy\, Cypress\, TX 77433.\, Cypress\, TX\, 77433\, United States
CATEGORIES:Athletics
GEO:29.9520346;-95.5875756
X-APPLE-STRUCTURED-LOCATION;VALUE=URI;X-ADDRESS=CCS-Will Rhodes Memorial Stadium 21455 Bridgeland Creek Pkwy Cypress TX 77433. Cypress TX 77433 United States;X-APPLE-RADIUS=500;X-TITLE=21455 Bridgeland Creek Pkwy\, Cypress\, TX 77433.:geo:-95.5875756,29.9520346
END:VEVENT
BEGIN:VEVENT
DTSTART;TZID=America/Chicago:20260302T170000
DTEND;TZID=America/Chicago:20260302T190000
DTSTAMP:20260419T074252
CREATED:20260116T215457Z
LAST-MODIFIED:20260220T184531Z
UID:10002018-1772470800-1772478000@www.cypresschristian.org
SUMMARY:Baseball Varsity vs. First Baptist Christian Academy-Pasadena
DESCRIPTION:
URL:https://www.cypresschristian.org/event/baseball-varsity-vs-first-baptist-christian-academy-pasadena/
LOCATION:CCS-Will Rhodes Memorial Stadium\, 21455 Bridgeland Creek Pkwy\, Cypress\, TX 77433.\, Cypress\, TX\, 77433\, United States
CATEGORIES:Athletics
GEO:29.9520346;-95.5875756
X-APPLE-STRUCTURED-LOCATION;VALUE=URI;X-ADDRESS=CCS-Will Rhodes Memorial Stadium 21455 Bridgeland Creek Pkwy Cypress TX 77433. Cypress TX 77433 United States;X-APPLE-RADIUS=500;X-TITLE=21455 Bridgeland Creek Pkwy\, Cypress\, TX 77433.:geo:-95.5875756,29.9520346
END:VEVENT
BEGIN:VEVENT
DTSTART;TZID=America/Chicago:20260226T181500
DTEND;TZID=America/Chicago:20260226T200000
DTSTAMP:20260419T074252
CREATED:20260212T223202Z
LAST-MODIFIED:20260218T185842Z
UID:10002123-1772129700-1772136000@www.cypresschristian.org
SUMMARY:Baseball - Middle School A vs Rosehill Christian School
DESCRIPTION:
URL:https://www.cypresschristian.org/event/baseball-middle-school-a-vs-rosehill-christian-school-6/
LOCATION:CCS-Will Rhodes Memorial Stadium\, 21455 Bridgeland Creek Pkwy\, Cypress\, TX 77433.\, Cypress\, TX\, 77433\, United States
CATEGORIES:Athletics
GEO:29.9520346;-95.5875756
X-APPLE-STRUCTURED-LOCATION;VALUE=URI;X-ADDRESS=CCS-Will Rhodes Memorial Stadium 21455 Bridgeland Creek Pkwy Cypress TX 77433. Cypress TX 77433 United States;X-APPLE-RADIUS=500;X-TITLE=21455 Bridgeland Creek Pkwy\, Cypress\, TX 77433.:geo:-95.5875756,29.9520346
END:VEVENT
BEGIN:VEVENT
DTSTART;TZID=America/Chicago:20260226T163000
DTEND;TZID=America/Chicago:20260226T174500
DTSTAMP:20260419T074252
CREATED:20260212T224540Z
LAST-MODIFIED:20260218T185951Z
UID:10002128-1772123400-1772127900@www.cypresschristian.org
SUMMARY:Baseball - Middle School B vs. Rosehill Christian School
DESCRIPTION:
URL:https://www.cypresschristian.org/event/baseball-middle-school-b-vs-rosehill-christian-school-4/
LOCATION:CCS-Will Rhodes Memorial Stadium\, 21455 Bridgeland Creek Pkwy\, Cypress\, TX 77433.\, Cypress\, TX\, 77433\, United States
CATEGORIES:Athletics
GEO:29.9520346;-95.5875756
X-APPLE-STRUCTURED-LOCATION;VALUE=URI;X-ADDRESS=CCS-Will Rhodes Memorial Stadium 21455 Bridgeland Creek Pkwy Cypress TX 77433. Cypress TX 77433 United States;X-APPLE-RADIUS=500;X-TITLE=21455 Bridgeland Creek Pkwy\, Cypress\, TX 77433.:geo:-95.5875756,29.9520346
END:VEVENT
BEGIN:VEVENT
DTSTART;TZID=America/Chicago:20260219T183000
DTEND;TZID=America/Chicago:20260219T200000
DTSTAMP:20260419T074252
CREATED:20260212T222725Z
LAST-MODIFIED:20260212T222725Z
UID:10002121-1771525800-1771531200@www.cypresschristian.org
SUMMARY:Baseball - Middle School A vs Northland Christian School
DESCRIPTION:
URL:https://www.cypresschristian.org/event/baseball-middle-school-a-vs-northland-christian-school-4/
LOCATION:CCS-Will Rhodes Memorial Stadium\, 21455 Bridgeland Creek Pkwy\, Cypress\, TX 77433.\, Cypress\, TX\, 77433\, United States
CATEGORIES:Athletics
GEO:29.9520346;-95.5875756
X-APPLE-STRUCTURED-LOCATION;VALUE=URI;X-ADDRESS=CCS-Will Rhodes Memorial Stadium 21455 Bridgeland Creek Pkwy Cypress TX 77433. Cypress TX 77433 United States;X-APPLE-RADIUS=500;X-TITLE=21455 Bridgeland Creek Pkwy\, Cypress\, TX 77433.:geo:-95.5875756,29.9520346
END:VEVENT
BEGIN:VEVENT
DTSTART;TZID=America/Chicago:20260219T163000
DTEND;TZID=America/Chicago:20260219T183000
DTSTAMP:20260419T074252
CREATED:20260212T223934Z
LAST-MODIFIED:20260212T223934Z
UID:10002126-1771518600-1771525800@www.cypresschristian.org
SUMMARY:Baseball - Middle School B vs. St. Anthony of Pauda
DESCRIPTION:
URL:https://www.cypresschristian.org/event/baseball-middle-school-b-vs-st-anthony-of-pauda/
LOCATION:CCS-Will Rhodes Memorial Stadium\, 21455 Bridgeland Creek Pkwy\, Cypress\, TX 77433.\, Cypress\, TX\, 77433\, United States
CATEGORIES:Athletics
GEO:29.9520346;-95.5875756
X-APPLE-STRUCTURED-LOCATION;VALUE=URI;X-ADDRESS=CCS-Will Rhodes Memorial Stadium 21455 Bridgeland Creek Pkwy Cypress TX 77433. Cypress TX 77433 United States;X-APPLE-RADIUS=500;X-TITLE=21455 Bridgeland Creek Pkwy\, Cypress\, TX 77433.:geo:-95.5875756,29.9520346
END:VEVENT
BEGIN:VEVENT
DTSTART;TZID=America/Chicago:20260217T183000
DTEND;TZID=America/Chicago:20260217T203000
DTSTAMP:20260419T074252
CREATED:20260116T213820Z
LAST-MODIFIED:20260116T213820Z
UID:10002014-1771353000-1771360200@www.cypresschristian.org
SUMMARY:Baseball Varsity vs. Westbury Christian School
DESCRIPTION:
URL:https://www.cypresschristian.org/event/baseball-varsity-vs-westbury-christian-school/
LOCATION:CCS-Will Rhodes Memorial Stadium\, 21455 Bridgeland Creek Pkwy\, Cypress\, TX 77433.\, Cypress\, TX\, 77433\, United States
CATEGORIES:Athletics
GEO:29.9520346;-95.5875756
X-APPLE-STRUCTURED-LOCATION;VALUE=URI;X-ADDRESS=CCS-Will Rhodes Memorial Stadium 21455 Bridgeland Creek Pkwy Cypress TX 77433. Cypress TX 77433 United States;X-APPLE-RADIUS=500;X-TITLE=21455 Bridgeland Creek Pkwy\, Cypress\, TX 77433.:geo:-95.5875756,29.9520346
END:VEVENT
END:VCALENDAR