BEGIN:VCALENDAR
VERSION:2.0
PRODID:-//Cypress Christian School - ECPv6.15.19//NONSGML v1.0//EN
CALSCALE:GREGORIAN
METHOD:PUBLISH
X-ORIGINAL-URL:https://www.cypresschristian.org
X-WR-CALDESC:Events for Cypress Christian School
REFRESH-INTERVAL;VALUE=DURATION:PT1H
X-Robots-Tag:noindex
X-PUBLISHED-TTL:PT1H
BEGIN:VTIMEZONE
TZID:America/Chicago
BEGIN:DAYLIGHT
TZOFFSETFROM:-0600
TZOFFSETTO:-0500
TZNAME:CDT
DTSTART:20230312T080000
END:DAYLIGHT
BEGIN:STANDARD
TZOFFSETFROM:-0500
TZOFFSETTO:-0600
TZNAME:CST
DTSTART:20231105T070000
END:STANDARD
BEGIN:DAYLIGHT
TZOFFSETFROM:-0600
TZOFFSETTO:-0500
TZNAME:CDT
DTSTART:20240310T080000
END:DAYLIGHT
BEGIN:STANDARD
TZOFFSETFROM:-0500
TZOFFSETTO:-0600
TZNAME:CST
DTSTART:20241103T070000
END:STANDARD
BEGIN:DAYLIGHT
TZOFFSETFROM:-0600
TZOFFSETTO:-0500
TZNAME:CDT
DTSTART:20250309T080000
END:DAYLIGHT
BEGIN:STANDARD
TZOFFSETFROM:-0500
TZOFFSETTO:-0600
TZNAME:CST
DTSTART:20251102T070000
END:STANDARD
END:VTIMEZONE
BEGIN:VEVENT
DTSTART;VALUE=DATE:20240802
DTEND;VALUE=DATE:20240803
DTSTAMP:20260419T174804
CREATED:20240521T164841Z
LAST-MODIFIED:20240521T164841Z
UID:10000640-1722556800-1722643199@www.cypresschristian.org
SUMMARY:New Teacher Orientation
DESCRIPTION:
URL:https://www.cypresschristian.org/event/new-teacher-orientation/
LOCATION:TX
CATEGORIES:Academic
END:VEVENT
BEGIN:VEVENT
DTSTART;VALUE=DATE:20240805
DTEND;VALUE=DATE:20240810
DTSTAMP:20260419T174804
CREATED:20240521T165039Z
LAST-MODIFIED:20240521T165039Z
UID:10000641-1722816000-1723247999@www.cypresschristian.org
SUMMARY:Teacher In-Service
DESCRIPTION:
URL:https://www.cypresschristian.org/event/teacher-in-service/
LOCATION:TX
CATEGORIES:Academic
END:VEVENT
BEGIN:VEVENT
DTSTART;VALUE=DATE:20240809
DTEND;VALUE=DATE:20240810
DTSTAMP:20260419T174804
CREATED:20240409T143809Z
LAST-MODIFIED:20240613T152528Z
UID:10000632-1723161600-1723247999@www.cypresschristian.org
SUMMARY:Volleyball - Varsity Girls - Houston Christian - Scrimmage
DESCRIPTION:
URL:https://www.cypresschristian.org/event/volleyball-varsity-girls-houston-christian/
LOCATION:TX
CATEGORIES:Athletics
END:VEVENT
BEGIN:VEVENT
DTSTART;VALUE=DATE:20240809
DTEND;VALUE=DATE:20240810
DTSTAMP:20260419T174804
CREATED:20240814T143655Z
LAST-MODIFIED:20240814T143655Z
UID:10000772-1723161600-1723247999@www.cypresschristian.org
SUMMARY:Volleyball-JV Girls @ Houston Christian - Scrimmage
DESCRIPTION:
URL:https://www.cypresschristian.org/event/volleyball-jv-girls-houston-christian-scrimmage/
LOCATION:TX
CATEGORIES:Athletics
END:VEVENT
BEGIN:VEVENT
DTSTART;TZID=America/Chicago:20240809T200000
DTEND;TZID=America/Chicago:20240810T070000
DTSTAMP:20260419T174804
CREATED:20240724T195856Z
LAST-MODIFIED:20240724T201652Z
UID:10000703-1723233600-1723273200@www.cypresschristian.org
SUMMARY:8th Grade Lock-In
DESCRIPTION:Eighth grade will kick off the new school year with a lock-in on Friday night\, August 9.  Enjoy a night filled with friends\, games and food before school begins! The lock-in will be hosted by eighth-grade teachers and administrators. Click here to register by Tuesday\, August 6. Contact Dr. Layton for more details.
URL:https://www.cypresschristian.org/event/7369/
LOCATION:West Gym\, 11123 Cypress North Houston Rd.\, Houston\, TX\, 77065\, United States
CATEGORIES:Academic,Student Life
GEO:29.9520346;-95.5875756
X-APPLE-STRUCTURED-LOCATION;VALUE=URI;X-ADDRESS=West Gym 11123 Cypress North Houston Rd. Houston TX 77065 United States;X-APPLE-RADIUS=500;X-TITLE=11123 Cypress North Houston Rd.:geo:-95.5875756,29.9520346
END:VEVENT
BEGIN:VEVENT
DTSTART;VALUE=DATE:20240812
DTEND;VALUE=DATE:20240814
DTSTAMP:20260419T174804
CREATED:20240521T165222Z
LAST-MODIFIED:20240521T165222Z
UID:10000642-1723420800-1723593599@www.cypresschristian.org
SUMMARY:Teacher In-Service
DESCRIPTION:
URL:https://www.cypresschristian.org/event/teacher-in-service-4/
LOCATION:TX
CATEGORIES:Academic
END:VEVENT
BEGIN:VEVENT
DTSTART;TZID=America/Chicago:20240813T090000
DTEND;TZID=America/Chicago:20240813T110000
DTSTAMP:20260419T174804
CREATED:20240521T175441Z
LAST-MODIFIED:20240807T010030Z
UID:10000644-1723539600-1723546800@www.cypresschristian.org
SUMMARY:Elementary Meet the Teacher
DESCRIPTION:Our teachers are excited to meet their students! Students will get to see the location of their desks\, the layout of the classroom\, discuss class schedules\, procedures and all the important information needed to have a great start to the school year! This event is come and go from 9 to 11 a.m.
URL:https://www.cypresschristian.org/event/elementary-meet-the-teacher/
LOCATION:TX
CATEGORIES:Academic
END:VEVENT
BEGIN:VEVENT
DTSTART;TZID=America/Chicago:20240813T130000
DTEND;TZID=America/Chicago:20240813T150000
DTSTAMP:20260419T174804
CREATED:20240521T175824Z
LAST-MODIFIED:20240521T175824Z
UID:10000645-1723554000-1723561200@www.cypresschristian.org
SUMMARY:Secondary Open House
DESCRIPTION:
URL:https://www.cypresschristian.org/event/secondary-open-house/
LOCATION:TX
CATEGORIES:Academic
END:VEVENT
BEGIN:VEVENT
DTSTART;TZID=America/Chicago:20240813T130000
DTEND;TZID=America/Chicago:20240813T150000
DTSTAMP:20260419T174804
CREATED:20240724T202252Z
LAST-MODIFIED:20240724T202252Z
UID:10000704-1723554000-1723561200@www.cypresschristian.org
SUMMARY:Secondary Open House
DESCRIPTION:Secondary students are encouraged to attend Open House in the West Gym and secondary classrooms to meet administrators and faculty\, locate classes\, organize lockers and shop at the Warrior Warehouse. Please bring a printed copy of your schedule/locker assignment from FACTS with you to Open House.
URL:https://www.cypresschristian.org/event/secondary-open-house-2/
LOCATION:West Gym\, 11123 Cypress North Houston Rd.\, Houston\, TX\, 77065\, United States
CATEGORIES:Academic,Student Life
GEO:29.9520346;-95.5875756
X-APPLE-STRUCTURED-LOCATION;VALUE=URI;X-ADDRESS=West Gym 11123 Cypress North Houston Rd. Houston TX 77065 United States;X-APPLE-RADIUS=500;X-TITLE=11123 Cypress North Houston Rd.:geo:-95.5875756,29.9520346
END:VEVENT
BEGIN:VEVENT
DTSTART;TZID=America/Chicago:20240813T163000
DTEND;TZID=America/Chicago:20240813T173000
DTSTAMP:20260419T174804
CREATED:20240814T144552Z
LAST-MODIFIED:20240814T144552Z
UID:10000773-1723566600-1723570200@www.cypresschristian.org
SUMMARY:Volleyball - JV Girls  @ The Kinkaid School
DESCRIPTION:
URL:https://www.cypresschristian.org/event/volleyball-jv-girls-the-kinkaid-school/
LOCATION:The Kinkaid School\, 201 Kinkaid School Drive\, Houston\, TX\, 77024\, United States
CATEGORIES:Athletics
GEO:29.7489131;-95.5102871
X-APPLE-STRUCTURED-LOCATION;VALUE=URI;X-ADDRESS=The Kinkaid School 201 Kinkaid School Drive Houston TX 77024 United States;X-APPLE-RADIUS=500;X-TITLE=201 Kinkaid School Drive:geo:-95.5102871,29.7489131
END:VEVENT
BEGIN:VEVENT
DTSTART;TZID=America/Chicago:20240813T173000
DTEND;TZID=America/Chicago:20240813T190000
DTSTAMP:20260419T174804
CREATED:20240811T215036Z
LAST-MODIFIED:20240811T215226Z
UID:10000726-1723570200-1723575600@www.cypresschristian.org
SUMMARY:Volleyball - Varsity Girls  @ The Kinkaid School
DESCRIPTION:
URL:https://www.cypresschristian.org/event/volleyball-varsity-girls-the-kinkaid-school/
LOCATION:The Kinkaid School\, 201 Kinkaid School Drive\, Houston\, TX\, 77024\, United States
CATEGORIES:Athletics
GEO:29.7489131;-95.5102871
X-APPLE-STRUCTURED-LOCATION;VALUE=URI;X-ADDRESS=The Kinkaid School 201 Kinkaid School Drive Houston TX 77024 United States;X-APPLE-RADIUS=500;X-TITLE=201 Kinkaid School Drive:geo:-95.5102871,29.7489131
END:VEVENT
BEGIN:VEVENT
DTSTART;TZID=America/Chicago:20240814T080000
DTEND;TZID=America/Chicago:20240814T080000
DTSTAMP:20260419T174804
CREATED:20240429T193052Z
LAST-MODIFIED:20240429T211152Z
UID:10000638-1723622400-1723622400@www.cypresschristian.org
SUMMARY:First Day of School
DESCRIPTION:
URL:https://www.cypresschristian.org/event/first-day-of-school/
LOCATION:TX
CATEGORIES:Academic
END:VEVENT
BEGIN:VEVENT
DTSTART;TZID=America/Chicago:20240814T081500
DTEND;TZID=America/Chicago:20240814T090000
DTSTAMP:20260419T174804
CREATED:20240531T162716Z
LAST-MODIFIED:20240805T133336Z
UID:10000677-1723623300-1723626000@www.cypresschristian.org
SUMMARY:Kindergarten Parent BooHoo & Yahoo Breakfast
DESCRIPTION:Parents of Kindergarten students will meet in the elementary lunchroom after dropping their students off in the classroom. Parents will be served coffee and light breakfast.
URL:https://www.cypresschristian.org/event/kindergarten-parent-boohoo-wahoo-breakfast/
LOCATION:Elementary Lunchroom\, 11123 Cypress N. Houston Rd.\, Houston\, TX\, 77065\, United States
CATEGORIES:Student Life
GEO:29.9520346;-95.5875756
X-APPLE-STRUCTURED-LOCATION;VALUE=URI;X-ADDRESS=Elementary Lunchroom 11123 Cypress N. Houston Rd. Houston TX 77065 United States;X-APPLE-RADIUS=500;X-TITLE=11123 Cypress N. Houston Rd.:geo:-95.5875756,29.9520346
END:VEVENT
BEGIN:VEVENT
DTSTART;VALUE=DATE:20240815
DTEND;VALUE=DATE:20240816
DTSTAMP:20260419T174804
CREATED:20240811T220256Z
LAST-MODIFIED:20240814T155515Z
UID:10000727-1723680000-1723766399@www.cypresschristian.org
SUMMARY:Volleyball - Varsity Girls  @ Columbus High School Tournament
DESCRIPTION:
URL:https://www.cypresschristian.org/event/volleyball-varsity-girls-columbus-tournament/
LOCATION:Columbus High School-Softball\, 245 May St.\, Columbus\, TX\, 78934\, United States
CATEGORIES:Athletics
GEO:29.7023613;-96.5623745
X-APPLE-STRUCTURED-LOCATION;VALUE=URI;X-ADDRESS=Columbus High School-Softball 245 May St. Columbus TX 78934 United States;X-APPLE-RADIUS=500;X-TITLE=245 May St.:geo:-96.5623745,29.7023613
END:VEVENT
BEGIN:VEVENT
DTSTART;VALUE=DATE:20240816
DTEND;VALUE=DATE:20240817
DTSTAMP:20260419T174804
CREATED:20240811T221111Z
LAST-MODIFIED:20240811T221111Z
UID:10000728-1723766400-1723852799@www.cypresschristian.org
SUMMARY:Volleyball - Varsity Girls  @ Columbus High School Tournament
DESCRIPTION:
URL:https://www.cypresschristian.org/event/volleyball-varsity-girls-columbus-high-school-tournament/
LOCATION:Columbus High School-Softball\, 245 May St.\, Columbus\, TX\, 78934\, United States
CATEGORIES:Athletics
GEO:29.7023613;-96.5623745
X-APPLE-STRUCTURED-LOCATION;VALUE=URI;X-ADDRESS=Columbus High School-Softball 245 May St. Columbus TX 78934 United States;X-APPLE-RADIUS=500;X-TITLE=245 May St.:geo:-96.5623745,29.7023613
END:VEVENT
BEGIN:VEVENT
DTSTART;TZID=America/Chicago:20240816T170000
DTEND;TZID=America/Chicago:20240816T203000
DTSTAMP:20260419T174804
CREATED:20240521T174922Z
LAST-MODIFIED:20240807T144511Z
UID:10000643-1723827600-1723840200@www.cypresschristian.org
SUMMARY:Blue & White Night
DESCRIPTION:Campus opens at 5 p.m. | Meal served 5-6:30 p.m. | Program begins promptly at 7 p.m. \nMeal Order Information: We are excited to offer six food trucks and four dessert trucks for families to enjoy. Tickets for food will be PRESALE ONLY. All entrees will be served with a bag of chips and bottled water.\n\nFood options: \n\nBerryhill Baja Grill\nBrown Bag BBQ\nJames Coney Island\nChick-fil-A\nBackyard Grill\nPizza\n\nPlease click THIS LINK to reserve your meal by Tuesday\, August 13\, but please order as soon as possible. \nShow your Blue & White pride by donning our exclusive event T-shirts! Designed with love and creativity\, these T-shirts are not only stylish but also a wonderful way to commemorate this special occasion. Click THIS LINK to place your T-shirt order by Monday\, August 5\, at midnight\, to have it ready for the big night! Adult and youth sizes are available. \n 
URL:https://www.cypresschristian.org/event/blue-and-white-night/
LOCATION:TX
CATEGORIES:Academic,Athletics,Student Life
END:VEVENT
BEGIN:VEVENT
DTSTART;VALUE=DATE:20240817
DTEND;VALUE=DATE:20240818
DTSTAMP:20260419T174804
CREATED:20240811T221219Z
LAST-MODIFIED:20240812T154335Z
UID:10000729-1723852800-1723939199@www.cypresschristian.org
SUMMARY:Volleyball - Varsity Girls  @ Columbus High School Tournament
DESCRIPTION:
URL:https://www.cypresschristian.org/event/volleyball-varsity-girls-columbus-high-school-tournament-2/
LOCATION:Columbus High School-Softball\, 245 May St.\, Columbus\, TX\, 78934\, United States
CATEGORIES:Athletics
GEO:29.7023613;-96.5623745
X-APPLE-STRUCTURED-LOCATION;VALUE=URI;X-ADDRESS=Columbus High School-Softball 245 May St. Columbus TX 78934 United States;X-APPLE-RADIUS=500;X-TITLE=245 May St.:geo:-96.5623745,29.7023613
END:VEVENT
BEGIN:VEVENT
DTSTART;VALUE=DATE:20240817
DTEND;VALUE=DATE:20240818
DTSTAMP:20260419T174804
CREATED:20240813T050743Z
LAST-MODIFIED:20240813T232623Z
UID:10000755-1723852800-1723939199@www.cypresschristian.org
SUMMARY:Cross Country-Varsity @ HS Mud\, Sweat and Cheers Relay
DESCRIPTION:
URL:https://www.cypresschristian.org/event/cross-country-varsity-mud-sweat-and-cheers-relays/
LOCATION:Top Tier Training Camp-Caldwell\, 3101 FM1362 S\, Caldwell\, TX\, 77836\, United States
CATEGORIES:Athletics
GEO:30.6237416;-96.6404155
X-APPLE-STRUCTURED-LOCATION;VALUE=URI;X-ADDRESS=Top Tier Training Camp-Caldwell 3101 FM1362 S Caldwell TX 77836 United States;X-APPLE-RADIUS=500;X-TITLE=3101 FM1362 S:geo:-96.6404155,30.6237416
END:VEVENT
BEGIN:VEVENT
DTSTART;TZID=America/Chicago:20240817T090000
DTEND;TZID=America/Chicago:20240817T113000
DTSTAMP:20260419T174804
CREATED:20240408T161546Z
LAST-MODIFIED:20240610T195631Z
UID:10000620-1723885200-1723894200@www.cypresschristian.org
SUMMARY:Football - Varsity  vs. Boling-Scrimmage
DESCRIPTION:
URL:https://www.cypresschristian.org/event/football-varsity-vs-boling-scrimmage/
LOCATION:The Stadium at Cypress Christian School\, 21455 Bridgeland Creek Pkwy\, Cypress\, TX\, 77433\, United States
CATEGORIES:Athletics
GEO:29.9520346;-95.5875756
X-APPLE-STRUCTURED-LOCATION;VALUE=URI;X-ADDRESS=The Stadium at Cypress Christian School 21455 Bridgeland Creek Pkwy Cypress TX 77433 United States;X-APPLE-RADIUS=500;X-TITLE=21455 Bridgeland Creek Pkwy:geo:-95.5875756,29.9520346
END:VEVENT
BEGIN:VEVENT
DTSTART;TZID=America/Chicago:20240817T090000
DTEND;TZID=America/Chicago:20240817T113000
DTSTAMP:20260419T174804
CREATED:20240815T203344Z
LAST-MODIFIED:20240815T203344Z
UID:10000798-1723885200-1723894200@www.cypresschristian.org
SUMMARY:Football - JV vs. Boling-Scrimmage
DESCRIPTION:
URL:https://www.cypresschristian.org/event/football-jv-vs-boling-scrimmage/
LOCATION:The Stadium at Cypress Christian School\, 21455 Bridgeland Creek Pkwy\, Cypress\, TX\, 77433\, United States
CATEGORIES:Athletics
GEO:29.9520346;-95.5875756
X-APPLE-STRUCTURED-LOCATION;VALUE=URI;X-ADDRESS=The Stadium at Cypress Christian School 21455 Bridgeland Creek Pkwy Cypress TX 77433 United States;X-APPLE-RADIUS=500;X-TITLE=21455 Bridgeland Creek Pkwy:geo:-95.5875756,29.9520346
END:VEVENT
BEGIN:VEVENT
DTSTART;TZID=America/Chicago:20240820T173000
DTEND;TZID=America/Chicago:20240820T203000
DTSTAMP:20260419T174804
CREATED:20240814T144816Z
LAST-MODIFIED:20240814T144816Z
UID:10000774-1724175000-1724185800@www.cypresschristian.org
SUMMARY:Volleyball - JV Girls  @ Tarkington/Richards
DESCRIPTION:
URL:https://www.cypresschristian.org/event/volleyball-jv-girls-tarkington-richards/
LOCATION:Tarkington High School\, 2770 FM 163\, Cleveland\, TX\, 77327\, United States
CATEGORIES:Athletics
GEO:30.3108265;-94.9602252
X-APPLE-STRUCTURED-LOCATION;VALUE=URI;X-ADDRESS=Tarkington High School 2770 FM 163 Cleveland TX 77327 United States;X-APPLE-RADIUS=500;X-TITLE=2770 FM 163:geo:-94.9602252,30.3108265
END:VEVENT
BEGIN:VEVENT
DTSTART;TZID=America/Chicago:20240820T183000
DTEND;TZID=America/Chicago:20240820T203000
DTSTAMP:20260419T174804
CREATED:20240811T222037Z
LAST-MODIFIED:20240813T024602Z
UID:10000730-1724178600-1724185800@www.cypresschristian.org
SUMMARY:Volleyball - Varsity Girls  @ Tarkington/Richards
DESCRIPTION:
URL:https://www.cypresschristian.org/event/volleyball-varsity-girls-tarkington-richards-tri-match/
LOCATION:Tarkington High School\, 2770 FM 163\, Cleveland\, TX\, 77327\, United States
CATEGORIES:Athletics
GEO:30.3108265;-94.9602252
X-APPLE-STRUCTURED-LOCATION;VALUE=URI;X-ADDRESS=Tarkington High School 2770 FM 163 Cleveland TX 77327 United States;X-APPLE-RADIUS=500;X-TITLE=2770 FM 163:geo:-94.9602252,30.3108265
END:VEVENT
BEGIN:VEVENT
DTSTART;VALUE=DATE:20240822
DTEND;VALUE=DATE:20240823
DTSTAMP:20260419T174804
CREATED:20240813T024506Z
LAST-MODIFIED:20240813T024506Z
UID:10000731-1724284800-1724371199@www.cypresschristian.org
SUMMARY:Volleyball - Varsity Girls  @ Tarkington High School Tournament
DESCRIPTION:
URL:https://www.cypresschristian.org/event/volleyball-varsity-girls-tarkington-high-school-tournament-3/
LOCATION:Tarkington High School\, 2770 FM 163\, Cleveland\, TX\, 77327\, United States
CATEGORIES:Athletics
GEO:30.3108265;-94.9602252
X-APPLE-STRUCTURED-LOCATION;VALUE=URI;X-ADDRESS=Tarkington High School 2770 FM 163 Cleveland TX 77327 United States;X-APPLE-RADIUS=500;X-TITLE=2770 FM 163:geo:-94.9602252,30.3108265
END:VEVENT
BEGIN:VEVENT
DTSTART;VALUE=DATE:20240822
DTEND;VALUE=DATE:20240823
DTSTAMP:20260419T174804
CREATED:20240811T195038Z
LAST-MODIFIED:20240811T201428Z
UID:10000710-1724284800-1724371199@www.cypresschristian.org
SUMMARY:Football - Middle School-A @ Brazos Christian
DESCRIPTION:
URL:https://www.cypresschristian.org/event/football-ms-a-brazos-christian-school/
LOCATION:Brazos Christian School\, 3000 W. Villa Maria Rd.\, Bryan\, TX\, 77807\, United States
CATEGORIES:Athletics
GEO:30.6154836;-96.4018296
X-APPLE-STRUCTURED-LOCATION;VALUE=URI;X-ADDRESS=Brazos Christian School 3000 W. Villa Maria Rd. Bryan TX 77807 United States;X-APPLE-RADIUS=500;X-TITLE=3000 W. Villa Maria Rd.:geo:-96.4018296,30.6154836
END:VEVENT
BEGIN:VEVENT
DTSTART;TZID=America/Chicago:20240822T163000
DTEND;TZID=America/Chicago:20240822T173000
DTSTAMP:20260419T174804
CREATED:20240819T175613Z
LAST-MODIFIED:20240819T175613Z
UID:10000839-1724344200-1724347800@www.cypresschristian.org
SUMMARY:Volleyball-Middle School C vs Second Baptist
DESCRIPTION:
URL:https://www.cypresschristian.org/event/volleyball-middle-school-c-vs-second-baptist/
LOCATION:West Gym\, 11123 Cypress North Houston Rd.\, Houston\, TX\, 77065\, United States
CATEGORIES:Athletics
GEO:29.9520346;-95.5875756
X-APPLE-STRUCTURED-LOCATION;VALUE=URI;X-ADDRESS=West Gym 11123 Cypress North Houston Rd. Houston TX 77065 United States;X-APPLE-RADIUS=500;X-TITLE=11123 Cypress North Houston Rd.:geo:-95.5875756,29.9520346
END:VEVENT
BEGIN:VEVENT
DTSTART;TZID=America/Chicago:20240822T173000
DTEND;TZID=America/Chicago:20240822T183000
DTSTAMP:20260419T174804
CREATED:20240816T203214Z
LAST-MODIFIED:20240816T203214Z
UID:10000820-1724347800-1724351400@www.cypresschristian.org
SUMMARY:Volleyball-Middle School B vs Second Baptist
DESCRIPTION:
URL:https://www.cypresschristian.org/event/volleyball-middle-school-b-vs-second-baptist/
LOCATION:West Gym\, 11123 Cypress North Houston Rd.\, Houston\, TX\, 77065\, United States
CATEGORIES:Athletics
GEO:29.9520346;-95.5875756
X-APPLE-STRUCTURED-LOCATION;VALUE=URI;X-ADDRESS=West Gym 11123 Cypress North Houston Rd. Houston TX 77065 United States;X-APPLE-RADIUS=500;X-TITLE=11123 Cypress North Houston Rd.:geo:-95.5875756,29.9520346
END:VEVENT
BEGIN:VEVENT
DTSTART;TZID=America/Chicago:20240822T180000
DTEND;TZID=America/Chicago:20240822T203000
DTSTAMP:20260419T174804
CREATED:20240408T185715Z
LAST-MODIFIED:20240816T210213Z
UID:10000621-1724349600-1724358600@www.cypresschristian.org
SUMMARY:Football - Varsity  @ St. John XXIII-Scrimmage
DESCRIPTION:
URL:https://www.cypresschristian.org/event/football-varsity-vs-st-john-paul-xxiii-scrimmage-2/
LOCATION:St. John XXIII\, 1800 West Grand Parkway North\, Katy\, TX\, 77449\, United States
CATEGORIES:Athletics
GEO:29.8009895;-95.7711325
X-APPLE-STRUCTURED-LOCATION;VALUE=URI;X-ADDRESS=St. John XXIII 1800 West Grand Parkway North Katy TX 77449 United States;X-APPLE-RADIUS=500;X-TITLE=1800 West Grand Parkway North:geo:-95.7711325,29.8009895
END:VEVENT
BEGIN:VEVENT
DTSTART;TZID=America/Chicago:20240822T180000
DTEND;TZID=America/Chicago:20240822T203000
DTSTAMP:20260419T174804
CREATED:20240815T200950Z
LAST-MODIFIED:20240816T210344Z
UID:10000797-1724349600-1724358600@www.cypresschristian.org
SUMMARY:Football - JV  @ St. John XXIII-Scrimmage
DESCRIPTION:
URL:https://www.cypresschristian.org/event/football-jv-st-john-xxiii-scrimmage/
LOCATION:St. John XXIII\, 1800 West Grand Parkway North\, Katy\, TX\, 77449\, United States
CATEGORIES:Athletics
GEO:29.8009895;-95.7711325
X-APPLE-STRUCTURED-LOCATION;VALUE=URI;X-ADDRESS=St. John XXIII 1800 West Grand Parkway North Katy TX 77449 United States;X-APPLE-RADIUS=500;X-TITLE=1800 West Grand Parkway North:geo:-95.7711325,29.8009895
END:VEVENT
BEGIN:VEVENT
DTSTART;TZID=America/Chicago:20240822T183000
DTEND;TZID=America/Chicago:20240822T193000
DTSTAMP:20260419T174804
CREATED:20240612T170023Z
LAST-MODIFIED:20240816T145113Z
UID:10000678-1724351400-1724355000@www.cypresschristian.org
SUMMARY:Volleyball-Middle School A vs Second Baptist
DESCRIPTION:
URL:https://www.cypresschristian.org/event/volleyball-middle-school-a-second-baptist/
LOCATION:West Gym\, 11123 Cypress North Houston Rd.\, Houston\, TX\, 77065\, United States
CATEGORIES:Athletics
GEO:29.9520346;-95.5875756
X-APPLE-STRUCTURED-LOCATION;VALUE=URI;X-ADDRESS=West Gym 11123 Cypress North Houston Rd. Houston TX 77065 United States;X-APPLE-RADIUS=500;X-TITLE=11123 Cypress North Houston Rd.:geo:-95.5875756,29.9520346
END:VEVENT
BEGIN:VEVENT
DTSTART;VALUE=DATE:20240823
DTEND;VALUE=DATE:20240824
DTSTAMP:20260419T174804
CREATED:20240813T024701Z
LAST-MODIFIED:20240813T024701Z
UID:10000732-1724371200-1724457599@www.cypresschristian.org
SUMMARY:Volleyball - Varsity Girls  @ Tarkington High School Tournament
DESCRIPTION:
URL:https://www.cypresschristian.org/event/volleyball-varsity-girls-tarkington-high-school-tournament/
LOCATION:Tarkington High School\, 2770 FM 163\, Cleveland\, TX\, 77327\, United States
CATEGORIES:Athletics
GEO:30.3108265;-94.9602252
X-APPLE-STRUCTURED-LOCATION;VALUE=URI;X-ADDRESS=Tarkington High School 2770 FM 163 Cleveland TX 77327 United States;X-APPLE-RADIUS=500;X-TITLE=2770 FM 163:geo:-94.9602252,30.3108265
END:VEVENT
END:VCALENDAR