BEGIN:VCALENDAR
VERSION:2.0
PRODID:-//Cypress Christian School - ECPv6.15.19//NONSGML v1.0//EN
CALSCALE:GREGORIAN
METHOD:PUBLISH
X-ORIGINAL-URL:https://www.cypresschristian.org
X-WR-CALDESC:Events for Cypress Christian School
REFRESH-INTERVAL;VALUE=DURATION:PT1H
X-Robots-Tag:noindex
X-PUBLISHED-TTL:PT1H
BEGIN:VTIMEZONE
TZID:America/Chicago
BEGIN:DAYLIGHT
TZOFFSETFROM:-0600
TZOFFSETTO:-0500
TZNAME:CDT
DTSTART:20230312T080000
END:DAYLIGHT
BEGIN:STANDARD
TZOFFSETFROM:-0500
TZOFFSETTO:-0600
TZNAME:CST
DTSTART:20231105T070000
END:STANDARD
BEGIN:DAYLIGHT
TZOFFSETFROM:-0600
TZOFFSETTO:-0500
TZNAME:CDT
DTSTART:20240310T080000
END:DAYLIGHT
BEGIN:STANDARD
TZOFFSETFROM:-0500
TZOFFSETTO:-0600
TZNAME:CST
DTSTART:20241103T070000
END:STANDARD
BEGIN:DAYLIGHT
TZOFFSETFROM:-0600
TZOFFSETTO:-0500
TZNAME:CDT
DTSTART:20250309T080000
END:DAYLIGHT
BEGIN:STANDARD
TZOFFSETFROM:-0500
TZOFFSETTO:-0600
TZNAME:CST
DTSTART:20251102T070000
END:STANDARD
END:VTIMEZONE
BEGIN:VEVENT
DTSTART;TZID=America/Chicago:20240501T000000
DTEND;TZID=America/Chicago:20240501T235900
DTSTAMP:20260419T225335
CREATED:20240209T134325Z
LAST-MODIFIED:20240209T134325Z
UID:10000487-1714521600-1714607940@www.cypresschristian.org
SUMMARY:Standardized Testing (Elementary Only)
DESCRIPTION:
URL:https://www.cypresschristian.org/event/standardized-testing-elementary-only-4/
LOCATION:East Gym\, 11123 Cypress North Houston Rd\, Houston\, TX\, 77065\, United States
CATEGORIES:Academic
GEO:29.9520346;-95.5875756
X-APPLE-STRUCTURED-LOCATION;VALUE=URI;X-ADDRESS=East Gym 11123 Cypress North Houston Rd Houston TX 77065 United States;X-APPLE-RADIUS=500;X-TITLE=11123 Cypress North Houston Rd:geo:-95.5875756,29.9520346
END:VEVENT
BEGIN:VEVENT
DTSTART;TZID=America/Chicago:20240501T000000
DTEND;TZID=America/Chicago:20240501T235900
DTSTAMP:20260419T225335
CREATED:20240209T134843Z
LAST-MODIFIED:20240209T134843Z
UID:10000492-1714521600-1714607940@www.cypresschristian.org
SUMMARY:Teacher Appreciation Week
DESCRIPTION:
URL:https://www.cypresschristian.org/event/teacher-appreciation-week-4/
LOCATION:East Gym Foyer\, 11123 Cypress North Houston Rd.\, Houston\, TX\, 77065
CATEGORIES:Academic
GEO:29.9520346;-95.5875756
X-APPLE-STRUCTURED-LOCATION;VALUE=URI;X-ADDRESS=East Gym Foyer 11123 Cypress North Houston Rd. Houston TX 77065;X-APPLE-RADIUS=500;X-TITLE=11123 Cypress North Houston Rd.:geo:-95.5875756,29.9520346
END:VEVENT
BEGIN:VEVENT
DTSTART;TZID=America/Chicago:20240502T000000
DTEND;TZID=America/Chicago:20240502T235900
DTSTAMP:20260419T225335
CREATED:20240209T134325Z
LAST-MODIFIED:20240209T134325Z
UID:10000488-1714608000-1714694340@www.cypresschristian.org
SUMMARY:Standardized Testing (Elementary Only)
DESCRIPTION:
URL:https://www.cypresschristian.org/event/standardized-testing-elementary-only-3/
LOCATION:East Gym\, 11123 Cypress North Houston Rd\, Houston\, TX\, 77065\, United States
CATEGORIES:Academic
GEO:29.9520346;-95.5875756
X-APPLE-STRUCTURED-LOCATION;VALUE=URI;X-ADDRESS=East Gym 11123 Cypress North Houston Rd Houston TX 77065 United States;X-APPLE-RADIUS=500;X-TITLE=11123 Cypress North Houston Rd:geo:-95.5875756,29.9520346
END:VEVENT
BEGIN:VEVENT
DTSTART;VALUE=DATE:20240502
DTEND;VALUE=DATE:20240503
DTSTAMP:20260419T225335
CREATED:20240209T134843Z
LAST-MODIFIED:20240604T152056Z
UID:10000493-1714608000-1714694399@www.cypresschristian.org
SUMMARY:Teacher Appreciation Week
DESCRIPTION:
URL:https://www.cypresschristian.org/event/teacher-appreciation-week-3/
LOCATION:East Gym Foyer\, 11123 Cypress North Houston Rd.\, Houston\, TX\, 77065
CATEGORIES:Academic
GEO:29.9520346;-95.5875756
X-APPLE-STRUCTURED-LOCATION;VALUE=URI;X-ADDRESS=East Gym Foyer 11123 Cypress North Houston Rd. Houston TX 77065;X-APPLE-RADIUS=500;X-TITLE=11123 Cypress North Houston Rd.:geo:-95.5875756,29.9520346
END:VEVENT
BEGIN:VEVENT
DTSTART;TZID=America/Chicago:20240503T000000
DTEND;TZID=America/Chicago:20240503T235900
DTSTAMP:20260419T225335
CREATED:20240209T134325Z
LAST-MODIFIED:20240209T134325Z
UID:10000489-1714694400-1714780740@www.cypresschristian.org
SUMMARY:Standardized Testing (Elementary Only)
DESCRIPTION:
URL:https://www.cypresschristian.org/event/standardized-testing-elementary-only-2/
LOCATION:East Gym\, 11123 Cypress North Houston Rd\, Houston\, TX\, 77065\, United States
CATEGORIES:Academic
GEO:29.9520346;-95.5875756
X-APPLE-STRUCTURED-LOCATION;VALUE=URI;X-ADDRESS=East Gym 11123 Cypress North Houston Rd Houston TX 77065 United States;X-APPLE-RADIUS=500;X-TITLE=11123 Cypress North Houston Rd:geo:-95.5875756,29.9520346
END:VEVENT
BEGIN:VEVENT
DTSTART;TZID=America/Chicago:20240503T000000
DTEND;TZID=America/Chicago:20240503T235900
DTSTAMP:20260419T225335
CREATED:20240209T134843Z
LAST-MODIFIED:20240209T134843Z
UID:10000494-1714694400-1714780740@www.cypresschristian.org
SUMMARY:Teacher Appreciation Week
DESCRIPTION:
URL:https://www.cypresschristian.org/event/teacher-appreciation-week-2/
LOCATION:East Gym Foyer\, 11123 Cypress North Houston Rd.\, Houston\, TX\, 77065
CATEGORIES:Academic
GEO:29.9520346;-95.5875756
X-APPLE-STRUCTURED-LOCATION;VALUE=URI;X-ADDRESS=East Gym Foyer 11123 Cypress North Houston Rd. Houston TX 77065;X-APPLE-RADIUS=500;X-TITLE=11123 Cypress North Houston Rd.:geo:-95.5875756,29.9520346
END:VEVENT
BEGIN:VEVENT
DTSTART;VALUE=DATE:20240503
DTEND;VALUE=DATE:20240504
DTSTAMP:20260419T225335
CREATED:20240209T135024Z
LAST-MODIFIED:20240427T152943Z
UID:10000495-1714694400-1714780799@www.cypresschristian.org
SUMMARY:Early Dismissal/Teacher In-Service
DESCRIPTION:
URL:https://www.cypresschristian.org/event/early-dismissal-teacher-in-service-3/
LOCATION:East Gym\, 11123 Cypress North Houston Rd\, Houston\, TX\, 77065\, United States
CATEGORIES:Academic
GEO:29.9520346;-95.5875756
X-APPLE-STRUCTURED-LOCATION;VALUE=URI;X-ADDRESS=East Gym 11123 Cypress North Houston Rd Houston TX 77065 United States;X-APPLE-RADIUS=500;X-TITLE=11123 Cypress North Houston Rd:geo:-95.5875756,29.9520346
END:VEVENT
BEGIN:VEVENT
DTSTART;TZID=America/Chicago:20240503T080000
DTEND;TZID=America/Chicago:20240503T170000
DTSTAMP:20260419T225335
CREATED:20240209T185407Z
LAST-MODIFIED:20240430T160152Z
UID:10000517-1714723200-1714755600@www.cypresschristian.org
SUMMARY:Track & Field - Varsity  TAPPS State Track and Field Championships
DESCRIPTION:
URL:https://www.cypresschristian.org/event/track-field-varsity-tapps-state-track-and-field-championships/
LOCATION:Panther Stadium-Midway ISD\, 800 North Hewitt Drive\, Hewitt\, TX\, 76643\, United States
CATEGORIES:Athletics
GEO:31.4790273;-97.2038047
X-APPLE-STRUCTURED-LOCATION;VALUE=URI;X-ADDRESS=Panther Stadium-Midway ISD 800 North Hewitt Drive Hewitt TX 76643 United States;X-APPLE-RADIUS=500;X-TITLE=800 North Hewitt Drive:geo:-97.2038047,31.4790273
END:VEVENT
BEGIN:VEVENT
DTSTART;TZID=America/Chicago:20240503T170000
DTEND;TZID=America/Chicago:20240503T190000
DTSTAMP:20260419T225335
CREATED:20240321T135819Z
LAST-MODIFIED:20240424T190515Z
UID:10000594-1714755600-1714762800@www.cypresschristian.org
SUMMARY:Softball - Varsity TAPPS Regional Series-Incarnate Word Corpus Christi
DESCRIPTION:
URL:https://www.cypresschristian.org/event/softball-varsity-vs-tapps-regionals/
LOCATION:CCS Softball Field\, 21455 Bridgeland Creek Pkwy\, Cypress\, TX\, 77433\, United States
CATEGORIES:Athletics
GEO:29.9520346;-95.5875756
X-APPLE-STRUCTURED-LOCATION;VALUE=URI;X-ADDRESS=CCS Softball Field 21455 Bridgeland Creek Pkwy Cypress TX 77433 United States;X-APPLE-RADIUS=500;X-TITLE=21455 Bridgeland Creek Pkwy:geo:-95.5875756,29.9520346
END:VEVENT
BEGIN:VEVENT
DTSTART;TZID=America/Chicago:20240504T080000
DTEND;TZID=America/Chicago:20240504T170000
DTSTAMP:20260419T225335
CREATED:20240321T152251Z
LAST-MODIFIED:20240430T160244Z
UID:10000601-1714809600-1714842000@www.cypresschristian.org
SUMMARY:Track & Field - Varsity  TAPPS State Track and Field Championships
DESCRIPTION:
URL:https://www.cypresschristian.org/event/track-field-varsity-tapps-state-track-and-field-championships-2/
LOCATION:Panther Stadium-Midway ISD\, 800 North Hewitt Drive\, Hewitt\, TX\, 76643\, United States
CATEGORIES:Athletics
GEO:31.4790273;-97.2038047
X-APPLE-STRUCTURED-LOCATION;VALUE=URI;X-ADDRESS=Panther Stadium-Midway ISD 800 North Hewitt Drive Hewitt TX 76643 United States;X-APPLE-RADIUS=500;X-TITLE=800 North Hewitt Drive:geo:-97.2038047,31.4790273
END:VEVENT
BEGIN:VEVENT
DTSTART;TZID=America/Chicago:20240504T140000
DTEND;TZID=America/Chicago:20240504T160000
DTSTAMP:20260419T225335
CREATED:20240424T190635Z
LAST-MODIFIED:20240424T190635Z
UID:10000637-1714831200-1714838400@www.cypresschristian.org
SUMMARY:Softball - Varsity TAPPS Regional Series-Incarnate Word Corpus Christi
DESCRIPTION:
URL:https://www.cypresschristian.org/event/softball-varsity-tapps-regional-series-incarnate-word-corpus-christi-2/
LOCATION:TX
CATEGORIES:Athletics
END:VEVENT
BEGIN:VEVENT
DTSTART;TZID=America/Chicago:20240504T140000
DTEND;TZID=America/Chicago:20240504T163000
DTSTAMP:20260419T225335
CREATED:20240424T185207Z
LAST-MODIFIED:20240503T211351Z
UID:10000636-1714831200-1714840200@www.cypresschristian.org
SUMMARY:Softball - Varsity TAPPS Regional Series-Incarnate Word Corpus Christi
DESCRIPTION:
URL:https://www.cypresschristian.org/event/softball-varsity-tapps-regional-series-incarnate-word-corpus-christi/
LOCATION:Incarnate Word Academy-Corpus Christi\, 2920 S. Alameda St.\, Corpus Christi\, TX\, 78404\, United States
CATEGORIES:Athletics
GEO:31.9685988;-99.9018131
X-APPLE-STRUCTURED-LOCATION;VALUE=URI;X-ADDRESS=Incarnate Word Academy-Corpus Christi 2920 S. Alameda St. Corpus Christi TX 78404 United States;X-APPLE-RADIUS=500;X-TITLE=2920 S. Alameda St.:geo:-99.9018131,31.9685988
END:VEVENT
BEGIN:VEVENT
DTSTART;TZID=America/Chicago:20240506T173000
DTEND;TZID=America/Chicago:20240506T190000
DTSTAMP:20260419T225335
CREATED:20240503T210637Z
LAST-MODIFIED:20240506T133259Z
UID:10000639-1715016600-1715022000@www.cypresschristian.org
SUMMARY:Softball - Varsity TAPPS Regional Series-Incarnate Word Corpus Christi
DESCRIPTION:
URL:https://www.cypresschristian.org/event/softball-varsity-tapps-regional-series-incarnate-word-corpus-christi-3/
LOCATION:Crosby High School\, 333 Red Summit Dr.\, Crosby\, TX\, 77532\, United States
CATEGORIES:Athletics
GEO:29.8952212;-95.0681646
X-APPLE-STRUCTURED-LOCATION;VALUE=URI;X-ADDRESS=Crosby High School 333 Red Summit Dr. Crosby TX 77532 United States;X-APPLE-RADIUS=500;X-TITLE=333 Red Summit Dr.:geo:-95.0681646,29.8952212
END:VEVENT
BEGIN:VEVENT
DTSTART;TZID=America/Chicago:20240507T180000
DTEND;TZID=America/Chicago:20240507T200000
DTSTAMP:20260419T225335
CREATED:20240321T151528Z
LAST-MODIFIED:20240506T134525Z
UID:10000598-1715104800-1715112000@www.cypresschristian.org
SUMMARY:Baseball - Varsity @ TAPPS Regionals vs Geneva School of Boerne
DESCRIPTION:
URL:https://www.cypresschristian.org/event/baseball-varsity-tapps-regionals-vs-geneva-school-of-boerne/
LOCATION:La Grange High School-Baseball Field\, 910 S. Vail St.\, La Grange\, TX\, 78945\, United States
CATEGORIES:Athletics
GEO:29.9004425;-96.8623025
X-APPLE-STRUCTURED-LOCATION;VALUE=URI;X-ADDRESS=La Grange High School-Baseball Field 910 S. Vail St. La Grange TX 78945 United States;X-APPLE-RADIUS=500;X-TITLE=910 S. Vail St.:geo:-96.8623025,29.9004425
END:VEVENT
BEGIN:VEVENT
DTSTART;VALUE=DATE:20240509
DTEND;VALUE=DATE:20240510
DTSTAMP:20260419T225335
CREATED:20240227T175935Z
LAST-MODIFIED:20240423T143554Z
UID:10000570-1715212800-1715299199@www.cypresschristian.org
SUMMARY:Elementary Mother's Day Chapel
DESCRIPTION:This is a special chapel to honor CCS elementary moms. \n 
URL:https://www.cypresschristian.org/event/elementary-mothers-day-chapel/
LOCATION:East Gym\, 11123 Cypress North Houston Rd.\, Houston\, TX\, 77065\, United States
CATEGORIES:Academic,Student Life
GEO:29.9520346;-95.5875756
X-APPLE-STRUCTURED-LOCATION;VALUE=URI;X-ADDRESS=East Gym 11123 Cypress North Houston Rd. Houston TX 77065 United States;X-APPLE-RADIUS=500;X-TITLE=11123 Cypress North Houston Rd.:geo:-95.5875756,29.9520346
END:VEVENT
BEGIN:VEVENT
DTSTART;TZID=America/Chicago:20240510T163000
DTEND;TZID=America/Chicago:20240510T183000
DTSTAMP:20260419T225335
CREATED:20240321T140030Z
LAST-MODIFIED:20240509T172452Z
UID:10000595-1715358600-1715365800@www.cypresschristian.org
SUMMARY:Softball - Varsity vs. Holy Cross of San Antonio TAPPS Semifinals
DESCRIPTION:
URL:https://www.cypresschristian.org/event/softball-varsity-vs-holy-cross-of-san-antonio-tapps-semifinalstapps-state/
LOCATION:Allan Saxe Field-UT Arlington Softball\, 1400 Maverick\, Arlington\, TX\, 76013\, United States
CATEGORIES:Athletics
GEO:32.7226746;-97.1303729
X-APPLE-STRUCTURED-LOCATION;VALUE=URI;X-ADDRESS=Allan Saxe Field-UT Arlington Softball 1400 Maverick Arlington TX 76013 United States;X-APPLE-RADIUS=500;X-TITLE=1400 Maverick:geo:-97.1303729,32.7226746
END:VEVENT
BEGIN:VEVENT
DTSTART;TZID=America/Chicago:20240511T133000
DTEND;TZID=America/Chicago:20240511T153000
DTSTAMP:20260419T225335
CREATED:20240321T140117Z
LAST-MODIFIED:20240509T172714Z
UID:10000596-1715434200-1715441400@www.cypresschristian.org
SUMMARY:Softball - Varsity vs. TAPPS State Championship
DESCRIPTION:
URL:https://www.cypresschristian.org/event/softball-varsity-vs-tapps-state-championship/
LOCATION:Allan Saxe Field-UT Arlington Softball\, 1400 Maverick\, Arlington\, TX\, 76013\, United States
CATEGORIES:Athletics
GEO:32.7226746;-97.1303729
X-APPLE-STRUCTURED-LOCATION;VALUE=URI;X-ADDRESS=Allan Saxe Field-UT Arlington Softball 1400 Maverick Arlington TX 76013 United States;X-APPLE-RADIUS=500;X-TITLE=1400 Maverick:geo:-97.1303729,32.7226746
END:VEVENT
BEGIN:VEVENT
DTSTART;TZID=America/Chicago:20240513T100000
DTEND;TZID=America/Chicago:20240513T120000
DTSTAMP:20260419T225335
CREATED:20240321T151742Z
LAST-MODIFIED:20240509T171522Z
UID:10000599-1715594400-1715601600@www.cypresschristian.org
SUMMARY:Baseball - Varsity vs. Bay Area Christian TAPPS Semifinals
DESCRIPTION:
URL:https://www.cypresschristian.org/event/baseball-varsity-vs-bay-area-christian-tapps-semifinals/
LOCATION:Clay Gould Ballpark-UT Arlington-Baseball\, 1400 Maverick\, Arlington\, TX\, 76013\, United States
CATEGORIES:Athletics
GEO:32.7226746;-97.1303729
X-APPLE-STRUCTURED-LOCATION;VALUE=URI;X-ADDRESS=Clay Gould Ballpark-UT Arlington-Baseball 1400 Maverick Arlington TX 76013 United States;X-APPLE-RADIUS=500;X-TITLE=1400 Maverick:geo:-97.1303729,32.7226746
END:VEVENT
BEGIN:VEVENT
DTSTART;TZID=America/Chicago:20240514T100000
DTEND;TZID=America/Chicago:20240514T120000
DTSTAMP:20260419T225335
CREATED:20240321T151816Z
LAST-MODIFIED:20240509T171955Z
UID:10000600-1715680800-1715688000@www.cypresschristian.org
SUMMARY:Baseball - Varsity vs. TAPPS State Championship
DESCRIPTION:
URL:https://www.cypresschristian.org/event/baseball-varsity-vs-tapps-state-championship/
LOCATION:Clay Gould Ballpark-UT Arlington-Baseball\, 1400 Maverick\, Arlington\, TX\, 76013\, United States
CATEGORIES:Athletics
GEO:32.7226746;-97.1303729
X-APPLE-STRUCTURED-LOCATION;VALUE=URI;X-ADDRESS=Clay Gould Ballpark-UT Arlington-Baseball 1400 Maverick Arlington TX 76013 United States;X-APPLE-RADIUS=500;X-TITLE=1400 Maverick:geo:-97.1303729,32.7226746
END:VEVENT
BEGIN:VEVENT
DTSTART;TZID=America/Chicago:20240520T183000
DTEND;TZID=America/Chicago:20240520T200000
DTSTAMP:20260419T225335
CREATED:20240321T215331Z
LAST-MODIFIED:20240321T215331Z
UID:10000606-1716229800-1716235200@www.cypresschristian.org
SUMMARY:Kindergarten Graduation
DESCRIPTION:Kindergarten Graduation Ceremony at The MET Church
URL:https://www.cypresschristian.org/event/kindergarten-graduation/
LOCATION:The MET Church\, The MET Church\, 13000 Jones Road\, Houston\, TX\, 77070\, United States
CATEGORIES:Student Life
GEO:29.97967;-95.572835
X-APPLE-STRUCTURED-LOCATION;VALUE=URI;X-ADDRESS=The MET Church The MET Church 13000 Jones Road Houston TX 77070 United States;X-APPLE-RADIUS=500;X-TITLE=The MET Church\, 13000 Jones Road:geo:-95.572835,29.97967
END:VEVENT
BEGIN:VEVENT
DTSTART;TZID=America/Chicago:20240521T083000
DTEND;TZID=America/Chicago:20240521T103000
DTSTAMP:20260419T225335
CREATED:20240326T142313Z
LAST-MODIFIED:20240423T141022Z
UID:10000613-1716280200-1716287400@www.cypresschristian.org
SUMMARY:5th Grade Promotion
DESCRIPTION:
URL:https://www.cypresschristian.org/event/5th-grade-promotion/
LOCATION:East Gym\, 11123 Cypress North Houston Rd.\, Houston\, TX\, 77065\, United States
CATEGORIES:Student Life
GEO:29.9520346;-95.5875756
X-APPLE-STRUCTURED-LOCATION;VALUE=URI;X-ADDRESS=East Gym 11123 Cypress North Houston Rd. Houston TX 77065 United States;X-APPLE-RADIUS=500;X-TITLE=11123 Cypress North Houston Rd.:geo:-95.5875756,29.9520346
END:VEVENT
BEGIN:VEVENT
DTSTART;VALUE=DATE:20240522
DTEND;VALUE=DATE:20240523
DTSTAMP:20260419T225335
CREATED:20240209T135144Z
LAST-MODIFIED:20240209T135144Z
UID:10000496-1716336000-1716422399@www.cypresschristian.org
SUMMARY:Last Day of School/Special Activities/Early Dismissal
DESCRIPTION:
URL:https://www.cypresschristian.org/event/last-day-of-school-special-activities-early-dismissal/
LOCATION:East Gym\, 11123 Cypress North Houston Rd\, Houston\, TX\, 77065\, United States
CATEGORIES:Academic
GEO:29.9520346;-95.5875756
X-APPLE-STRUCTURED-LOCATION;VALUE=URI;X-ADDRESS=East Gym 11123 Cypress North Houston Rd Houston TX 77065 United States;X-APPLE-RADIUS=500;X-TITLE=11123 Cypress North Houston Rd:geo:-95.5875756,29.9520346
END:VEVENT
BEGIN:VEVENT
DTSTART;TZID=America/Chicago:20240522T093000
DTEND;TZID=America/Chicago:20240522T120000
DTSTAMP:20260419T225335
CREATED:20231220T163458Z
LAST-MODIFIED:20240319T144102Z
UID:10000242-1716370200-1716379200@www.cypresschristian.org
SUMMARY:8th grade End of Year Assembly
DESCRIPTION:8th grade end of middle school celebration and academic awards assembly in East Gym. Families are encouraged to attend.
URL:https://www.cypresschristian.org/event/8th-grade-end-of-year-assembly/
LOCATION:East Gym\, 11123 Cypress North Houston Rd.\, Houston\, TX\, 77065\, United States
CATEGORIES:Academic
GEO:29.9520346;-95.5875756
X-APPLE-STRUCTURED-LOCATION;VALUE=URI;X-ADDRESS=East Gym 11123 Cypress North Houston Rd. Houston TX 77065 United States;X-APPLE-RADIUS=500;X-TITLE=11123 Cypress North Houston Rd.:geo:-95.5875756,29.9520346
END:VEVENT
BEGIN:VEVENT
DTSTART;VALUE=DATE:20240523
DTEND;VALUE=DATE:20240524
DTSTAMP:20260419T225335
CREATED:20240209T135320Z
LAST-MODIFIED:20240209T135320Z
UID:10000498-1716422400-1716508799@www.cypresschristian.org
SUMMARY:Teacher In-Service
DESCRIPTION:
URL:https://www.cypresschristian.org/event/teacher-in-service-2/
LOCATION:East Gym\, 11123 Cypress North Houston Rd\, Houston\, TX\, 77065\, United States
CATEGORIES:Academic
GEO:29.9520346;-95.5875756
X-APPLE-STRUCTURED-LOCATION;VALUE=URI;X-ADDRESS=East Gym 11123 Cypress North Houston Rd Houston TX 77065 United States;X-APPLE-RADIUS=500;X-TITLE=11123 Cypress North Houston Rd:geo:-95.5875756,29.9520346
END:VEVENT
BEGIN:VEVENT
DTSTART;VALUE=DATE:20240524
DTEND;VALUE=DATE:20240525
DTSTAMP:20260419T225335
CREATED:20240209T135351Z
LAST-MODIFIED:20240209T135351Z
UID:10000499-1716508800-1716595199@www.cypresschristian.org
SUMMARY:Teacher In-Service
DESCRIPTION:
URL:https://www.cypresschristian.org/event/teacher-in-service-3/
LOCATION:East Gym\, 11123 Cypress North Houston Rd\, Houston\, TX\, 77065\, United States
CATEGORIES:Academic
GEO:29.9520346;-95.5875756
X-APPLE-STRUCTURED-LOCATION;VALUE=URI;X-ADDRESS=East Gym 11123 Cypress North Houston Rd Houston TX 77065 United States;X-APPLE-RADIUS=500;X-TITLE=11123 Cypress North Houston Rd:geo:-95.5875756,29.9520346
END:VEVENT
BEGIN:VEVENT
DTSTART;TZID=America/Chicago:20240524T110000
DTEND;TZID=America/Chicago:20240524T130000
DTSTAMP:20260419T225335
CREATED:20231220T163459Z
LAST-MODIFIED:20240321T215751Z
UID:10000243-1716548400-1716555600@www.cypresschristian.org
SUMMARY:Rehearsal - High School Graduation
DESCRIPTION:Rehearsal – High School Graduation
URL:https://www.cypresschristian.org/event/rehearsal-high-school-graduation/
LOCATION:The MET Church\, The MET Church\, 13000 Jones Road\, Houston\, TX\, 77070\, United States
CATEGORIES:Academic
GEO:29.97967;-95.572835
X-APPLE-STRUCTURED-LOCATION;VALUE=URI;X-ADDRESS=The MET Church The MET Church 13000 Jones Road Houston TX 77070 United States;X-APPLE-RADIUS=500;X-TITLE=The MET Church\, 13000 Jones Road:geo:-95.572835,29.97967
END:VEVENT
BEGIN:VEVENT
DTSTART;TZID=America/Chicago:20240524T190000
DTEND;TZID=America/Chicago:20240524T210000
DTSTAMP:20260419T225335
CREATED:20231220T163459Z
LAST-MODIFIED:20240319T143845Z
UID:10000244-1716577200-1716584400@www.cypresschristian.org
SUMMARY:High School Graduation
DESCRIPTION:High School Graduation
URL:https://www.cypresschristian.org/event/high-school-graduation/
LOCATION:The MET Church\, The MET Church\, 13000 Jones Road\, Houston\, TX\, 77070\, United States
CATEGORIES:Academic
GEO:29.97967;-95.572835
X-APPLE-STRUCTURED-LOCATION;VALUE=URI;X-ADDRESS=The MET Church The MET Church 13000 Jones Road Houston TX 77070 United States;X-APPLE-RADIUS=500;X-TITLE=The MET Church\, 13000 Jones Road:geo:-95.572835,29.97967
END:VEVENT
END:VCALENDAR