BEGIN:VCALENDAR
VERSION:2.0
PRODID:-//Cypress Christian School - ECPv6.15.19//NONSGML v1.0//EN
CALSCALE:GREGORIAN
METHOD:PUBLISH
X-ORIGINAL-URL:https://www.cypresschristian.org
X-WR-CALDESC:Events for Cypress Christian School
REFRESH-INTERVAL;VALUE=DURATION:PT1H
X-Robots-Tag:noindex
X-PUBLISHED-TTL:PT1H
BEGIN:VTIMEZONE
TZID:America/Chicago
BEGIN:DAYLIGHT
TZOFFSETFROM:-0600
TZOFFSETTO:-0500
TZNAME:CDT
DTSTART:20230312T080000
END:DAYLIGHT
BEGIN:STANDARD
TZOFFSETFROM:-0500
TZOFFSETTO:-0600
TZNAME:CST
DTSTART:20231105T070000
END:STANDARD
BEGIN:DAYLIGHT
TZOFFSETFROM:-0600
TZOFFSETTO:-0500
TZNAME:CDT
DTSTART:20240310T080000
END:DAYLIGHT
BEGIN:STANDARD
TZOFFSETFROM:-0500
TZOFFSETTO:-0600
TZNAME:CST
DTSTART:20241103T070000
END:STANDARD
BEGIN:DAYLIGHT
TZOFFSETFROM:-0600
TZOFFSETTO:-0500
TZNAME:CDT
DTSTART:20250309T080000
END:DAYLIGHT
BEGIN:STANDARD
TZOFFSETFROM:-0500
TZOFFSETTO:-0600
TZNAME:CST
DTSTART:20251102T070000
END:STANDARD
END:VTIMEZONE
BEGIN:VEVENT
DTSTART;VALUE=DATE:20240401
DTEND;VALUE=DATE:20240402
DTSTAMP:20260420T030719
CREATED:20240209T133104Z
LAST-MODIFIED:20240209T133104Z
UID:10000477-1711929600-1712015999@www.cypresschristian.org
SUMMARY:Easter Holiday/Inclement Weather Day
DESCRIPTION:
URL:https://www.cypresschristian.org/event/easter-holiday-inclement-weather-day/
LOCATION:East Gym\, 11123 Cypress North Houston Rd\, Houston\, TX\, 77065\, United States
CATEGORIES:Academic
GEO:29.9520346;-95.5875756
X-APPLE-STRUCTURED-LOCATION;VALUE=URI;X-ADDRESS=East Gym 11123 Cypress North Houston Rd Houston TX 77065 United States;X-APPLE-RADIUS=500;X-TITLE=11123 Cypress North Houston Rd:geo:-95.5875756,29.9520346
END:VEVENT
BEGIN:VEVENT
DTSTART;TZID=America/Chicago:20240401T180000
DTEND;TZID=America/Chicago:20240401T200000
DTSTAMP:20260420T030719
CREATED:20240208T163710Z
LAST-MODIFIED:20240208T163710Z
UID:10000450-1711994400-1712001600@www.cypresschristian.org
SUMMARY:Baseball - Middle School A vs. Northland Christian School
DESCRIPTION:
URL:https://www.cypresschristian.org/event/baseball-middle-school-a-vs-northland-christian-school-2/
LOCATION:Northland Christian School\, 4363 Sylvanfield Drive\, Houston\, TX\, 77014\, United States
CATEGORIES:Athletics
GEO:29.986057;-95.490499
X-APPLE-STRUCTURED-LOCATION;VALUE=URI;X-ADDRESS=Northland Christian School 4363 Sylvanfield Drive Houston TX 77014 United States;X-APPLE-RADIUS=500;X-TITLE=4363 Sylvanfield Drive:geo:-95.490499,29.986057
END:VEVENT
BEGIN:VEVENT
DTSTART;TZID=America/Chicago:20240401T180000
DTEND;TZID=America/Chicago:20240401T200000
DTSTAMP:20260420T030719
CREATED:20240402T164437Z
LAST-MODIFIED:20240402T164437Z
UID:10000616-1711994400-1712001600@www.cypresschristian.org
SUMMARY:Softball - Middle School A vs. Northland
DESCRIPTION:
URL:https://www.cypresschristian.org/event/softball-middle-school-a-vs-northland/
LOCATION:CCS Softball Field\, 21455 Bridgeland Creek Pkwy\, Cypress\, TX\, 77433\, United States
CATEGORIES:Athletics
GEO:29.9520346;-95.5875756
X-APPLE-STRUCTURED-LOCATION;VALUE=URI;X-ADDRESS=CCS Softball Field 21455 Bridgeland Creek Pkwy Cypress TX 77433 United States;X-APPLE-RADIUS=500;X-TITLE=21455 Bridgeland Creek Pkwy:geo:-95.5875756,29.9520346
END:VEVENT
BEGIN:VEVENT
DTSTART;TZID=America/Chicago:20240402T160000
DTEND;TZID=America/Chicago:20240402T180000
DTSTAMP:20260420T030719
CREATED:20240208T164135Z
LAST-MODIFIED:20240223T174533Z
UID:10000452-1712073600-1712080800@www.cypresschristian.org
SUMMARY:Baseball - Middle School B vs. St. Ann Catholic
DESCRIPTION:
URL:https://www.cypresschristian.org/event/baseball-middle-school-b-vs-st-ann-catholic/
LOCATION:East Gym\, 11123 Cypress North Houston Rd\, Houston\, TX\, 77065\, United States
CATEGORIES:Athletics
GEO:29.9520346;-95.5875756
X-APPLE-STRUCTURED-LOCATION;VALUE=URI;X-ADDRESS=East Gym 11123 Cypress North Houston Rd Houston TX 77065 United States;X-APPLE-RADIUS=500;X-TITLE=11123 Cypress North Houston Rd:geo:-95.5875756,29.9520346
END:VEVENT
BEGIN:VEVENT
DTSTART;TZID=America/Chicago:20240402T160000
DTEND;TZID=America/Chicago:20240402T180000
DTSTAMP:20260420T030719
CREATED:20240402T163810Z
LAST-MODIFIED:20240402T164041Z
UID:10000614-1712073600-1712080800@www.cypresschristian.org
SUMMARY:Softball - Middle School A vs. Rosehill
DESCRIPTION:
URL:https://www.cypresschristian.org/event/softball-middle-school-a-vs-rosehill/
LOCATION:CCS Softball Field\, 21455 Bridgeland Creek Pkwy\, Cypress\, TX\, 77433\, United States
CATEGORIES:Athletics
GEO:29.9520346;-95.5875756
X-APPLE-STRUCTURED-LOCATION;VALUE=URI;X-ADDRESS=CCS Softball Field 21455 Bridgeland Creek Pkwy Cypress TX 77433 United States;X-APPLE-RADIUS=500;X-TITLE=21455 Bridgeland Creek Pkwy:geo:-95.5875756,29.9520346
END:VEVENT
BEGIN:VEVENT
DTSTART;TZID=America/Chicago:20240402T160000
DTEND;TZID=America/Chicago:20240402T200000
DTSTAMP:20260420T030719
CREATED:20240208T164351Z
LAST-MODIFIED:20240221T190245Z
UID:10000453-1712073600-1712088000@www.cypresschristian.org
SUMMARY:Baseball - Middle School A vs. Rosehill Christian School
DESCRIPTION:
URL:https://www.cypresschristian.org/event/baseball-middle-school-a-vs-rosehill-christian-school-2/
LOCATION:Premier Baseball\, 20230 Cypress Rosehill Rd.\, Tomball\, TX\, 77377\, United States
CATEGORIES:Athletics
GEO:30.0551055;-95.6958318
X-APPLE-STRUCTURED-LOCATION;VALUE=URI;X-ADDRESS=Premier Baseball 20230 Cypress Rosehill Rd. Tomball TX 77377 United States;X-APPLE-RADIUS=500;X-TITLE=20230 Cypress Rosehill Rd.:geo:-95.6958318,30.0551055
END:VEVENT
BEGIN:VEVENT
DTSTART;TZID=America/Chicago:20240402T163000
DTEND;TZID=America/Chicago:20240402T183000
DTSTAMP:20260420T030719
CREATED:20240208T163939Z
LAST-MODIFIED:20240321T131048Z
UID:10000451-1712075400-1712082600@www.cypresschristian.org
SUMMARY:Baseball - Junior Varsity vs. Bay Area Christian School
DESCRIPTION:
URL:https://www.cypresschristian.org/event/baseball-junior-varsity-vs-bay-area-christian-school/
LOCATION:Bay Area Christian School\, 4800 W Main St\, League City\, TX\, 77573\, United States
CATEGORIES:Athletics
GEO:29.4951856;-95.1495904
X-APPLE-STRUCTURED-LOCATION;VALUE=URI;X-ADDRESS=Bay Area Christian School 4800 W Main St League City TX 77573 United States;X-APPLE-RADIUS=500;X-TITLE=4800 W Main St:geo:-95.1495904,29.4951856
END:VEVENT
BEGIN:VEVENT
DTSTART;TZID=America/Chicago:20240402T163000
DTEND;TZID=America/Chicago:20240402T183000
DTSTAMP:20260420T030719
CREATED:20240321T132118Z
LAST-MODIFIED:20240402T151710Z
UID:10000587-1712075400-1712082600@www.cypresschristian.org
SUMMARY:Softball - Varsity vs. Bay Area
DESCRIPTION:
URL:https://www.cypresschristian.org/event/softball-varsity-vs-bay-area/
LOCATION:Bay Area Christian School\, 4800 W Main St\, League City\, TX\, 77573\, United States
CATEGORIES:Athletics
GEO:29.4951856;-95.1495904
X-APPLE-STRUCTURED-LOCATION;VALUE=URI;X-ADDRESS=Bay Area Christian School 4800 W Main St League City TX 77573 United States;X-APPLE-RADIUS=500;X-TITLE=4800 W Main St:geo:-95.1495904,29.4951856
END:VEVENT
BEGIN:VEVENT
DTSTART;TZID=America/Chicago:20240402T190000
DTEND;TZID=America/Chicago:20240402T210000
DTSTAMP:20260420T030719
CREATED:20240208T164501Z
LAST-MODIFIED:20240208T164501Z
UID:10000454-1712084400-1712091600@www.cypresschristian.org
SUMMARY:Baseball - Varsity vs. Bay Area Christian School
DESCRIPTION:
URL:https://www.cypresschristian.org/event/baseball-varsity-vs-bay-area-christian-school/
LOCATION:Bay Area Christian School\, 4800 W Main St\, League City\, TX\, 77573\, United States
CATEGORIES:Athletics
GEO:29.4951856;-95.1495904
X-APPLE-STRUCTURED-LOCATION;VALUE=URI;X-ADDRESS=Bay Area Christian School 4800 W Main St League City TX 77573 United States;X-APPLE-RADIUS=500;X-TITLE=4800 W Main St:geo:-95.1495904,29.4951856
END:VEVENT
BEGIN:VEVENT
DTSTART;TZID=America/Chicago:20240403T154500
DTEND;TZID=America/Chicago:20240403T173000
DTSTAMP:20260420T030719
CREATED:20240319T213758Z
LAST-MODIFIED:20240319T214119Z
UID:10000581-1712159100-1712165400@www.cypresschristian.org
SUMMARY:Dance Tryout Clinics
DESCRIPTION:
URL:https://www.cypresschristian.org/event/dance-tryout-clinics/2024-04-03/
LOCATION:East Gym\, 11123 Cypress North Houston Rd\, Houston\, TX\, 77065\, United States
CATEGORIES:Athletics
GEO:29.9520346;-95.5875756
X-APPLE-STRUCTURED-LOCATION;VALUE=URI;X-ADDRESS=East Gym 11123 Cypress North Houston Rd Houston TX 77065 United States;X-APPLE-RADIUS=500;X-TITLE=11123 Cypress North Houston Rd:geo:-95.5875756,29.9520346
END:VEVENT
BEGIN:VEVENT
DTSTART;TZID=America/Chicago:20240404T080000
DTEND;TZID=America/Chicago:20240404T170000
DTSTAMP:20260420T030719
CREATED:20240208T164640Z
LAST-MODIFIED:20240220T174020Z
UID:10000455-1712217600-1712250000@www.cypresschristian.org
SUMMARY:Baseball - Middle School A vs. Rosehill Christian School
DESCRIPTION:
URL:https://www.cypresschristian.org/event/baseball-middle-school-a-vs-rosehill-christian-school-3/
LOCATION:Premier Baseball\, 20230 Cypress Rosehill Rd.\, Tomball\, TX\, 77377\, United States
CATEGORIES:Athletics
GEO:30.0551055;-95.6958318
X-APPLE-STRUCTURED-LOCATION;VALUE=URI;X-ADDRESS=Premier Baseball 20230 Cypress Rosehill Rd. Tomball TX 77377 United States;X-APPLE-RADIUS=500;X-TITLE=20230 Cypress Rosehill Rd.:geo:-95.6958318,30.0551055
END:VEVENT
BEGIN:VEVENT
DTSTART;TZID=America/Chicago:20240404T154500
DTEND;TZID=America/Chicago:20240404T173000
DTSTAMP:20260420T030719
CREATED:20240319T213758Z
LAST-MODIFIED:20240319T214119Z
UID:10000582-1712245500-1712251800@www.cypresschristian.org
SUMMARY:Dance Tryout Clinics
DESCRIPTION:
URL:https://www.cypresschristian.org/event/dance-tryout-clinics/2024-04-04/
LOCATION:East Gym\, 11123 Cypress North Houston Rd\, Houston\, TX\, 77065\, United States
CATEGORIES:Athletics
GEO:29.9520346;-95.5875756
X-APPLE-STRUCTURED-LOCATION;VALUE=URI;X-ADDRESS=East Gym 11123 Cypress North Houston Rd Houston TX 77065 United States;X-APPLE-RADIUS=500;X-TITLE=11123 Cypress North Houston Rd:geo:-95.5875756,29.9520346
END:VEVENT
BEGIN:VEVENT
DTSTART;TZID=America/Chicago:20240404T160000
DTEND;TZID=America/Chicago:20240404T180000
DTSTAMP:20260420T030719
CREATED:20240402T164228Z
LAST-MODIFIED:20240402T164507Z
UID:10000615-1712246400-1712253600@www.cypresschristian.org
SUMMARY:Softball - Middle School A vs. Bay Area
DESCRIPTION:
URL:https://www.cypresschristian.org/event/softball-middle-school-a-vs-bay-area/
LOCATION:CCS Softball Field\, 21455 Bridgeland Creek Pkwy\, Cypress\, TX\, 77433\, United States
CATEGORIES:Athletics
GEO:29.9520346;-95.5875756
X-APPLE-STRUCTURED-LOCATION;VALUE=URI;X-ADDRESS=CCS Softball Field 21455 Bridgeland Creek Pkwy Cypress TX 77433 United States;X-APPLE-RADIUS=500;X-TITLE=21455 Bridgeland Creek Pkwy:geo:-95.5875756,29.9520346
END:VEVENT
BEGIN:VEVENT
DTSTART;TZID=America/Chicago:20240404T180000
DTEND;TZID=America/Chicago:20240404T200000
DTSTAMP:20260420T030719
CREATED:20240321T132417Z
LAST-MODIFIED:20240402T164903Z
UID:10000588-1712253600-1712260800@www.cypresschristian.org
SUMMARY:Softball - Varsity vs. Bay Area
DESCRIPTION:
URL:https://www.cypresschristian.org/event/softball-varsity-vs-bay-area-2/
LOCATION:CCS Warrior Softball Field\, 21455 Bridgeland Creek Pkwy.\, Cypress\, TX\, 77433\, United States
CATEGORIES:Athletics
GEO:29.9520346;-95.5875756
X-APPLE-STRUCTURED-LOCATION;VALUE=URI;X-ADDRESS=CCS Warrior Softball Field 21455 Bridgeland Creek Pkwy. Cypress TX 77433 United States;X-APPLE-RADIUS=500;X-TITLE=21455 Bridgeland Creek Pkwy.:geo:-95.5875756,29.9520346
END:VEVENT
BEGIN:VEVENT
DTSTART;TZID=America/Chicago:20240404T183000
DTEND;TZID=America/Chicago:20240404T200000
DTSTAMP:20260420T030719
CREATED:20240208T164807Z
LAST-MODIFIED:20240402T165031Z
UID:10000456-1712255400-1712260800@www.cypresschristian.org
SUMMARY:Baseball - Middle School B vs. Lutheran South Academy
DESCRIPTION:
URL:https://www.cypresschristian.org/event/baseball-middle-school-b-vs-lutheran-south-academy-2/
LOCATION:Lutheran South Academy\, 12555 Ryewater Dr.\, Houston\, TX\, 77089\, United States
CATEGORIES:Athletics
GEO:29.5865122;-95.1897607
X-APPLE-STRUCTURED-LOCATION;VALUE=URI;X-ADDRESS=Lutheran South Academy 12555 Ryewater Dr. Houston TX 77089 United States;X-APPLE-RADIUS=500;X-TITLE=12555 Ryewater Dr.:geo:-95.1897607,29.5865122
END:VEVENT
BEGIN:VEVENT
DTSTART;TZID=America/Chicago:20240405T160000
DTEND;TZID=America/Chicago:20240405T180000
DTSTAMP:20260420T030719
CREATED:20240319T214321Z
LAST-MODIFIED:20240319T214321Z
UID:10000583-1712332800-1712340000@www.cypresschristian.org
SUMMARY:Dance Tryouts
DESCRIPTION:
URL:https://www.cypresschristian.org/event/dance-tryouts/
LOCATION:East Gym\, 11123 Cypress North Houston Rd\, Houston\, TX\, 77065\, United States
CATEGORIES:Athletics
GEO:29.9520346;-95.5875756
X-APPLE-STRUCTURED-LOCATION;VALUE=URI;X-ADDRESS=East Gym 11123 Cypress North Houston Rd Houston TX 77065 United States;X-APPLE-RADIUS=500;X-TITLE=11123 Cypress North Houston Rd:geo:-95.5875756,29.9520346
END:VEVENT
BEGIN:VEVENT
DTSTART;TZID=America/Chicago:20240405T160000
DTEND;TZID=America/Chicago:20240405T210000
DTSTAMP:20260420T030719
CREATED:20240209T184820Z
LAST-MODIFIED:20240213T223917Z
UID:10000514-1712332800-1712350800@www.cypresschristian.org
SUMMARY:Track & Field - Varsity Crusader Relays
DESCRIPTION:
URL:https://www.cypresschristian.org/event/track-field-varsity-crusader-relays/
LOCATION:Concordia Lutheran High School\, 700 East Main Street\, Tomball\, TX\, 77375\, United States
CATEGORIES:Athletics
GEO:30.0998569;-95.6060097
X-APPLE-STRUCTURED-LOCATION;VALUE=URI;X-ADDRESS=Concordia Lutheran High School 700 East Main Street Tomball TX 77375 United States;X-APPLE-RADIUS=500;X-TITLE=700 East Main Street:geo:-95.6060097,30.0998569
END:VEVENT
BEGIN:VEVENT
DTSTART;TZID=America/Chicago:20240405T163000
DTEND;TZID=America/Chicago:20240405T183000
DTSTAMP:20260420T030719
CREATED:20240208T164920Z
LAST-MODIFIED:20240321T131001Z
UID:10000457-1712334600-1712341800@www.cypresschristian.org
SUMMARY:Baseball - Junior Varsity vs. Bay Area Christian School
DESCRIPTION:
URL:https://www.cypresschristian.org/event/baseball-junior-varsity-vs-bay-area-christian-school-2/
LOCATION:East Gym\, 11123 Cypress North Houston Rd\, Houston\, TX\, 77065\, United States
CATEGORIES:Athletics
GEO:29.9520346;-95.5875756
X-APPLE-STRUCTURED-LOCATION;VALUE=URI;X-ADDRESS=East Gym 11123 Cypress North Houston Rd Houston TX 77065 United States;X-APPLE-RADIUS=500;X-TITLE=11123 Cypress North Houston Rd:geo:-95.5875756,29.9520346
END:VEVENT
BEGIN:VEVENT
DTSTART;TZID=America/Chicago:20240405T190000
DTEND;TZID=America/Chicago:20240405T210000
DTSTAMP:20260420T030719
CREATED:20240208T165045Z
LAST-MODIFIED:20240208T165045Z
UID:10000458-1712343600-1712350800@www.cypresschristian.org
SUMMARY:Baseball - Varsity vs. Bay Area Christian School
DESCRIPTION:
URL:https://www.cypresschristian.org/event/baseball-varsity-vs-bay-area-christian-school-2/
LOCATION:CCS-Will Rhodes Memorial Stadium\, 21455 Bridgeland Creek Pkwy\, Cypress\, TX 77433.\, Cypress\, TX\, 77433\, United States
CATEGORIES:Athletics
GEO:29.9520346;-95.5875756
X-APPLE-STRUCTURED-LOCATION;VALUE=URI;X-ADDRESS=CCS-Will Rhodes Memorial Stadium 21455 Bridgeland Creek Pkwy Cypress TX 77433. Cypress TX 77433 United States;X-APPLE-RADIUS=500;X-TITLE=21455 Bridgeland Creek Pkwy\, Cypress\, TX 77433.:geo:-95.5875756,29.9520346
END:VEVENT
BEGIN:VEVENT
DTSTART;TZID=America/Chicago:20240408T170000
DTEND;TZID=America/Chicago:20240408T190000
DTSTAMP:20260420T030719
CREATED:20240402T171103Z
LAST-MODIFIED:20240408T134432Z
UID:10000617-1712595600-1712602800@www.cypresschristian.org
SUMMARY:Softball - Middle School A vs. HAPS Playoff Game vs TWCA
DESCRIPTION:
URL:https://www.cypresschristian.org/event/softball-middle-school-a-vs-haps-playoffs-vs-twca/
LOCATION:CCS Softball Field\, 21455 Bridgeland Creek Pkwy\, Cypress\, TX\, 77433\, United States
CATEGORIES:Athletics
GEO:29.9520346;-95.5875756
X-APPLE-STRUCTURED-LOCATION;VALUE=URI;X-ADDRESS=CCS Softball Field 21455 Bridgeland Creek Pkwy Cypress TX 77433 United States;X-APPLE-RADIUS=500;X-TITLE=21455 Bridgeland Creek Pkwy:geo:-95.5875756,29.9520346
END:VEVENT
BEGIN:VEVENT
DTSTART;TZID=America/Chicago:20240408T190000
DTEND;TZID=America/Chicago:20240408T210000
DTSTAMP:20260420T030719
CREATED:20240208T165255Z
LAST-MODIFIED:20240408T133931Z
UID:10000459-1712602800-1712610000@www.cypresschristian.org
SUMMARY:Baseball - Middle School A  HAPS Playoff Game vs Legacy Prep
DESCRIPTION:
URL:https://www.cypresschristian.org/event/baseball-middle-school-a-haps-playoff-game-vs-legacy-prep/
LOCATION:TX
CATEGORIES:Athletics
END:VEVENT
BEGIN:VEVENT
DTSTART;TZID=America/Chicago:20240409T083000
DTEND;TZID=America/Chicago:20240409T160000
DTSTAMP:20260420T030719
CREATED:20240321T164503Z
LAST-MODIFIED:20240409T141334Z
UID:10000602-1712651400-1712678400@www.cypresschristian.org
SUMMARY:Golf - TAPPS District Tournament
DESCRIPTION:
URL:https://www.cypresschristian.org/event/tapps-district-tournament/
LOCATION:Quail Valley Golf Course\, 2880 La Quinta Dr.\, Missouri City\, TX\, 77459\, United States
CATEGORIES:Athletics
GEO:29.5772883;-95.5502437
X-APPLE-STRUCTURED-LOCATION;VALUE=URI;X-ADDRESS=Quail Valley Golf Course 2880 La Quinta Dr. Missouri City TX 77459 United States;X-APPLE-RADIUS=500;X-TITLE=2880 La Quinta Dr.:geo:-95.5502437,29.5772883
END:VEVENT
BEGIN:VEVENT
DTSTART;TZID=America/Chicago:20240409T160000
DTEND;TZID=America/Chicago:20240409T183000
DTSTAMP:20260420T030719
CREATED:20240208T165633Z
LAST-MODIFIED:20240409T145424Z
UID:10000460-1712678400-1712687400@www.cypresschristian.org
SUMMARY:Baseball - Varsity vs. Logos Preparatory Academy
DESCRIPTION:
URL:https://www.cypresschristian.org/event/baseball-varsity-vs-logos-preparatory-academy-2/
LOCATION:Logos Prep-Sugar Land Little League (city park)\, 225 St. Theresa Blvd.\, Sugar Land\, TX\, 77498\, United States
CATEGORIES:Athletics
GEO:29.6300072;-95.6313673
X-APPLE-STRUCTURED-LOCATION;VALUE=URI;X-ADDRESS=Logos Prep-Sugar Land Little League (city park) 225 St. Theresa Blvd. Sugar Land TX 77498 United States;X-APPLE-RADIUS=500;X-TITLE=225 St. Theresa Blvd.:geo:-95.6313673,29.6300072
END:VEVENT
BEGIN:VEVENT
DTSTART;TZID=America/Chicago:20240409T170000
DTEND;TZID=America/Chicago:20240409T190000
DTSTAMP:20260420T030719
CREATED:20240208T165843Z
LAST-MODIFIED:20240327T170956Z
UID:10000461-1712682000-1712689200@www.cypresschristian.org
SUMMARY:Baseball - Junior Varsity vs. St. Pius X High School
DESCRIPTION:
URL:https://www.cypresschristian.org/event/baseball-junior-varsity-vs-st-pius-x-high-school-3/
LOCATION:CCS-Will Rhodes Memorial Stadium\, 21455 Bridgeland Creek Pkwy\, Cypress\, TX 77433.\, Cypress\, TX\, 77433\, United States
CATEGORIES:Athletics
GEO:29.9520346;-95.5875756
X-APPLE-STRUCTURED-LOCATION;VALUE=URI;X-ADDRESS=CCS-Will Rhodes Memorial Stadium 21455 Bridgeland Creek Pkwy Cypress TX 77433. Cypress TX 77433 United States;X-APPLE-RADIUS=500;X-TITLE=21455 Bridgeland Creek Pkwy\, Cypress\, TX 77433.:geo:-95.5875756,29.9520346
END:VEVENT
BEGIN:VEVENT
DTSTART;TZID=America/Chicago:20240410T110000
DTEND;TZID=America/Chicago:20240410T190000
DTSTAMP:20260420T030719
CREATED:20240209T185018Z
LAST-MODIFIED:20240409T173054Z
UID:10000515-1712746800-1712775600@www.cypresschristian.org
SUMMARY:Track & Field - Varsity  TAPPS 4A District Track Meet
DESCRIPTION:
URL:https://www.cypresschristian.org/event/track-field-varsity-tapps-4a-district-track-meet/
LOCATION:East Gym\, 11123 Cypress North Houston Rd\, Houston\, TX\, 77065\, United States
CATEGORIES:Athletics
GEO:29.9520346;-95.5875756
X-APPLE-STRUCTURED-LOCATION;VALUE=URI;X-ADDRESS=East Gym 11123 Cypress North Houston Rd Houston TX 77065 United States;X-APPLE-RADIUS=500;X-TITLE=11123 Cypress North Houston Rd:geo:-95.5875756,29.9520346
END:VEVENT
BEGIN:VEVENT
DTSTART;TZID=America/Chicago:20240411T160000
DTEND;TZID=America/Chicago:20240411T180000
DTSTAMP:20260420T030719
CREATED:20240209T174220Z
LAST-MODIFIED:20240209T174220Z
UID:10000501-1712851200-1712858400@www.cypresschristian.org
SUMMARY:Baseball - Junior Varsity vs. Frassati Catholic High School
DESCRIPTION:
URL:https://www.cypresschristian.org/event/baseball-junior-varsity-vs-frassati-catholic-high-school-2/
LOCATION:East Gym\, 11123 Cypress North Houston Rd\, Houston\, TX\, 77065\, United States
CATEGORIES:Athletics
GEO:29.9520346;-95.5875756
X-APPLE-STRUCTURED-LOCATION;VALUE=URI;X-ADDRESS=East Gym 11123 Cypress North Houston Rd Houston TX 77065 United States;X-APPLE-RADIUS=500;X-TITLE=11123 Cypress North Houston Rd:geo:-95.5875756,29.9520346
END:VEVENT
BEGIN:VEVENT
DTSTART;TZID=America/Chicago:20240411T160000
DTEND;TZID=America/Chicago:20240411T180000
DTSTAMP:20260420T030719
CREATED:20240408T135328Z
LAST-MODIFIED:20240411T132241Z
UID:10000619-1712851200-1712858400@www.cypresschristian.org
SUMMARY:Softball - Middle School A HAPS Championship Game vs Alpha Omega
DESCRIPTION:
URL:https://www.cypresschristian.org/event/softball-middle-school-a-vs-haps-championship-game/
LOCATION:CCS Softball Field\, 21455 Bridgeland Creek Pkwy\, Cypress\, TX\, 77433\, United States
CATEGORIES:Athletics
GEO:29.9520346;-95.5875756
X-APPLE-STRUCTURED-LOCATION;VALUE=URI;X-ADDRESS=CCS Softball Field 21455 Bridgeland Creek Pkwy Cypress TX 77433 United States;X-APPLE-RADIUS=500;X-TITLE=21455 Bridgeland Creek Pkwy:geo:-95.5875756,29.9520346
END:VEVENT
BEGIN:VEVENT
DTSTART;TZID=America/Chicago:20240411T180000
DTEND;TZID=America/Chicago:20240411T200000
DTSTAMP:20260420T030719
CREATED:20240321T132657Z
LAST-MODIFIED:20240411T131402Z
UID:10000589-1712858400-1712865600@www.cypresschristian.org
SUMMARY:Softball - Varsity vs. Episcopal High School
DESCRIPTION:
URL:https://www.cypresschristian.org/event/softball-varsity-vs-episcopal-high-school-2/
LOCATION:CCS Softball Field\, 21455 Bridgeland Creek Pkwy\, Cypress\, TX\, 77433\, United States
CATEGORIES:Athletics
GEO:29.9520346;-95.5875756
X-APPLE-STRUCTURED-LOCATION;VALUE=URI;X-ADDRESS=CCS Softball Field 21455 Bridgeland Creek Pkwy Cypress TX 77433 United States;X-APPLE-RADIUS=500;X-TITLE=21455 Bridgeland Creek Pkwy:geo:-95.5875756,29.9520346
END:VEVENT
BEGIN:VEVENT
DTSTART;TZID=America/Chicago:20240411T190000
DTEND;TZID=America/Chicago:20240411T210000
DTSTAMP:20260420T030719
CREATED:20240209T174412Z
LAST-MODIFIED:20240209T174412Z
UID:10000502-1712862000-1712869200@www.cypresschristian.org
SUMMARY:Baseball - Varsity vs. Legacy Preparatory Christian Academy; Magnolia
DESCRIPTION:
URL:https://www.cypresschristian.org/event/baseball-varsity-vs-legacy-preparatory-christian-academy-magnolia-3/
LOCATION:CCS-Will Rhodes Memorial Stadium\, 21455 Bridgeland Creek Pkwy\, Cypress\, TX 77433.\, Cypress\, TX\, 77433\, United States
CATEGORIES:Athletics
GEO:29.9520346;-95.5875756
X-APPLE-STRUCTURED-LOCATION;VALUE=URI;X-ADDRESS=CCS-Will Rhodes Memorial Stadium 21455 Bridgeland Creek Pkwy Cypress TX 77433. Cypress TX 77433 United States;X-APPLE-RADIUS=500;X-TITLE=21455 Bridgeland Creek Pkwy\, Cypress\, TX 77433.:geo:-95.5875756,29.9520346
END:VEVENT
BEGIN:VEVENT
DTSTART;VALUE=DATE:20240412
DTEND;VALUE=DATE:20240413
DTSTAMP:20260420T030719
CREATED:20240209T133146Z
LAST-MODIFIED:20240209T133146Z
UID:10000478-1712880000-1712966399@www.cypresschristian.org
SUMMARY:Early Dismissal/Teacher In-Service
DESCRIPTION:
URL:https://www.cypresschristian.org/event/early-dismissal-teacher-in-service-2/
LOCATION:East Gym\, 11123 Cypress North Houston Rd\, Houston\, TX\, 77065\, United States
CATEGORIES:Academic
GEO:29.9520346;-95.5875756
X-APPLE-STRUCTURED-LOCATION;VALUE=URI;X-ADDRESS=East Gym 11123 Cypress North Houston Rd Houston TX 77065 United States;X-APPLE-RADIUS=500;X-TITLE=11123 Cypress North Houston Rd:geo:-95.5875756,29.9520346
END:VEVENT
END:VCALENDAR