BEGIN:VCALENDAR
VERSION:2.0
PRODID:-//Cypress Christian School - ECPv6.15.19//NONSGML v1.0//EN
CALSCALE:GREGORIAN
METHOD:PUBLISH
X-ORIGINAL-URL:https://www.cypresschristian.org
X-WR-CALDESC:Events for Cypress Christian School
REFRESH-INTERVAL;VALUE=DURATION:PT1H
X-Robots-Tag:noindex
X-PUBLISHED-TTL:PT1H
BEGIN:VTIMEZONE
TZID:America/Chicago
BEGIN:DAYLIGHT
TZOFFSETFROM:-0600
TZOFFSETTO:-0500
TZNAME:CDT
DTSTART:20230312T080000
END:DAYLIGHT
BEGIN:STANDARD
TZOFFSETFROM:-0500
TZOFFSETTO:-0600
TZNAME:CST
DTSTART:20231105T070000
END:STANDARD
BEGIN:DAYLIGHT
TZOFFSETFROM:-0600
TZOFFSETTO:-0500
TZNAME:CDT
DTSTART:20240310T080000
END:DAYLIGHT
BEGIN:STANDARD
TZOFFSETFROM:-0500
TZOFFSETTO:-0600
TZNAME:CST
DTSTART:20241103T070000
END:STANDARD
BEGIN:DAYLIGHT
TZOFFSETFROM:-0600
TZOFFSETTO:-0500
TZNAME:CDT
DTSTART:20250309T080000
END:DAYLIGHT
BEGIN:STANDARD
TZOFFSETFROM:-0500
TZOFFSETTO:-0600
TZNAME:CST
DTSTART:20251102T070000
END:STANDARD
END:VTIMEZONE
BEGIN:VEVENT
DTSTART;TZID=America/Chicago:20240201T170000
DTEND;TZID=America/Chicago:20240201T183000
DTSTAMP:20260420T055519
CREATED:20231220T173639Z
LAST-MODIFIED:20240109T182158Z
UID:10000349-1706806800-1706812200@www.cypresschristian.org
SUMMARY:Soccer - Varsity Girls - Northland Christian School (Home)
DESCRIPTION:
URL:https://www.cypresschristian.org/event/soccer-varsity-girls-northland-christian-school-home/
LOCATION:The Stadium at Cypress Christian School\, 21455 Bridgeland Creek Pkwy\, Cypress\, TX\, 77433\, United States
CATEGORIES:Athletics
GEO:29.9520346;-95.5875756
X-APPLE-STRUCTURED-LOCATION;VALUE=URI;X-ADDRESS=The Stadium at Cypress Christian School 21455 Bridgeland Creek Pkwy Cypress TX 77433 United States;X-APPLE-RADIUS=500;X-TITLE=21455 Bridgeland Creek Pkwy:geo:-95.5875756,29.9520346
END:VEVENT
BEGIN:VEVENT
DTSTART;TZID=America/Chicago:20240201T180000
DTEND;TZID=America/Chicago:20240201T200000
DTSTAMP:20260420T055519
CREATED:20240131T164151Z
LAST-MODIFIED:20240131T164151Z
UID:10000391-1706810400-1706817600@www.cypresschristian.org
SUMMARY:Baseball - Varsity vs. Emery/Weiner School
DESCRIPTION:
URL:https://www.cypresschristian.org/event/baseball-varsity-vs-emery-weiner-school/
LOCATION:Emery/Weiner School\, 9825 Stella Link Rd.\, Houston\, 77025\, United States
CATEGORIES:Athletics
GEO:29.6751927;-95.4377358
X-APPLE-STRUCTURED-LOCATION;VALUE=URI;X-ADDRESS=Emery/Weiner School 9825 Stella Link Rd. Houston 77025 United States;X-APPLE-RADIUS=500;X-TITLE=9825 Stella Link Rd.:geo:-95.4377358,29.6751927
END:VEVENT
BEGIN:VEVENT
DTSTART;TZID=America/Chicago:20240201T190000
DTEND;TZID=America/Chicago:20240201T203000
DTSTAMP:20260420T055519
CREATED:20231220T173639Z
LAST-MODIFIED:20240109T182158Z
UID:10000350-1706814000-1706819400@www.cypresschristian.org
SUMMARY:Soccer - Varsity Boys - Northland Christian School (Home)
DESCRIPTION:
URL:https://www.cypresschristian.org/event/soccer-varsity-boys-northland-christian-school-home/
LOCATION:Northland Christian School\, 4363 Sylvanfield Drive\, Houston\, TX\, 77014\, United States
CATEGORIES:Athletics
GEO:29.986057;-95.490499
X-APPLE-STRUCTURED-LOCATION;VALUE=URI;X-ADDRESS=Northland Christian School 4363 Sylvanfield Drive Houston TX 77014 United States;X-APPLE-RADIUS=500;X-TITLE=4363 Sylvanfield Drive:geo:-95.490499,29.986057
END:VEVENT
BEGIN:VEVENT
DTSTART;TZID=America/Chicago:20240202T153000
DTEND;TZID=America/Chicago:20240202T163000
DTSTAMP:20260420T055519
CREATED:20231220T173639Z
LAST-MODIFIED:20240109T182158Z
UID:10000351-1706887800-1706891400@www.cypresschristian.org
SUMMARY:Basketball - Junior Varsity Girls - Legacy Preparatory Christian Academy; Magnolia (Away)
DESCRIPTION:
URL:https://www.cypresschristian.org/event/basketball-junior-varsity-girls-legacy-preparatory-christian-academy-magnolia-away/
LOCATION:Legacy Preparatory Christian Academy; Magnolia\, Research Forest Drive\, The Woodlands\, TX\, 77354\, United States
CATEGORIES:Athletics
GEO:30.2175102;-95.5563425
X-APPLE-STRUCTURED-LOCATION;VALUE=URI;X-ADDRESS=Legacy Preparatory Christian Academy; Magnolia Research Forest Drive The Woodlands TX 77354 United States;X-APPLE-RADIUS=500;X-TITLE=Research Forest Drive:geo:-95.5563425,30.2175102
END:VEVENT
BEGIN:VEVENT
DTSTART;TZID=America/Chicago:20240202T163000
DTEND;TZID=America/Chicago:20240202T173000
DTSTAMP:20260420T055519
CREATED:20231220T173639Z
LAST-MODIFIED:20240109T182158Z
UID:10000352-1706891400-1706895000@www.cypresschristian.org
SUMMARY:Basketball - Junior Varsity Boys - Legacy Preparatory Christian Academy; Magnolia (Away)
DESCRIPTION:
URL:https://www.cypresschristian.org/event/basketball-junior-varsity-boys-legacy-preparatory-christian-academy-magnolia-away/
LOCATION:Legacy Preparatory Christian Academy; Magnolia\, Research Forest Drive\, The Woodlands\, TX\, 77354\, United States
CATEGORIES:Athletics
GEO:30.2175102;-95.5563425
X-APPLE-STRUCTURED-LOCATION;VALUE=URI;X-ADDRESS=Legacy Preparatory Christian Academy; Magnolia Research Forest Drive The Woodlands TX 77354 United States;X-APPLE-RADIUS=500;X-TITLE=Research Forest Drive:geo:-95.5563425,30.2175102
END:VEVENT
BEGIN:VEVENT
DTSTART;TZID=America/Chicago:20240202T180000
DTEND;TZID=America/Chicago:20240202T190000
DTSTAMP:20260420T055519
CREATED:20231220T173640Z
LAST-MODIFIED:20240109T182157Z
UID:10000353-1706896800-1706900400@www.cypresschristian.org
SUMMARY:Basketball - Varsity Girls - Legacy Preparatory Christian Academy; Magnolia (Away)
DESCRIPTION:
URL:https://www.cypresschristian.org/event/basketball-varsity-girls-legacy-preparatory-christian-academy-magnolia-away/
LOCATION:Legacy Preparatory Christian Academy; Magnolia\, Research Forest Drive\, The Woodlands\, TX\, 77354\, United States
CATEGORIES:Athletics
GEO:30.2175102;-95.5563425
X-APPLE-STRUCTURED-LOCATION;VALUE=URI;X-ADDRESS=Legacy Preparatory Christian Academy; Magnolia Research Forest Drive The Woodlands TX 77354 United States;X-APPLE-RADIUS=500;X-TITLE=Research Forest Drive:geo:-95.5563425,30.2175102
END:VEVENT
BEGIN:VEVENT
DTSTART;TZID=America/Chicago:20240202T200000
DTEND;TZID=America/Chicago:20240202T213000
DTSTAMP:20260420T055519
CREATED:20231220T173644Z
LAST-MODIFIED:20240109T182157Z
UID:10000354-1706904000-1706909400@www.cypresschristian.org
SUMMARY:Basketball - Varsity Boys - Legacy Preparatory Christian Academy; Magnolia (Away)
DESCRIPTION:
URL:https://www.cypresschristian.org/event/basketball-varsity-boys-legacy-preparatory-christian-academy-magnolia-away/
LOCATION:Legacy Preparatory Christian Academy; Magnolia\, Research Forest Drive\, The Woodlands\, TX\, 77354\, United States
CATEGORIES:Athletics
GEO:30.2175102;-95.5563425
X-APPLE-STRUCTURED-LOCATION;VALUE=URI;X-ADDRESS=Legacy Preparatory Christian Academy; Magnolia Research Forest Drive The Woodlands TX 77354 United States;X-APPLE-RADIUS=500;X-TITLE=Research Forest Drive:geo:-95.5563425,30.2175102
END:VEVENT
BEGIN:VEVENT
DTSTART;TZID=America/Chicago:20240203T120000
DTEND;TZID=America/Chicago:20240203T140000
DTSTAMP:20260420T055519
CREATED:20240131T174812Z
LAST-MODIFIED:20240131T175029Z
UID:10000392-1706961600-1706968800@www.cypresschristian.org
SUMMARY:Baseball - Junior Varsity vs. Northland Christian School
DESCRIPTION:
URL:https://www.cypresschristian.org/event/baseball-junior-varsity-vs-northland-christian-school/
LOCATION:Northland Christian School\, 4363 Sylvanfield Drive\, Houston\, TX\, 77014\, United States
CATEGORIES:Athletics
GEO:29.986057;-95.490499
X-APPLE-STRUCTURED-LOCATION;VALUE=URI;X-ADDRESS=Northland Christian School 4363 Sylvanfield Drive Houston TX 77014 United States;X-APPLE-RADIUS=500;X-TITLE=4363 Sylvanfield Drive:geo:-95.490499,29.986057
END:VEVENT
BEGIN:VEVENT
DTSTART;TZID=America/Chicago:20240203T143000
DTEND;TZID=America/Chicago:20240203T163000
DTSTAMP:20260420T055519
CREATED:20240131T175402Z
LAST-MODIFIED:20240131T175402Z
UID:10000394-1706970600-1706977800@www.cypresschristian.org
SUMMARY:Baseball - Varsity vs. Northland Christian School
DESCRIPTION:
URL:https://www.cypresschristian.org/event/baseball-varsity-vs-northland-christian-school/
LOCATION:Northland Christian School\, 4363 Sylvanfield Drive\, Houston\, TX\, 77014\, United States
CATEGORIES:Athletics
GEO:29.986057;-95.490499
X-APPLE-STRUCTURED-LOCATION;VALUE=URI;X-ADDRESS=Northland Christian School 4363 Sylvanfield Drive Houston TX 77014 United States;X-APPLE-RADIUS=500;X-TITLE=4363 Sylvanfield Drive:geo:-95.490499,29.986057
END:VEVENT
BEGIN:VEVENT
DTSTART;TZID=America/Chicago:20240205T000000
DTEND;TZID=America/Chicago:20240205T000000
DTSTAMP:20260420T055519
CREATED:20231220T173644Z
LAST-MODIFIED:20240109T182157Z
UID:10000355-1707091200-1707091200@www.cypresschristian.org
SUMMARY:Soccer - Varsity Girls - British Int'l School of Houston (Away)
DESCRIPTION:
URL:https://www.cypresschristian.org/event/soccer-varsity-girls-british-intl-school-of-houston-away/
LOCATION:TX
CATEGORIES:Athletics
END:VEVENT
BEGIN:VEVENT
DTSTART;TZID=America/Chicago:20240205T170000
DTEND;TZID=America/Chicago:20240205T183000
DTSTAMP:20260420T055519
CREATED:20231220T173645Z
LAST-MODIFIED:20240109T182157Z
UID:10000356-1707152400-1707157800@www.cypresschristian.org
SUMMARY:Soccer - Varsity Boys - St. Joseph Catholic School-Bryan (Home)
DESCRIPTION:
URL:https://www.cypresschristian.org/event/soccer-varsity-boys-st-joseph-catholic-school-bryan-home/
LOCATION:TX
CATEGORIES:Athletics
END:VEVENT
BEGIN:VEVENT
DTSTART;TZID=America/Chicago:20240206T160000
DTEND;TZID=America/Chicago:20240206T170000
DTSTAMP:20260420T055519
CREATED:20231220T173645Z
LAST-MODIFIED:20240109T182157Z
UID:10000357-1707235200-1707238800@www.cypresschristian.org
SUMMARY:Basketball - Junior Varsity Boys - Logos Preparatory Academy (Home)
DESCRIPTION:
URL:https://www.cypresschristian.org/event/basketball-junior-varsity-boys-logos-preparatory-academy-home-2/
LOCATION:East Gym\, 11123 Cypress North Houston Rd\, Houston\, TX\, 77065\, United States
CATEGORIES:Athletics
GEO:29.9520346;-95.5875756
X-APPLE-STRUCTURED-LOCATION;VALUE=URI;X-ADDRESS=East Gym 11123 Cypress North Houston Rd Houston TX 77065 United States;X-APPLE-RADIUS=500;X-TITLE=11123 Cypress North Houston Rd:geo:-95.5875756,29.9520346
END:VEVENT
BEGIN:VEVENT
DTSTART;TZID=America/Chicago:20240206T163000
DTEND;TZID=America/Chicago:20240206T183000
DTSTAMP:20260420T055519
CREATED:20240131T175701Z
LAST-MODIFIED:20240131T175701Z
UID:10000395-1707237000-1707244200@www.cypresschristian.org
SUMMARY:Baseball - Junior Varsity vs. St. Thomas High School
DESCRIPTION:
URL:https://www.cypresschristian.org/event/baseball-junior-varsity-vs-st-thomas-high-school/
LOCATION:East Gym\, 11123 Cypress North Houston Rd\, Houston\, TX\, 77065\, United States
CATEGORIES:Athletics
GEO:29.9520346;-95.5875756
X-APPLE-STRUCTURED-LOCATION;VALUE=URI;X-ADDRESS=East Gym 11123 Cypress North Houston Rd Houston TX 77065 United States;X-APPLE-RADIUS=500;X-TITLE=11123 Cypress North Houston Rd:geo:-95.5875756,29.9520346
END:VEVENT
BEGIN:VEVENT
DTSTART;TZID=America/Chicago:20240206T173000
DTEND;TZID=America/Chicago:20240206T183000
DTSTAMP:20260420T055519
CREATED:20231220T173645Z
LAST-MODIFIED:20240109T182157Z
UID:10000358-1707240600-1707244200@www.cypresschristian.org
SUMMARY:Basketball - Varsity Girls - Logos Preparatory Academy (Away)
DESCRIPTION:
URL:https://www.cypresschristian.org/event/basketball-varsity-girls-logos-preparatory-academy-away/
LOCATION:TX
CATEGORIES:Athletics
END:VEVENT
BEGIN:VEVENT
DTSTART;TZID=America/Chicago:20240206T180000
DTEND;TZID=America/Chicago:20240206T200000
DTSTAMP:20260420T055519
CREATED:20240131T175927Z
LAST-MODIFIED:20240131T175927Z
UID:10000396-1707242400-1707249600@www.cypresschristian.org
SUMMARY:Baseball - Varsity vs. The Woodlands Christian Academy (TWCA)
DESCRIPTION:
URL:https://www.cypresschristian.org/event/baseball-varsity-vs-the-woodlands-christian-academy-twca/
LOCATION:The Woodlands Christian Academy (TWCA)\, 5800 Academy Way\, The Woodlands\, TX\, 77384\, United States
CATEGORIES:Athletics
GEO:30.2054243;-95.4876534
X-APPLE-STRUCTURED-LOCATION;VALUE=URI;X-ADDRESS=The Woodlands Christian Academy (TWCA) 5800 Academy Way The Woodlands TX 77384 United States;X-APPLE-RADIUS=500;X-TITLE=5800 Academy Way:geo:-95.4876534,30.2054243
END:VEVENT
BEGIN:VEVENT
DTSTART;TZID=America/Chicago:20240206T190000
DTEND;TZID=America/Chicago:20240206T200000
DTSTAMP:20260420T055519
CREATED:20231220T173726Z
LAST-MODIFIED:20240109T182157Z
UID:10000359-1707246000-1707249600@www.cypresschristian.org
SUMMARY:Basketball - Varsity Boys - Logos Preparatory Academy (Home)
DESCRIPTION:
URL:https://www.cypresschristian.org/event/basketball-varsity-boys-logos-preparatory-academy-home-2/
LOCATION:East Gym\, 11123 Cypress North Houston Rd\, Houston\, TX\, 77065\, United States
CATEGORIES:Athletics
GEO:29.9520346;-95.5875756
X-APPLE-STRUCTURED-LOCATION;VALUE=URI;X-ADDRESS=East Gym 11123 Cypress North Houston Rd Houston TX 77065 United States;X-APPLE-RADIUS=500;X-TITLE=11123 Cypress North Houston Rd:geo:-95.5875756,29.9520346
END:VEVENT
BEGIN:VEVENT
DTSTART;TZID=America/Chicago:20240207T190000
DTEND;TZID=America/Chicago:20240207T210000
DTSTAMP:20260420T055519
CREATED:20240207T200634Z
LAST-MODIFIED:20240227T223841Z
UID:10000441-1707332400-1707339600@www.cypresschristian.org
SUMMARY:Baseball - Varsity vs. Logos
DESCRIPTION:
URL:https://www.cypresschristian.org/event/baseball-varsity-vs-logos-prep/
LOCATION:East Gym\, 11123 Cypress North Houston Rd\, Houston\, TX\, 77065\, United States
CATEGORIES:Athletics
GEO:29.9520346;-95.5875756
X-APPLE-STRUCTURED-LOCATION;VALUE=URI;X-ADDRESS=East Gym 11123 Cypress North Houston Rd Houston TX 77065 United States;X-APPLE-RADIUS=500;X-TITLE=11123 Cypress North Houston Rd:geo:-95.5875756,29.9520346
END:VEVENT
BEGIN:VEVENT
DTSTART;TZID=America/Chicago:20240208T081500
DTEND;TZID=America/Chicago:20240208T091500
DTSTAMP:20260420T055519
CREATED:20240124T143358Z
LAST-MODIFIED:20240216T063233Z
UID:10000233-1707380100-1707383700@www.cypresschristian.org
SUMMARY:Warrior Mission Tour
DESCRIPTION:The Warrior Mission Tour is an inspiring one-hour tour of the mission of Cypress Christian School. While you will walk through our campus it is the heart of what we do that we want to share with you. Whether you have been involved with CCS for years or just heard about us\, you will want to attend a Warrior Mission Tour. In just one hour you will be encouraged through the stories of changed lives that are just a small sample of what happens every day at Cypress Christian.\nClick here to register.
URL:https://www.cypresschristian.org/event/warrior-mission-tour-3/
LOCATION:East Gym Foyer\, 11123 Cypress North Houston Rd.\, Houston\, TX\, 77065
CATEGORIES:Admissions
GEO:29.9520346;-95.5875756
X-APPLE-STRUCTURED-LOCATION;VALUE=URI;X-ADDRESS=East Gym Foyer 11123 Cypress North Houston Rd. Houston TX 77065;X-APPLE-RADIUS=500;X-TITLE=11123 Cypress North Houston Rd.:geo:-95.5875756,29.9520346
END:VEVENT
BEGIN:VEVENT
DTSTART;TZID=America/Chicago:20240208T160000
DTEND;TZID=America/Chicago:20240208T180000
DTSTAMP:20260420T055519
CREATED:20240131T180139Z
LAST-MODIFIED:20240205T200120Z
UID:10000397-1707408000-1707415200@www.cypresschristian.org
SUMMARY:Baseball - Middle School B vs. Thunder
DESCRIPTION:
URL:https://www.cypresschristian.org/event/baseball-middle-school-b-thunder/
LOCATION:East Gym\, 11123 Cypress North Houston Rd\, Houston\, TX\, 77065\, United States
CATEGORIES:Athletics
GEO:29.9520346;-95.5875756
X-APPLE-STRUCTURED-LOCATION;VALUE=URI;X-ADDRESS=East Gym 11123 Cypress North Houston Rd Houston TX 77065 United States;X-APPLE-RADIUS=500;X-TITLE=11123 Cypress North Houston Rd:geo:-95.5875756,29.9520346
END:VEVENT
BEGIN:VEVENT
DTSTART;TZID=America/Chicago:20240208T180000
DTEND;TZID=America/Chicago:20240208T200000
DTSTAMP:20260420T055519
CREATED:20240131T180441Z
LAST-MODIFIED:20240205T200107Z
UID:10000398-1707415200-1707422400@www.cypresschristian.org
SUMMARY:Baseball - Middle School A vs. Thunder
DESCRIPTION:
URL:https://www.cypresschristian.org/event/baseball-middle-school-a-thunder/
LOCATION:East Gym\, 11123 Cypress North Houston Rd\, Houston\, TX\, 77065\, United States
CATEGORIES:Athletics
GEO:29.9520346;-95.5875756
X-APPLE-STRUCTURED-LOCATION;VALUE=URI;X-ADDRESS=East Gym 11123 Cypress North Houston Rd Houston TX 77065 United States;X-APPLE-RADIUS=500;X-TITLE=11123 Cypress North Houston Rd:geo:-95.5875756,29.9520346
END:VEVENT
BEGIN:VEVENT
DTSTART;TZID=America/Chicago:20240208T183000
DTEND;TZID=America/Chicago:20240208T200000
DTSTAMP:20260420T055519
CREATED:20231220T163456Z
LAST-MODIFIED:20240216T063304Z
UID:10000234-1707417000-1707422400@www.cypresschristian.org
SUMMARY:Kindergarten Preview
DESCRIPTION:Prospective kindergarten families are invited to experience the CCS elementary program. The open house will include live demos in the kindergarten classrooms. Interact with the elementary academic advisor\, principal and teachers. Explore the opportunities available for your child to become a Warrior. We hope to see you there! Click here to register.\nRegistration appreciated. Walk-ins welcome!
URL:https://www.cypresschristian.org/event/kindergarten-preview/
LOCATION:Old Kempner Stadium\, 223 5th St.\, Sugar Land\, TX\, 77498\, United States
CATEGORIES:Academic
GEO:29.626983;-95.6298077
X-APPLE-STRUCTURED-LOCATION;VALUE=URI;X-ADDRESS=Old Kempner Stadium 223 5th St. Sugar Land TX 77498 United States;X-APPLE-RADIUS=500;X-TITLE=223 5th St.:geo:-95.6298077,29.626983
END:VEVENT
BEGIN:VEVENT
DTSTART;TZID=America/Chicago:20240209T153000
DTEND;TZID=America/Chicago:20240209T163000
DTSTAMP:20260420T055519
CREATED:20231220T173727Z
LAST-MODIFIED:20240109T182156Z
UID:10000361-1707492600-1707496200@www.cypresschristian.org
SUMMARY:Basketball - Junior Varsity Girls - Bay Area Christian School (Home)
DESCRIPTION:
URL:https://www.cypresschristian.org/event/basketball-junior-varsity-girls-bay-area-christian-school-home/
LOCATION:Bay Area Christian School\, 4800 W Main St\, League City\, TX\, 77573\, United States
CATEGORIES:Athletics
GEO:29.4951856;-95.1495904
X-APPLE-STRUCTURED-LOCATION;VALUE=URI;X-ADDRESS=Bay Area Christian School 4800 W Main St League City TX 77573 United States;X-APPLE-RADIUS=500;X-TITLE=4800 W Main St:geo:-95.1495904,29.4951856
END:VEVENT
BEGIN:VEVENT
DTSTART;TZID=America/Chicago:20240209T163000
DTEND;TZID=America/Chicago:20240209T173000
DTSTAMP:20260420T055519
CREATED:20231220T173727Z
LAST-MODIFIED:20240109T182156Z
UID:10000362-1707496200-1707499800@www.cypresschristian.org
SUMMARY:Basketball - Junior Varsity Boys - Bay Area Christian School (Home)
DESCRIPTION:
URL:https://www.cypresschristian.org/event/basketball-junior-varsity-boys-bay-area-christian-school-home/
LOCATION:Bay Area Christian School\, 4800 W Main St\, League City\, TX\, 77573\, United States
CATEGORIES:Athletics
GEO:29.4951856;-95.1495904
X-APPLE-STRUCTURED-LOCATION;VALUE=URI;X-ADDRESS=Bay Area Christian School 4800 W Main St League City TX 77573 United States;X-APPLE-RADIUS=500;X-TITLE=4800 W Main St:geo:-95.1495904,29.4951856
END:VEVENT
BEGIN:VEVENT
DTSTART;TZID=America/Chicago:20240209T180000
DTEND;TZID=America/Chicago:20240209T190000
DTSTAMP:20260420T055519
CREATED:20231220T173727Z
LAST-MODIFIED:20240109T182156Z
UID:10000363-1707501600-1707505200@www.cypresschristian.org
SUMMARY:Basketball - Varsity Girls - Bay Area Christian-Senior Night (Home)
DESCRIPTION:
URL:https://www.cypresschristian.org/event/basketball-varsity-girls-bay-area-christian-senior-night-home/
LOCATION:Bay Area Christian School\, 4800 W Main St\, League City\, TX\, 77573\, United States
CATEGORIES:Athletics
GEO:29.4951856;-95.1495904
X-APPLE-STRUCTURED-LOCATION;VALUE=URI;X-ADDRESS=Bay Area Christian School 4800 W Main St League City TX 77573 United States;X-APPLE-RADIUS=500;X-TITLE=4800 W Main St:geo:-95.1495904,29.4951856
END:VEVENT
BEGIN:VEVENT
DTSTART;TZID=America/Chicago:20240209T180000
DTEND;TZID=America/Chicago:20240209T200000
DTSTAMP:20260420T055519
CREATED:20240131T180700Z
LAST-MODIFIED:20240131T180700Z
UID:10000399-1707501600-1707508800@www.cypresschristian.org
SUMMARY:Baseball - Varsity vs. The Woodlands Christian Academy (TWCA)
DESCRIPTION:
URL:https://www.cypresschristian.org/event/baseball-varsity-vs-the-woodlands-christian-academy-twca-2/
LOCATION:East Gym\, 11123 Cypress North Houston Rd\, Houston\, TX\, 77065\, United States
CATEGORIES:Athletics
GEO:29.9520346;-95.5875756
X-APPLE-STRUCTURED-LOCATION;VALUE=URI;X-ADDRESS=East Gym 11123 Cypress North Houston Rd Houston TX 77065 United States;X-APPLE-RADIUS=500;X-TITLE=11123 Cypress North Houston Rd:geo:-95.5875756,29.9520346
END:VEVENT
BEGIN:VEVENT
DTSTART;TZID=America/Chicago:20240209T193000
DTEND;TZID=America/Chicago:20240209T203000
DTSTAMP:20260420T055519
CREATED:20231220T173729Z
LAST-MODIFIED:20240109T182156Z
UID:10000364-1707507000-1707510600@www.cypresschristian.org
SUMMARY:Basketball - Varsity Boys - Bay Area Christian-Senior Night (Home)
DESCRIPTION:
URL:https://www.cypresschristian.org/event/basketball-varsity-boys-bay-area-christian-senior-night-home/
LOCATION:Bay Area Christian School\, 4800 W Main St\, League City\, TX\, 77573\, United States
CATEGORIES:Athletics
GEO:29.4951856;-95.1495904
X-APPLE-STRUCTURED-LOCATION;VALUE=URI;X-ADDRESS=Bay Area Christian School 4800 W Main St League City TX 77573 United States;X-APPLE-RADIUS=500;X-TITLE=4800 W Main St:geo:-95.1495904,29.4951856
END:VEVENT
BEGIN:VEVENT
DTSTART;TZID=America/Chicago:20240210T120000
DTEND;TZID=America/Chicago:20240210T140000
DTSTAMP:20260420T055519
CREATED:20240131T184734Z
LAST-MODIFIED:20240205T200040Z
UID:10000400-1707566400-1707573600@www.cypresschristian.org
SUMMARY:Baseball - Varsity vs. Waltrip
DESCRIPTION:
URL:https://www.cypresschristian.org/event/baseball-varsity-walltrip/
LOCATION:East Gym\, 11123 Cypress North Houston Rd\, Houston\, TX\, 77065\, United States
CATEGORIES:Athletics
GEO:29.9520346;-95.5875756
X-APPLE-STRUCTURED-LOCATION;VALUE=URI;X-ADDRESS=East Gym 11123 Cypress North Houston Rd Houston TX 77065 United States;X-APPLE-RADIUS=500;X-TITLE=11123 Cypress North Houston Rd:geo:-95.5875756,29.9520346
END:VEVENT
BEGIN:VEVENT
DTSTART;TZID=America/Chicago:20240210T120000
DTEND;TZID=America/Chicago:20240210T140000
DTSTAMP:20260420T055519
CREATED:20240205T174713Z
LAST-MODIFIED:20240205T174713Z
UID:10000401-1707566400-1707573600@www.cypresschristian.org
SUMMARY:Baseball - Junior Varsity  Waltrip High School
DESCRIPTION:
URL:https://www.cypresschristian.org/event/baseball-junior-varsity-waltrip-high-school/
LOCATION:Waltrip High School\, 1900 W 34th St\, Houston\, 77018\, United States
CATEGORIES:Athletics
GEO:29.8185786;-95.4311206
X-APPLE-STRUCTURED-LOCATION;VALUE=URI;X-ADDRESS=Waltrip High School 1900 W 34th St Houston 77018 United States;X-APPLE-RADIUS=500;X-TITLE=1900 W 34th St:geo:-95.4311206,29.8185786
END:VEVENT
BEGIN:VEVENT
DTSTART;TZID=America/Chicago:20240212T163000
DTEND;TZID=America/Chicago:20240212T180000
DTSTAMP:20260420T055519
CREATED:20231220T173729Z
LAST-MODIFIED:20240109T182156Z
UID:10000365-1707755400-1707760800@www.cypresschristian.org
SUMMARY:Soccer - Varsity Girls - St. Thomas Episcopal School (Away)
DESCRIPTION:
URL:https://www.cypresschristian.org/event/soccer-varsity-girls-st-thomas-episcopal-school-away/
LOCATION:Willowbend Field\, 4113 Willowbend Blvd.\, Houston\, TX\, 77025\, United States
CATEGORIES:Athletics
GEO:29.6836967;-95.4306141
X-APPLE-STRUCTURED-LOCATION;VALUE=URI;X-ADDRESS=Willowbend Field 4113 Willowbend Blvd. Houston TX 77025 United States;X-APPLE-RADIUS=500;X-TITLE=4113 Willowbend Blvd.:geo:-95.4306141,29.6836967
END:VEVENT
BEGIN:VEVENT
DTSTART;TZID=America/Chicago:20240212T170000
DTEND;TZID=America/Chicago:20240212T183000
DTSTAMP:20260420T055519
CREATED:20231220T173729Z
LAST-MODIFIED:20240109T182156Z
UID:10000366-1707757200-1707762600@www.cypresschristian.org
SUMMARY:Soccer - Varsity Boys - Lutheran High School North (Home)
DESCRIPTION:
URL:https://www.cypresschristian.org/event/soccer-varsity-boys-lutheran-high-school-north-home/
LOCATION:The Stadium at Cypress Christian School\, 21455 Bridgeland Creek Pkwy\, Cypress\, TX\, 77433\, United States
CATEGORIES:Athletics
GEO:29.9520346;-95.5875756
X-APPLE-STRUCTURED-LOCATION;VALUE=URI;X-ADDRESS=The Stadium at Cypress Christian School 21455 Bridgeland Creek Pkwy Cypress TX 77433 United States;X-APPLE-RADIUS=500;X-TITLE=21455 Bridgeland Creek Pkwy:geo:-95.5875756,29.9520346
END:VEVENT
END:VCALENDAR