BEGIN:VCALENDAR
VERSION:2.0
PRODID:-//Cypress Christian School - ECPv6.15.19//NONSGML v1.0//EN
CALSCALE:GREGORIAN
METHOD:PUBLISH
X-ORIGINAL-URL:https://www.cypresschristian.org
X-WR-CALDESC:Events for Cypress Christian School
REFRESH-INTERVAL;VALUE=DURATION:PT1H
X-Robots-Tag:noindex
X-PUBLISHED-TTL:PT1H
BEGIN:VTIMEZONE
TZID:America/Chicago
BEGIN:DAYLIGHT
TZOFFSETFROM:-0600
TZOFFSETTO:-0500
TZNAME:CDT
DTSTART:20220313T080000
END:DAYLIGHT
BEGIN:STANDARD
TZOFFSETFROM:-0500
TZOFFSETTO:-0600
TZNAME:CST
DTSTART:20221106T070000
END:STANDARD
BEGIN:DAYLIGHT
TZOFFSETFROM:-0600
TZOFFSETTO:-0500
TZNAME:CDT
DTSTART:20230312T080000
END:DAYLIGHT
BEGIN:STANDARD
TZOFFSETFROM:-0500
TZOFFSETTO:-0600
TZNAME:CST
DTSTART:20231105T070000
END:STANDARD
BEGIN:DAYLIGHT
TZOFFSETFROM:-0600
TZOFFSETTO:-0500
TZNAME:CDT
DTSTART:20240310T080000
END:DAYLIGHT
BEGIN:STANDARD
TZOFFSETFROM:-0500
TZOFFSETTO:-0600
TZNAME:CST
DTSTART:20241103T070000
END:STANDARD
BEGIN:DAYLIGHT
TZOFFSETFROM:-0600
TZOFFSETTO:-0500
TZNAME:CDT
DTSTART:20250309T080000
END:DAYLIGHT
BEGIN:STANDARD
TZOFFSETFROM:-0500
TZOFFSETTO:-0600
TZNAME:CST
DTSTART:20251102T070000
END:STANDARD
END:VTIMEZONE
BEGIN:VEVENT
DTSTART;VALUE=DATE:20231231
DTEND;VALUE=DATE:20240102
DTSTAMP:20260420T160912
CREATED:20231220T162821Z
LAST-MODIFIED:20231220T162821Z
UID:10000204-1704045600-1704131999@www.cypresschristian.org
SUMMARY:Christmas Holiday
DESCRIPTION:
URL:https://www.cypresschristian.org/event/christmas-holiday-20/
END:VEVENT
BEGIN:VEVENT
DTSTART;VALUE=DATE:20231231
DTEND;VALUE=DATE:20240102
DTSTAMP:20260420T160912
CREATED:20231220T162821Z
LAST-MODIFIED:20231220T162821Z
UID:10000210-1704045600-1704131999@www.cypresschristian.org
SUMMARY:Christmas Holiday
DESCRIPTION:
URL:https://www.cypresschristian.org/event/christmas-holiday-19/
END:VEVENT
BEGIN:VEVENT
DTSTART;VALUE=DATE:20240101
DTEND;VALUE=DATE:20240103
DTSTAMP:20260420T160912
CREATED:20231220T162821Z
LAST-MODIFIED:20231220T162821Z
UID:10000211-1704132000-1704218399@www.cypresschristian.org
SUMMARY:Christmas Holiday
DESCRIPTION:
URL:https://www.cypresschristian.org/event/christmas-holiday-21/
END:VEVENT
BEGIN:VEVENT
DTSTART;TZID=America/Chicago:20240102T130000
DTEND;TZID=America/Chicago:20240102T140000
DTSTAMP:20260420T160912
CREATED:20231220T172848Z
LAST-MODIFIED:20240109T182209Z
UID:10000249-1704200400-1704204000@www.cypresschristian.org
SUMMARY:Basketball - Junior Varsity Girls - Duchesne Academy (Home)
DESCRIPTION:
URL:https://www.cypresschristian.org/event/basketball-junior-varsity-girls-duchesne-academy-home/
LOCATION:East Gym\, 11123 Cypress North Houston Rd.\, Houston\, TX\, 77065\, United States
CATEGORIES:Athletics
GEO:29.9520346;-95.5875756
X-APPLE-STRUCTURED-LOCATION;VALUE=URI;X-ADDRESS=East Gym 11123 Cypress North Houston Rd. Houston TX 77065 United States;X-APPLE-RADIUS=500;X-TITLE=11123 Cypress North Houston Rd.:geo:-95.5875756,29.9520346
END:VEVENT
BEGIN:VEVENT
DTSTART;TZID=America/Chicago:20240102T143000
DTEND;TZID=America/Chicago:20240102T153000
DTSTAMP:20260420T160912
CREATED:20231220T172849Z
LAST-MODIFIED:20240109T182209Z
UID:10000250-1704205800-1704209400@www.cypresschristian.org
SUMMARY:Basketball - Varsity Girls - Duchesne Academy (Home)
DESCRIPTION:
URL:https://www.cypresschristian.org/event/basketball-varsity-girls-duchesne-academy-home/
LOCATION:East Gym\, 11123 Cypress North Houston Rd.\, Houston\, TX\, 77065\, United States
CATEGORIES:Athletics
GEO:29.9520346;-95.5875756
X-APPLE-STRUCTURED-LOCATION;VALUE=URI;X-ADDRESS=East Gym 11123 Cypress North Houston Rd. Houston TX 77065 United States;X-APPLE-RADIUS=500;X-TITLE=11123 Cypress North Houston Rd.:geo:-95.5875756,29.9520346
END:VEVENT
BEGIN:VEVENT
DTSTART;VALUE=DATE:20240102
DTEND;VALUE=DATE:20240104
DTSTAMP:20260420T160912
CREATED:20231220T162821Z
LAST-MODIFIED:20231220T163452Z
UID:10000212-1704218400-1704304799@www.cypresschristian.org
SUMMARY:Teacher In-Service /Student Holiday
DESCRIPTION:
URL:https://www.cypresschristian.org/event/teacher-in-service-student-holiday/
CATEGORIES:Academic
END:VEVENT
BEGIN:VEVENT
DTSTART;VALUE=DATE:20240102
DTEND;VALUE=DATE:20240104
DTSTAMP:20260420T160912
CREATED:20231220T163452Z
LAST-MODIFIED:20231220T163452Z
UID:10000213-1704218400-1704304799@www.cypresschristian.org
SUMMARY:Protected Re-enrollment
DESCRIPTION:Protected Re-enrollment
URL:https://www.cypresschristian.org/event/protected-re-enrollment/
CATEGORIES:Academic
END:VEVENT
BEGIN:VEVENT
DTSTART;VALUE=DATE:20240103
DTEND;VALUE=DATE:20240105
DTSTAMP:20260420T160912
CREATED:20231220T163452Z
LAST-MODIFIED:20231220T163452Z
UID:10000214-1704304800-1704391199@www.cypresschristian.org
SUMMARY:Protected Re-enrollment
DESCRIPTION:Protected Re-enrollment
URL:https://www.cypresschristian.org/event/protected-re-enrollment-2/
CATEGORIES:Academic
END:VEVENT
BEGIN:VEVENT
DTSTART;TZID=America/Chicago:20240104T153000
DTEND;TZID=America/Chicago:20240104T163000
DTSTAMP:20260420T160912
CREATED:20231220T172849Z
LAST-MODIFIED:20240109T182208Z
UID:10000251-1704382200-1704385800@www.cypresschristian.org
SUMMARY:Basketball - Junior Varsity Girls - The John Cooper School (Home)
DESCRIPTION:
URL:https://www.cypresschristian.org/event/basketball-junior-varsity-girls-the-john-cooper-school-home/
LOCATION:The John Cooper School\, 1 John Cooper Dr.\, The Woodlands\, TX\, 77381\, United States
CATEGORIES:Athletics
GEO:30.1759968;-95.5258882
X-APPLE-STRUCTURED-LOCATION;VALUE=URI;X-ADDRESS=The John Cooper School 1 John Cooper Dr. The Woodlands TX 77381 United States;X-APPLE-RADIUS=500;X-TITLE=1 John Cooper Dr.:geo:-95.5258882,30.1759968
END:VEVENT
BEGIN:VEVENT
DTSTART;TZID=America/Chicago:20240104T163000
DTEND;TZID=America/Chicago:20240104T173000
DTSTAMP:20260420T160912
CREATED:20231220T172849Z
LAST-MODIFIED:20240109T182208Z
UID:10000252-1704385800-1704389400@www.cypresschristian.org
SUMMARY:Basketball - Junior Varsity Boys - The John Cooper School (Home)
DESCRIPTION:
URL:https://www.cypresschristian.org/event/basketball-junior-varsity-boys-the-john-cooper-school-home/
LOCATION:The John Cooper School\, 1 John Cooper Dr.\, The Woodlands\, TX\, 77381\, United States
CATEGORIES:Athletics
GEO:30.1759968;-95.5258882
X-APPLE-STRUCTURED-LOCATION;VALUE=URI;X-ADDRESS=The John Cooper School 1 John Cooper Dr. The Woodlands TX 77381 United States;X-APPLE-RADIUS=500;X-TITLE=1 John Cooper Dr.:geo:-95.5258882,30.1759968
END:VEVENT
BEGIN:VEVENT
DTSTART;TZID=America/Chicago:20240104T163000
DTEND;TZID=America/Chicago:20240104T173000
DTSTAMP:20260420T160912
CREATED:20231220T172849Z
LAST-MODIFIED:20231220T184924Z
UID:10000253-1704385800-1704389400@www.cypresschristian.org
SUMMARY:Soccer - Middle School A Girls - St. Joseph Catholic School-Bryan (Home)
DESCRIPTION:
URL:https://www.cypresschristian.org/event/soccer-middle-school-a-girls-st-joseph-catholic-school-bryan-home/
END:VEVENT
BEGIN:VEVENT
DTSTART;TZID=America/Chicago:20240104T163000
DTEND;TZID=America/Chicago:20240104T173000
DTSTAMP:20260420T160912
CREATED:20231220T172859Z
LAST-MODIFIED:20240109T182208Z
UID:10000254-1704385800-1704389400@www.cypresschristian.org
SUMMARY:Basketball - Middle School B Girls - Northland Christian School (Home)
DESCRIPTION:
URL:https://www.cypresschristian.org/event/basketball-middle-school-b-girls-northland-christian-school-home/
LOCATION:East Gym\, 11123 Cypress North Houston Rd.\, Houston\, TX\, 77065\, United States
CATEGORIES:Athletics
GEO:29.9520346;-95.5875756
X-APPLE-STRUCTURED-LOCATION;VALUE=URI;X-ADDRESS=East Gym 11123 Cypress North Houston Rd. Houston TX 77065 United States;X-APPLE-RADIUS=500;X-TITLE=11123 Cypress North Houston Rd.:geo:-95.5875756,29.9520346
END:VEVENT
BEGIN:VEVENT
DTSTART;TZID=America/Chicago:20240104T173000
DTEND;TZID=America/Chicago:20240104T183000
DTSTAMP:20260420T160912
CREATED:20231220T172859Z
LAST-MODIFIED:20240109T182208Z
UID:10000255-1704389400-1704393000@www.cypresschristian.org
SUMMARY:Basketball - Middle School B Boys - Northland Christian School (Home)
DESCRIPTION:
URL:https://www.cypresschristian.org/event/basketball-middle-school-b-boys-northland-christian-school-home/
LOCATION:East Gym\, 11123 Cypress North Houston Rd.\, Houston\, TX\, 77065\, United States
CATEGORIES:Athletics
GEO:29.9520346;-95.5875756
X-APPLE-STRUCTURED-LOCATION;VALUE=URI;X-ADDRESS=East Gym 11123 Cypress North Houston Rd. Houston TX 77065 United States;X-APPLE-RADIUS=500;X-TITLE=11123 Cypress North Houston Rd.:geo:-95.5875756,29.9520346
END:VEVENT
BEGIN:VEVENT
DTSTART;TZID=America/Chicago:20240104T180000
DTEND;TZID=America/Chicago:20240104T190000
DTSTAMP:20260420T160912
CREATED:20231220T172900Z
LAST-MODIFIED:20240109T182208Z
UID:10000256-1704391200-1704394800@www.cypresschristian.org
SUMMARY:Basketball - Varsity Girls - The John Cooper School (Home)
DESCRIPTION:
URL:https://www.cypresschristian.org/event/basketball-varsity-girls-the-john-cooper-school-home/
LOCATION:The John Cooper School\, 1 John Cooper Dr.\, The Woodlands\, TX\, 77381\, United States
CATEGORIES:Athletics
GEO:30.1759968;-95.5258882
X-APPLE-STRUCTURED-LOCATION;VALUE=URI;X-ADDRESS=The John Cooper School 1 John Cooper Dr. The Woodlands TX 77381 United States;X-APPLE-RADIUS=500;X-TITLE=1 John Cooper Dr.:geo:-95.5258882,30.1759968
END:VEVENT
BEGIN:VEVENT
DTSTART;TZID=America/Chicago:20240104T180000
DTEND;TZID=America/Chicago:20240104T190000
DTSTAMP:20260420T160912
CREATED:20231220T172900Z
LAST-MODIFIED:20231220T172900Z
UID:10000257-1704391200-1704394800@www.cypresschristian.org
SUMMARY:Soccer - Middle School A Boys - St. Joseph Catholic School-Bryan (Home)
DESCRIPTION:
URL:https://www.cypresschristian.org/event/soccer-middle-school-a-boys-st-joseph-catholic-school-bryan-home/
END:VEVENT
BEGIN:VEVENT
DTSTART;VALUE=DATE:20240104
DTEND;VALUE=DATE:20240106
DTSTAMP:20260420T160912
CREATED:20231220T163452Z
LAST-MODIFIED:20231220T163452Z
UID:10000215-1704391200-1704477599@www.cypresschristian.org
SUMMARY:Protected Re-enrollment
DESCRIPTION:Protected Re-enrollment
URL:https://www.cypresschristian.org/event/protected-re-enrollment-3/
CATEGORIES:Academic
END:VEVENT
BEGIN:VEVENT
DTSTART;TZID=America/Chicago:20240104T183000
DTEND;TZID=America/Chicago:20240104T193000
DTSTAMP:20260420T160912
CREATED:20231220T172900Z
LAST-MODIFIED:20240109T182208Z
UID:10000258-1704393000-1704396600@www.cypresschristian.org
SUMMARY:Basketball - Middle School A Girls - Northland Christian School (Home)
DESCRIPTION:
URL:https://www.cypresschristian.org/event/basketball-middle-school-a-girls-northland-christian-school-home/
LOCATION:East Gym\, 11123 Cypress North Houston Rd.\, Houston\, TX\, 77065\, United States
CATEGORIES:Athletics
GEO:29.9520346;-95.5875756
X-APPLE-STRUCTURED-LOCATION;VALUE=URI;X-ADDRESS=East Gym 11123 Cypress North Houston Rd. Houston TX 77065 United States;X-APPLE-RADIUS=500;X-TITLE=11123 Cypress North Houston Rd.:geo:-95.5875756,29.9520346
END:VEVENT
BEGIN:VEVENT
DTSTART;TZID=America/Chicago:20240104T193000
DTEND;TZID=America/Chicago:20240104T203000
DTSTAMP:20260420T160912
CREATED:20231220T172927Z
LAST-MODIFIED:20240109T182208Z
UID:10000259-1704396600-1704400200@www.cypresschristian.org
SUMMARY:Basketball - Varsity Boys - The John Cooper School (Home)
DESCRIPTION:
URL:https://www.cypresschristian.org/event/basketball-varsity-boys-the-john-cooper-school-home/
LOCATION:The John Cooper School\, 1 John Cooper Dr.\, The Woodlands\, TX\, 77381\, United States
CATEGORIES:Athletics
GEO:30.1759968;-95.5258882
X-APPLE-STRUCTURED-LOCATION;VALUE=URI;X-ADDRESS=The John Cooper School 1 John Cooper Dr. The Woodlands TX 77381 United States;X-APPLE-RADIUS=500;X-TITLE=1 John Cooper Dr.:geo:-95.5258882,30.1759968
END:VEVENT
BEGIN:VEVENT
DTSTART;TZID=America/Chicago:20240104T193000
DTEND;TZID=America/Chicago:20240104T203000
DTSTAMP:20260420T160912
CREATED:20231220T172927Z
LAST-MODIFIED:20240109T182208Z
UID:10000260-1704396600-1704400200@www.cypresschristian.org
SUMMARY:Basketball - Middle School A Boys - Northland Christian School (Home)
DESCRIPTION:
URL:https://www.cypresschristian.org/event/basketball-middle-school-a-boys-northland-christian-school-home/
LOCATION:East Gym\, 11123 Cypress North Houston Rd.\, Houston\, TX\, 77065\, United States
CATEGORIES:Athletics
GEO:29.9520346;-95.5875756
X-APPLE-STRUCTURED-LOCATION;VALUE=URI;X-ADDRESS=East Gym 11123 Cypress North Houston Rd. Houston TX 77065 United States;X-APPLE-RADIUS=500;X-TITLE=11123 Cypress North Houston Rd.:geo:-95.5875756,29.9520346
END:VEVENT
BEGIN:VEVENT
DTSTART;VALUE=DATE:20240105
DTEND;VALUE=DATE:20240107
DTSTAMP:20260420T160912
CREATED:20231220T163453Z
LAST-MODIFIED:20231220T163453Z
UID:10000216-1704477600-1704563999@www.cypresschristian.org
SUMMARY:Protected Re-enrollment
DESCRIPTION:Protected Re-enrollment
URL:https://www.cypresschristian.org/event/protected-re-enrollment-4/
CATEGORIES:Academic
END:VEVENT
BEGIN:VEVENT
DTSTART;TZID=America/Chicago:20240106T000000
DTEND;TZID=America/Chicago:20240106T000000
DTSTAMP:20260420T160912
CREATED:20231220T172927Z
LAST-MODIFIED:20240109T182208Z
UID:10000261-1704499200-1704499200@www.cypresschristian.org
SUMMARY:Swimming - Varsity  - HS/MS BACS New Year Exhibition (Away)
DESCRIPTION:
URL:https://www.cypresschristian.org/event/swimming-varsity-hs-ms-bacs-new-year-exhibition-away/
LOCATION:Old Kempner Stadium\, 223 5th St.\, Sugar Land\, TX\, 77498\, United States
CATEGORIES:Athletics
GEO:29.626983;-95.6298077
X-APPLE-STRUCTURED-LOCATION;VALUE=URI;X-ADDRESS=Old Kempner Stadium 223 5th St. Sugar Land TX 77498 United States;X-APPLE-RADIUS=500;X-TITLE=223 5th St.:geo:-95.6298077,29.626983
END:VEVENT
BEGIN:VEVENT
DTSTART;TZID=America/Chicago:20240106T000000
DTEND;TZID=America/Chicago:20240106T000000
DTSTAMP:20260420T160912
CREATED:20231220T172928Z
LAST-MODIFIED:20240109T182207Z
UID:10000262-1704499200-1704499200@www.cypresschristian.org
SUMMARY:Swimming - Middle School A  - HS/MS BACS New Year Exhibition (Away)
DESCRIPTION:
URL:https://www.cypresschristian.org/event/swimming-middle-school-a-hs-ms-bacs-new-year-exhibition-away/
LOCATION:Old Kempner Stadium\, 223 5th St.\, Sugar Land\, TX\, 77498\, United States
CATEGORIES:Athletics
GEO:29.626983;-95.6298077
X-APPLE-STRUCTURED-LOCATION;VALUE=URI;X-ADDRESS=Old Kempner Stadium 223 5th St. Sugar Land TX 77498 United States;X-APPLE-RADIUS=500;X-TITLE=223 5th St.:geo:-95.6298077,29.626983
END:VEVENT
BEGIN:VEVENT
DTSTART;TZID=America/Chicago:20240106T100000
DTEND;TZID=America/Chicago:20240106T113000
DTSTAMP:20260420T160912
CREATED:20231220T172928Z
LAST-MODIFIED:20240109T182207Z
UID:10000263-1704535200-1704540600@www.cypresschristian.org
SUMMARY:Soccer - Varsity Girls - The John Cooper School (Home)
DESCRIPTION:
URL:https://www.cypresschristian.org/event/soccer-varsity-girls-the-john-cooper-school-home/
LOCATION:The Stadium at Cypress Christian School\, 21455 Bridgeland Creek Pkwy\, Cypress\, TX\, 77433\, United States
CATEGORIES:Athletics
GEO:29.9520346;-95.5875756
X-APPLE-STRUCTURED-LOCATION;VALUE=URI;X-ADDRESS=The Stadium at Cypress Christian School 21455 Bridgeland Creek Pkwy Cypress TX 77433 United States;X-APPLE-RADIUS=500;X-TITLE=21455 Bridgeland Creek Pkwy:geo:-95.5875756,29.9520346
END:VEVENT
BEGIN:VEVENT
DTSTART;TZID=America/Chicago:20240106T120000
DTEND;TZID=America/Chicago:20240106T133000
DTSTAMP:20260420T160913
CREATED:20231220T172950Z
LAST-MODIFIED:20240109T182207Z
UID:10000264-1704542400-1704547800@www.cypresschristian.org
SUMMARY:Soccer - Varsity Boys - The John Cooper School (Home)
DESCRIPTION:
URL:https://www.cypresschristian.org/event/soccer-varsity-boys-the-john-cooper-school-home/
LOCATION:The John Cooper School\, 1 John Cooper Dr.\, The Woodlands\, TX\, 77381\, United States
CATEGORIES:Athletics
GEO:30.1759968;-95.5258882
X-APPLE-STRUCTURED-LOCATION;VALUE=URI;X-ADDRESS=The John Cooper School 1 John Cooper Dr. The Woodlands TX 77381 United States;X-APPLE-RADIUS=500;X-TITLE=1 John Cooper Dr.:geo:-95.5258882,30.1759968
END:VEVENT
BEGIN:VEVENT
DTSTART;VALUE=DATE:20240106
DTEND;VALUE=DATE:20240108
DTSTAMP:20260420T160913
CREATED:20231220T163453Z
LAST-MODIFIED:20231220T163453Z
UID:10000217-1704564000-1704650399@www.cypresschristian.org
SUMMARY:Protected Re-enrollment
DESCRIPTION:Protected Re-enrollment
URL:https://www.cypresschristian.org/event/protected-re-enrollment-5/
CATEGORIES:Academic
END:VEVENT
BEGIN:VEVENT
DTSTART;VALUE=DATE:20240107
DTEND;VALUE=DATE:20240109
DTSTAMP:20260420T160913
CREATED:20231220T163453Z
LAST-MODIFIED:20231220T163453Z
UID:10000218-1704650400-1704736799@www.cypresschristian.org
SUMMARY:Protected Re-enrollment
DESCRIPTION:Protected Re-enrollment
URL:https://www.cypresschristian.org/event/protected-re-enrollment-6/
CATEGORIES:Academic
END:VEVENT
BEGIN:VEVENT
DTSTART;TZID=America/Chicago:20240108T160000
DTEND;TZID=America/Chicago:20240108T170000
DTSTAMP:20260420T160913
CREATED:20231220T172950Z
LAST-MODIFIED:20240109T182207Z
UID:10000265-1704729600-1704733200@www.cypresschristian.org
SUMMARY:Basketball - Middle School C Boys - The Woodlands Christian Academy (TWCA) (Home)
DESCRIPTION:
URL:https://www.cypresschristian.org/event/basketball-middle-school-c-boys-the-woodlands-christian-academy-twca-home/
LOCATION:East Gym\, 11123 Cypress North Houston Rd.\, Houston\, TX\, 77065\, United States
CATEGORIES:Athletics
GEO:29.9520346;-95.5875756
X-APPLE-STRUCTURED-LOCATION;VALUE=URI;X-ADDRESS=East Gym 11123 Cypress North Houston Rd. Houston TX 77065 United States;X-APPLE-RADIUS=500;X-TITLE=11123 Cypress North Houston Rd.:geo:-95.5875756,29.9520346
END:VEVENT
BEGIN:VEVENT
DTSTART;TZID=America/Chicago:20240108T170000
DTEND;TZID=America/Chicago:20240108T180000
DTSTAMP:20260420T160913
CREATED:20231220T172950Z
LAST-MODIFIED:20240109T182207Z
UID:10000267-1704733200-1704736800@www.cypresschristian.org
SUMMARY:Basketball - Middle School B Girls - The Woodlands Christian Academy (TWCA) (Home)
DESCRIPTION:
URL:https://www.cypresschristian.org/event/basketball-middle-school-b-girls-the-woodlands-christian-academy-twca-home/
LOCATION:East Gym\, 11123 Cypress North Houston Rd.\, Houston\, TX\, 77065\, United States
CATEGORIES:Athletics
GEO:29.9520346;-95.5875756
X-APPLE-STRUCTURED-LOCATION;VALUE=URI;X-ADDRESS=East Gym 11123 Cypress North Houston Rd. Houston TX 77065 United States;X-APPLE-RADIUS=500;X-TITLE=11123 Cypress North Houston Rd.:geo:-95.5875756,29.9520346
END:VEVENT
BEGIN:VEVENT
DTSTART;TZID=America/Chicago:20240108T170000
DTEND;TZID=America/Chicago:20240108T183000
DTSTAMP:20260420T160913
CREATED:20231220T172950Z
LAST-MODIFIED:20240109T182207Z
UID:10000266-1704733200-1704738600@www.cypresschristian.org
SUMMARY:Soccer - Varsity Girls - Northland Christian School (Away)
DESCRIPTION:
URL:https://www.cypresschristian.org/event/soccer-varsity-girls-northland-christian-school-away/
LOCATION:Northland Christian School\, 4363 Sylvanfield Drive\, Houston\, TX\, 77014\, United States
CATEGORIES:Athletics
GEO:29.986057;-95.490499
X-APPLE-STRUCTURED-LOCATION;VALUE=URI;X-ADDRESS=Northland Christian School 4363 Sylvanfield Drive Houston TX 77014 United States;X-APPLE-RADIUS=500;X-TITLE=4363 Sylvanfield Drive:geo:-95.490499,29.986057
END:VEVENT
BEGIN:VEVENT
DTSTART;TZID=America/Chicago:20240108T180000
DTEND;TZID=America/Chicago:20240108T190000
DTSTAMP:20260420T160913
CREATED:20231220T172951Z
LAST-MODIFIED:20240109T182207Z
UID:10000268-1704736800-1704740400@www.cypresschristian.org
SUMMARY:Basketball - Middle School B Boys - The Woodlands Christian Academy (TWCA) (Home)
DESCRIPTION:
URL:https://www.cypresschristian.org/event/basketball-middle-school-b-boys-the-woodlands-christian-academy-twca-home/
LOCATION:East Gym\, 11123 Cypress North Houston Rd.\, Houston\, TX\, 77065\, United States
CATEGORIES:Athletics
GEO:29.9520346;-95.5875756
X-APPLE-STRUCTURED-LOCATION;VALUE=URI;X-ADDRESS=East Gym 11123 Cypress North Houston Rd. Houston TX 77065 United States;X-APPLE-RADIUS=500;X-TITLE=11123 Cypress North Houston Rd.:geo:-95.5875756,29.9520346
END:VEVENT
END:VCALENDAR