BEGIN:VCALENDAR
VERSION:2.0
PRODID:-//Cypress Christian School - ECPv6.15.19//NONSGML v1.0//EN
CALSCALE:GREGORIAN
METHOD:PUBLISH
X-ORIGINAL-URL:https://www.cypresschristian.org
X-WR-CALDESC:Events for Cypress Christian School
REFRESH-INTERVAL;VALUE=DURATION:PT1H
X-Robots-Tag:noindex
X-PUBLISHED-TTL:PT1H
BEGIN:VTIMEZONE
TZID:America/Chicago
BEGIN:DAYLIGHT
TZOFFSETFROM:-0600
TZOFFSETTO:-0500
TZNAME:CDT
DTSTART:20220313T080000
END:DAYLIGHT
BEGIN:STANDARD
TZOFFSETFROM:-0500
TZOFFSETTO:-0600
TZNAME:CST
DTSTART:20221106T070000
END:STANDARD
BEGIN:DAYLIGHT
TZOFFSETFROM:-0600
TZOFFSETTO:-0500
TZNAME:CDT
DTSTART:20230312T080000
END:DAYLIGHT
BEGIN:STANDARD
TZOFFSETFROM:-0500
TZOFFSETTO:-0600
TZNAME:CST
DTSTART:20231105T070000
END:STANDARD
BEGIN:DAYLIGHT
TZOFFSETFROM:-0600
TZOFFSETTO:-0500
TZNAME:CDT
DTSTART:20240310T080000
END:DAYLIGHT
BEGIN:STANDARD
TZOFFSETFROM:-0500
TZOFFSETTO:-0600
TZNAME:CST
DTSTART:20241103T070000
END:STANDARD
END:VTIMEZONE
BEGIN:VEVENT
DTSTART;TZID=America/Chicago:20231103T193000
DTEND;TZID=America/Chicago:20231103T220000
DTSTAMP:20260420T232308
CREATED:20230623T161424Z
LAST-MODIFIED:20240109T182210Z
UID:10000185-1699039800-1699048800@www.cypresschristian.org
SUMMARY:Football - Varsity  vs. Bay Area Christian School (Home)
DESCRIPTION:
URL:https://www.cypresschristian.org/event/football-varsity-vs-bay-area-christian-school-home/
LOCATION:The Stadium at Cypress Christian School\, 21455 Bridgeland Creek Pkwy\, Cypress\, TX\, 77433\, United States
CATEGORIES:Athletics
GEO:29.9520346;-95.5875756
X-APPLE-STRUCTURED-LOCATION;VALUE=URI;X-ADDRESS=The Stadium at Cypress Christian School 21455 Bridgeland Creek Pkwy Cypress TX 77433 United States;X-APPLE-RADIUS=500;X-TITLE=21455 Bridgeland Creek Pkwy:geo:-95.5875756,29.9520346
END:VEVENT
BEGIN:VEVENT
DTSTART;TZID=America/Chicago:20231110T180000
DTEND;TZID=America/Chicago:20231111T175959
DTSTAMP:20260420T232308
CREATED:20230623T161424Z
LAST-MODIFIED:20240109T182210Z
UID:10000186-1699639200-1699725599@www.cypresschristian.org
SUMMARY:Football - Varsity  - TAPPS Area Playoffs (Away)
DESCRIPTION:
URL:https://www.cypresschristian.org/event/football-varsity-tapps-area-playoffs-away/
LOCATION:Old Kempner Stadium\, 223 5th St.\, Sugar Land\, TX\, 77498\, United States
CATEGORIES:Athletics
GEO:29.626983;-95.6298077
X-APPLE-STRUCTURED-LOCATION;VALUE=URI;X-ADDRESS=Old Kempner Stadium 223 5th St. Sugar Land TX 77498 United States;X-APPLE-RADIUS=500;X-TITLE=223 5th St.:geo:-95.6298077,29.626983
END:VEVENT
BEGIN:VEVENT
DTSTART;TZID=America/Chicago:20231114T170000
DTEND;TZID=America/Chicago:20231114T180000
DTSTAMP:20260420T232308
CREATED:20241113T230521Z
LAST-MODIFIED:20241113T230521Z
UID:10001158-1699981200-1699984800@www.cypresschristian.org
SUMMARY:Basketball - Middle School C Girls vs Aristoi Classical Academy
DESCRIPTION:
URL:https://www.cypresschristian.org/event/basketball-middle-school-c-girls-vs-aristoi-classical-academy/
CATEGORIES:Athletics
END:VEVENT
BEGIN:VEVENT
DTSTART;TZID=America/Chicago:20231117T180000
DTEND;TZID=America/Chicago:20231118T175959
DTSTAMP:20260420T232308
CREATED:20230623T161425Z
LAST-MODIFIED:20240109T182209Z
UID:10000187-1700244000-1700330399@www.cypresschristian.org
SUMMARY:Football - Varsity  - TAPPS Regional Playoffs (Away)
DESCRIPTION:
URL:https://www.cypresschristian.org/event/football-varsity-tapps-regional-playoffs-away/
LOCATION:Old Kempner Stadium\, 223 5th St.\, Sugar Land\, TX\, 77498\, United States
CATEGORIES:Athletics
GEO:29.626983;-95.6298077
X-APPLE-STRUCTURED-LOCATION;VALUE=URI;X-ADDRESS=Old Kempner Stadium 223 5th St. Sugar Land TX 77498 United States;X-APPLE-RADIUS=500;X-TITLE=223 5th St.:geo:-95.6298077,29.626983
END:VEVENT
BEGIN:VEVENT
DTSTART;VALUE=DATE:20231125
DTEND;VALUE=DATE:20231126
DTSTAMP:20260420T232308
CREATED:20230623T161425Z
LAST-MODIFIED:20240109T182209Z
UID:10000188-1700870400-1700956799@www.cypresschristian.org
SUMMARY:Football - Varsity  - TAPPS State Semifinals (Away)
DESCRIPTION:
URL:https://www.cypresschristian.org/event/football-varsity-tapps-state-semifinals-away/
LOCATION:Old Kempner Stadium\, 223 5th St.\, Sugar Land\, TX\, 77498\, United States
CATEGORIES:Athletics
GEO:29.626983;-95.6298077
X-APPLE-STRUCTURED-LOCATION;VALUE=URI;X-ADDRESS=Old Kempner Stadium 223 5th St. Sugar Land TX 77498 United States;X-APPLE-RADIUS=500;X-TITLE=223 5th St.:geo:-95.6298077,29.626983
END:VEVENT
END:VCALENDAR