BEGIN:VCALENDAR
VERSION:2.0
PRODID:-//Cypress Christian School - ECPv6.15.19//NONSGML v1.0//EN
CALSCALE:GREGORIAN
METHOD:PUBLISH
X-ORIGINAL-URL:https://www.cypresschristian.org
X-WR-CALDESC:Events for Cypress Christian School
REFRESH-INTERVAL;VALUE=DURATION:PT1H
X-Robots-Tag:noindex
X-PUBLISHED-TTL:PT1H
BEGIN:VTIMEZONE
TZID:America/Chicago
BEGIN:DAYLIGHT
TZOFFSETFROM:-0600
TZOFFSETTO:-0500
TZNAME:CDT
DTSTART:20220313T080000
END:DAYLIGHT
BEGIN:STANDARD
TZOFFSETFROM:-0500
TZOFFSETTO:-0600
TZNAME:CST
DTSTART:20221106T070000
END:STANDARD
BEGIN:DAYLIGHT
TZOFFSETFROM:-0600
TZOFFSETTO:-0500
TZNAME:CDT
DTSTART:20230312T080000
END:DAYLIGHT
BEGIN:STANDARD
TZOFFSETFROM:-0500
TZOFFSETTO:-0600
TZNAME:CST
DTSTART:20231105T070000
END:STANDARD
BEGIN:DAYLIGHT
TZOFFSETFROM:-0600
TZOFFSETTO:-0500
TZNAME:CDT
DTSTART:20240310T080000
END:DAYLIGHT
BEGIN:STANDARD
TZOFFSETFROM:-0500
TZOFFSETTO:-0600
TZNAME:CST
DTSTART:20241103T070000
END:STANDARD
END:VTIMEZONE
BEGIN:VEVENT
DTSTART;TZID=America/Chicago:20231006T193000
DTEND;TZID=America/Chicago:20231006T220000
DTSTAMP:20260420T202956
CREATED:20230623T161411Z
LAST-MODIFIED:20240109T182210Z
UID:10000182-1696620600-1696629600@www.cypresschristian.org
SUMMARY:Football - Varsity  vs. Houston Christian High School (Home)
DESCRIPTION:
URL:https://www.cypresschristian.org/event/football-varsity-vs-houston-christian-high-school-home/
LOCATION:The Stadium at Cypress Christian School\, 21455 Bridgeland Creek Pkwy\, Cypress\, TX\, 77433\, United States
CATEGORIES:Athletics
GEO:29.9520346;-95.5875756
X-APPLE-STRUCTURED-LOCATION;VALUE=URI;X-ADDRESS=The Stadium at Cypress Christian School 21455 Bridgeland Creek Pkwy Cypress TX 77433 United States;X-APPLE-RADIUS=500;X-TITLE=21455 Bridgeland Creek Pkwy:geo:-95.5875756,29.9520346
END:VEVENT
BEGIN:VEVENT
DTSTART;TZID=America/Chicago:20231020T193000
DTEND;TZID=America/Chicago:20231020T220000
DTSTAMP:20260420T202956
CREATED:20230623T161411Z
LAST-MODIFIED:20240109T182210Z
UID:10000183-1697830200-1697839200@www.cypresschristian.org
SUMMARY:Football - Varsity  - Legacy Preparatory -Homecoming (Home)
DESCRIPTION:
URL:https://www.cypresschristian.org/event/football-varsity-legacy-preparatory-homecoming-home/
LOCATION:The Stadium at Cypress Christian School\, 21455 Bridgeland Creek Pkwy\, Cypress\, TX\, 77433\, United States
CATEGORIES:Athletics
GEO:29.9520346;-95.5875756
X-APPLE-STRUCTURED-LOCATION;VALUE=URI;X-ADDRESS=The Stadium at Cypress Christian School 21455 Bridgeland Creek Pkwy Cypress TX 77433 United States;X-APPLE-RADIUS=500;X-TITLE=21455 Bridgeland Creek Pkwy:geo:-95.5875756,29.9520346
END:VEVENT
BEGIN:VEVENT
DTSTART;TZID=America/Chicago:20231027T190000
DTEND;TZID=America/Chicago:20231027T213000
DTSTAMP:20260420T202956
CREATED:20230623T161424Z
LAST-MODIFIED:20240109T182210Z
UID:10000184-1698433200-1698442200@www.cypresschristian.org
SUMMARY:Football - Varsity  vs. Austin Brentwood (Away)
DESCRIPTION:
URL:https://www.cypresschristian.org/event/football-varsity-vs-austin-brentwood-away/
CATEGORIES:Athletics
END:VEVENT
END:VCALENDAR