BEGIN:VCALENDAR
VERSION:2.0
PRODID:-//Cypress Christian School - ECPv6.15.19//NONSGML v1.0//EN
CALSCALE:GREGORIAN
METHOD:PUBLISH
X-ORIGINAL-URL:https://www.cypresschristian.org
X-WR-CALDESC:Events for Cypress Christian School
REFRESH-INTERVAL;VALUE=DURATION:PT1H
X-Robots-Tag:noindex
X-PUBLISHED-TTL:PT1H
BEGIN:VTIMEZONE
TZID:America/Chicago
BEGIN:DAYLIGHT
TZOFFSETFROM:-0600
TZOFFSETTO:-0500
TZNAME:CDT
DTSTART:20220313T080000
END:DAYLIGHT
BEGIN:STANDARD
TZOFFSETFROM:-0500
TZOFFSETTO:-0600
TZNAME:CST
DTSTART:20221106T070000
END:STANDARD
BEGIN:DAYLIGHT
TZOFFSETFROM:-0600
TZOFFSETTO:-0500
TZNAME:CDT
DTSTART:20230312T080000
END:DAYLIGHT
BEGIN:STANDARD
TZOFFSETFROM:-0500
TZOFFSETTO:-0600
TZNAME:CST
DTSTART:20231105T070000
END:STANDARD
BEGIN:DAYLIGHT
TZOFFSETFROM:-0600
TZOFFSETTO:-0500
TZNAME:CDT
DTSTART:20240310T080000
END:DAYLIGHT
BEGIN:STANDARD
TZOFFSETFROM:-0500
TZOFFSETTO:-0600
TZNAME:CST
DTSTART:20241103T070000
END:STANDARD
END:VTIMEZONE
BEGIN:VEVENT
DTSTART;TZID=America/Chicago:20230801T180000
DTEND;TZID=America/Chicago:20230801T190000
DTSTAMP:20260421T003646
CREATED:20230726T141050Z
LAST-MODIFIED:20230726T160556Z
UID:10000190-1690912800-1690916400@www.cypresschristian.org
SUMMARY:New Parent Orientation | Grades TK-5
DESCRIPTION:New parents are encouraged to attend the orientation to fully understand CCS and learn more about what it means to be a Warrior. Parents will meet with admissions\, their student’s principal and the Executive Director. This event is for parents only.
URL:https://www.cypresschristian.org/event/new-parent-orientation-grades-tk-5/
LOCATION:East Gym\, 11123 Cypress North Houston Rd.\, Houston\, TX\, 77065\, United States
CATEGORIES:Academic,Admissions
GEO:29.9520346;-95.5875756
X-APPLE-STRUCTURED-LOCATION;VALUE=URI;X-ADDRESS=East Gym 11123 Cypress North Houston Rd. Houston TX 77065 United States;X-APPLE-RADIUS=500;X-TITLE=11123 Cypress North Houston Rd.:geo:-95.5875756,29.9520346
END:VEVENT
BEGIN:VEVENT
DTSTART;TZID=America/Chicago:20230812T140000
DTEND;TZID=America/Chicago:20230812T163000
DTSTAMP:20260421T003646
CREATED:20230623T161408Z
LAST-MODIFIED:20240409T140930Z
UID:10000174-1691848800-1691857800@www.cypresschristian.org
SUMMARY:Football - Varsity  - The Woodlands Christian Academy -Scrimmage (Home)
DESCRIPTION:Test
URL:https://www.cypresschristian.org/event/football-varsity-the-woodlands-christian-academy-scrimmage-home/
LOCATION:The Stadium at Cypress Christian School\, 21455 Bridgeland Creek Pkwy\, Cypress\, TX\, 77433\, United States
CATEGORIES:Athletics
GEO:29.9520346;-95.5875756
X-APPLE-STRUCTURED-LOCATION;VALUE=URI;X-ADDRESS=The Stadium at Cypress Christian School 21455 Bridgeland Creek Pkwy Cypress TX 77433 United States;X-APPLE-RADIUS=500;X-TITLE=21455 Bridgeland Creek Pkwy:geo:-95.5875756,29.9520346
END:VEVENT
BEGIN:VEVENT
DTSTART;TZID=America/Chicago:20230817T220000
DTEND;TZID=America/Chicago:20230818T003000
DTSTAMP:20260421T003646
CREATED:20230623T161409Z
LAST-MODIFIED:20231220T191340Z
UID:10000175-1692309600-1692318600@www.cypresschristian.org
SUMMARY:Football - Varsity - Kelly Catholic High School - Scrimmage (Away)
DESCRIPTION:
URL:https://www.cypresschristian.org/event/football-varsity-kelly-catholic-high-school-scrimmage-away/
LOCATION:Monsignor Kelly Catholic High School\, 5950 Kelly Drive\, Beaumont\, TX\, 77707\, United States
CATEGORIES:Athletics
GEO:30.0615979;-94.1592746
X-APPLE-STRUCTURED-LOCATION;VALUE=URI;X-ADDRESS=Monsignor Kelly Catholic High School 5950 Kelly Drive Beaumont TX 77707 United States;X-APPLE-RADIUS=500;X-TITLE=5950 Kelly Drive:geo:-94.1592746,30.0615979
END:VEVENT
BEGIN:VEVENT
DTSTART;TZID=America/Chicago:20230825T193000
DTEND;TZID=America/Chicago:20230825T220000
DTSTAMP:20260421T003646
CREATED:20230623T161409Z
LAST-MODIFIED:20231220T191340Z
UID:10000176-1692991800-1693000800@www.cypresschristian.org
SUMMARY:Football - Varsity  - Paradise High School (Away)
DESCRIPTION:
URL:https://www.cypresschristian.org/event/football-varsity-paradise-high-school-away/
CATEGORIES:Athletics
END:VEVENT
END:VCALENDAR