BEGIN:VCALENDAR
VERSION:2.0
PRODID:-//Cypress Christian School - ECPv6.15.19//NONSGML v1.0//EN
CALSCALE:GREGORIAN
METHOD:PUBLISH
X-WR-CALNAME:Cypress Christian School
X-ORIGINAL-URL:https://www.cypresschristian.org
X-WR-CALDESC:Events for Cypress Christian School
REFRESH-INTERVAL;VALUE=DURATION:PT1H
X-Robots-Tag:noindex
X-PUBLISHED-TTL:PT1H
BEGIN:VTIMEZONE
TZID:America/Chicago
BEGIN:DAYLIGHT
TZOFFSETFROM:-0600
TZOFFSETTO:-0500
TZNAME:CDT
DTSTART:20250309T080000
END:DAYLIGHT
BEGIN:STANDARD
TZOFFSETFROM:-0500
TZOFFSETTO:-0600
TZNAME:CST
DTSTART:20251102T070000
END:STANDARD
BEGIN:DAYLIGHT
TZOFFSETFROM:-0600
TZOFFSETTO:-0500
TZNAME:CDT
DTSTART:20260308T080000
END:DAYLIGHT
BEGIN:STANDARD
TZOFFSETFROM:-0500
TZOFFSETTO:-0600
TZNAME:CST
DTSTART:20261101T070000
END:STANDARD
BEGIN:DAYLIGHT
TZOFFSETFROM:-0600
TZOFFSETTO:-0500
TZNAME:CDT
DTSTART:20270314T080000
END:DAYLIGHT
BEGIN:STANDARD
TZOFFSETFROM:-0500
TZOFFSETTO:-0600
TZNAME:CST
DTSTART:20271107T070000
END:STANDARD
END:VTIMEZONE
BEGIN:VEVENT
DTSTART;VALUE=DATE:20260420
DTEND;VALUE=DATE:20260425
DTSTAMP:20260421T020628
CREATED:20250327T171248Z
LAST-MODIFIED:20250327T171248Z
UID:10001506-1776643200-1777075199@www.cypresschristian.org
SUMMARY:Standardized Testing
DESCRIPTION:
URL:https://www.cypresschristian.org/event/standardized-testing/
END:VEVENT
BEGIN:VEVENT
DTSTART;TZID=America/Chicago:20260421T081500
DTEND;TZID=America/Chicago:20260421T091500
DTSTAMP:20260421T020628
CREATED:20251118T213127Z
LAST-MODIFIED:20251118T213127Z
UID:10001767-1776759300-1776762900@www.cypresschristian.org
SUMMARY:Warrior Mission Tour
DESCRIPTION:The Warrior Mission Tour is an inspiring one-hour tour of the mission of Cypress Christian School.  While you will walk through our campus\, it is the heart of what we do that we want to share with you. Whether you have been involved with CCS for years or just heard about us\, you will want to attend a Warrior Mission Tour. In just one hour\, you will be encouraged through the stories of changed lives that are just a small sample of what happens every day at Cypress Christian School. \nRegister Here
URL:https://www.cypresschristian.org/event/warrior-mission-tour-7/2026-04-21/
CATEGORIES:Admissions,Advancement
END:VEVENT
BEGIN:VEVENT
DTSTART;TZID=America/Chicago:20260421T160000
DTEND;TZID=America/Chicago:20260421T180000
DTSTAMP:20260421T020628
CREATED:20260210T164128Z
LAST-MODIFIED:20260210T164128Z
UID:10002089-1776787200-1776794400@www.cypresschristian.org
SUMMARY:Baseball - Junior Varsity @ Monsignor Kelly Catholic High School
DESCRIPTION:
URL:https://www.cypresschristian.org/event/baseball-junior-varsity-monsignor-kelly-catholic-high-school-3/
LOCATION:Monsignor Kelly Catholic High School\, 5950 Kelly Drive\, Beaumont\, TX\, 77707\, United States
CATEGORIES:Athletics
GEO:30.0615979;-94.1592746
X-APPLE-STRUCTURED-LOCATION;VALUE=URI;X-ADDRESS=Monsignor Kelly Catholic High School 5950 Kelly Drive Beaumont TX 77707 United States;X-APPLE-RADIUS=500;X-TITLE=5950 Kelly Drive:geo:-94.1592746,30.0615979
END:VEVENT
BEGIN:VEVENT
DTSTART;TZID=America/Chicago:20260421T163000
DTEND;TZID=America/Chicago:20260421T183000
DTSTAMP:20260421T020628
CREATED:20260209T232155Z
LAST-MODIFIED:20260408T141836Z
UID:10002072-1776789000-1776796200@www.cypresschristian.org
SUMMARY:Softball - Varsity @ Frassati Catholic High School
DESCRIPTION:
URL:https://www.cypresschristian.org/event/softball-varsity-frassati-catholic-high-school-2/
LOCATION:Collins Park\, 6727 Cypress Wood Dr.\, Spring\, TX\, 77379\, United States
CATEGORIES:Athletics
GEO:30.0141694;-95.5074747
X-APPLE-STRUCTURED-LOCATION;VALUE=URI;X-ADDRESS=Collins Park 6727 Cypress Wood Dr. Spring TX 77379 United States;X-APPLE-RADIUS=500;X-TITLE=6727 Cypress Wood Dr.:geo:-95.5074747,30.0141694
END:VEVENT
BEGIN:VEVENT
DTSTART;TZID=America/Chicago:20260421T190000
DTEND;TZID=America/Chicago:20260421T210000
DTSTAMP:20260421T020628
CREATED:20260220T190858Z
LAST-MODIFIED:20260220T190858Z
UID:10002150-1776798000-1776805200@www.cypresschristian.org
SUMMARY:Baseball Varsity @ Monsignor Kelly Catholic High School
DESCRIPTION:
URL:https://www.cypresschristian.org/event/baseball-varsity-monsignor-kelly-catholic-high-school-2/
LOCATION:Monsignor Kelly Catholic High School\, 5950 Kelly Drive\, Beaumont\, TX\, 77707\, United States
CATEGORIES:Athletics
GEO:30.0615979;-94.1592746
X-APPLE-STRUCTURED-LOCATION;VALUE=URI;X-ADDRESS=Monsignor Kelly Catholic High School 5950 Kelly Drive Beaumont TX 77707 United States;X-APPLE-RADIUS=500;X-TITLE=5950 Kelly Drive:geo:-94.1592746,30.0615979
END:VEVENT
END:VCALENDAR